Back to Multiple platform build/check report for BioC 3.10 |
|
This page was generated on 2020-04-15 12:33:17 -0400 (Wed, 15 Apr 2020).
Package 1107/1823 | Hostname | OS / Arch | INSTALL | BUILD | CHECK | BUILD BIN | ||||||
MSstatsSampleSize 1.0.1 Ting Huang
| malbec1 | Linux (Ubuntu 18.04.4 LTS) / x86_64 | OK | OK | WARNINGS | ![]() | ||||||
tokay1 | Windows Server 2012 R2 Standard / x64 | [ OK ] | OK | WARNINGS | OK | ![]() | ||||||
merida1 | OS X 10.11.6 El Capitan / x86_64 | OK | OK | WARNINGS | OK | ![]() |
Package: MSstatsSampleSize |
Version: 1.0.1 |
Command: C:\cygwin\bin\curl.exe -O https://malbec1.bioconductor.org/BBS/3.10/bioc/src/contrib/MSstatsSampleSize_1.0.1.tar.gz && rm -rf MSstatsSampleSize.buildbin-libdir && mkdir MSstatsSampleSize.buildbin-libdir && C:\Users\biocbuild\bbs-3.10-bioc\R\bin\R.exe CMD INSTALL --merge-multiarch --build --library=MSstatsSampleSize.buildbin-libdir MSstatsSampleSize_1.0.1.tar.gz && C:\Users\biocbuild\bbs-3.10-bioc\R\bin\R.exe CMD INSTALL MSstatsSampleSize_1.0.1.zip && rm MSstatsSampleSize_1.0.1.tar.gz MSstatsSampleSize_1.0.1.zip |
StartedAt: 2020-04-14 20:27:33 -0400 (Tue, 14 Apr 2020) |
EndedAt: 2020-04-14 20:28:16 -0400 (Tue, 14 Apr 2020) |
EllapsedTime: 43.4 seconds |
RetCode: 0 |
Status: OK |
############################################################################## ############################################################################## ### ### Running command: ### ### C:\cygwin\bin\curl.exe -O https://malbec1.bioconductor.org/BBS/3.10/bioc/src/contrib/MSstatsSampleSize_1.0.1.tar.gz && rm -rf MSstatsSampleSize.buildbin-libdir && mkdir MSstatsSampleSize.buildbin-libdir && C:\Users\biocbuild\bbs-3.10-bioc\R\bin\R.exe CMD INSTALL --merge-multiarch --build --library=MSstatsSampleSize.buildbin-libdir MSstatsSampleSize_1.0.1.tar.gz && C:\Users\biocbuild\bbs-3.10-bioc\R\bin\R.exe CMD INSTALL MSstatsSampleSize_1.0.1.zip && rm MSstatsSampleSize_1.0.1.tar.gz MSstatsSampleSize_1.0.1.zip ### ############################################################################## ############################################################################## % Total % Received % Xferd Average Speed Time Time Time Current Dload Upload Total Spent Left Speed 0 0 0 0 0 0 0 0 --:--:-- --:--:-- --:--:-- 0 9 3280k 9 304k 0 0 5130k 0 --:--:-- --:--:-- --:--:-- 5428k 100 3280k 100 3280k 0 0 11.3M 0 --:--:-- --:--:-- --:--:-- 11.4M install for i386 * installing *source* package 'MSstatsSampleSize' ... ** using staged installation ** R ** data *** moving datasets to lazyload DB ** inst ** byte-compile and prepare package for lazy loading ** help *** installing help indices converting help for package 'MSstatsSampleSize' finding HTML links ... done MSstatsSampleSize html OV_SRM_train html OV_SRM_train_annotation html classification_results html designSampleSizeClassification html designSampleSizeClassificationPlots html designSampleSizeHypothesisTestingPlot html designSampleSizePCAplot html dot-classification html dot-classificationModel html dot-classificationPerformance html dot-logGeneration html dot-randomImputation html dot-sampleSimulation html estimateVar html meanSDplot html simulateDataset html simulated_datasets html variance_estimation html ** building package indices ** installing vignettes ** testing if installed package can be loaded from temporary location ** testing if installed package can be loaded from final location ** testing if installed package keeps a record of temporary installation path install for x64 * installing *source* package 'MSstatsSampleSize' ... ** testing if installed package can be loaded * MD5 sums packaged installation of 'MSstatsSampleSize' as MSstatsSampleSize_1.0.1.zip * DONE (MSstatsSampleSize) * installing to library 'C:/Users/biocbuild/bbs-3.10-bioc/R/library' package 'MSstatsSampleSize' successfully unpacked and MD5 sums checked