Back to Multiple platform build/check report for BioC 3.10 |
|
This page was generated on 2020-04-15 12:20:39 -0400 (Wed, 15 Apr 2020).
Package 1048/1823 | Hostname | OS / Arch | INSTALL | BUILD | CHECK | BUILD BIN | ||||||
MinimumDistance 1.30.0 Robert B Scharpf
| malbec1 | Linux (Ubuntu 18.04.4 LTS) / x86_64 | OK | OK | OK | |||||||
tokay1 | Windows Server 2012 R2 Standard / x64 | OK | OK | OK | [ OK ] | |||||||
merida1 | OS X 10.11.6 El Capitan / x86_64 | OK | OK | OK | OK |
Package: MinimumDistance |
Version: 1.30.0 |
Command: rm -rf MinimumDistance.buildbin-libdir && mkdir MinimumDistance.buildbin-libdir && C:\Users\biocbuild\bbs-3.10-bioc\R\bin\R.exe CMD INSTALL --merge-multiarch --build --library=MinimumDistance.buildbin-libdir MinimumDistance_1.30.0.tar.gz |
StartedAt: 2020-04-15 09:10:38 -0400 (Wed, 15 Apr 2020) |
EndedAt: 2020-04-15 09:12:09 -0400 (Wed, 15 Apr 2020) |
EllapsedTime: 90.5 seconds |
RetCode: 0 |
Status: OK |
PackageFile: MinimumDistance_1.30.0.zip |
PackageFileSize: 2.53 MiB |
############################################################################## ############################################################################## ### ### Running command: ### ### rm -rf MinimumDistance.buildbin-libdir && mkdir MinimumDistance.buildbin-libdir && C:\Users\biocbuild\bbs-3.10-bioc\R\bin\R.exe CMD INSTALL --merge-multiarch --build --library=MinimumDistance.buildbin-libdir MinimumDistance_1.30.0.tar.gz ### ############################################################################## ############################################################################## install for i386 * installing *source* package 'MinimumDistance' ... ** using staged installation ** R ** data ** inst ** byte-compile and prepare package for lazy loading Creating a new generic function for 'allNames' in package 'MinimumDistance' Creating a generic function for 'colMads' from package 'matrixStats' in package 'MinimumDistance' ** help *** installing help indices converting help for package 'MinimumDistance' finding HTML links ... done DNAcopyParam html Defunct html Deprecated html FilterParamMD-class html FilterParamMD html MAP html MAP2 html MDRanges-class html MinDistExperiment-class html MinDistExperiment html MinDistGRanges-class html MinDistGRanges html MinDistParam-class html MinDistParam html MinDistPosterior-class html MinimumDistance html ParentOffspring-class html ParentOffspringList-class html Pedigree-class html Pedigree html PennParam html TrioSet-class html TrioSet html TrioSetList-class html TrioSetList html TrioSetListLD html acf2 html calculateMindist html coercion-methods html denovo html exampleTrioSetList html filterExperiment html mad2 html mdLegend html md_exp html md_gr html mindist html nMAD html pedigreeGrid html pedigreeName html pedigreeViewports html plotDenovo html range-ILimit-method html segment2 html finding level-2 HTML links ... done ** building package indices ** installing vignettes ** testing if installed package can be loaded from temporary location ** testing if installed package can be loaded from final location ** testing if installed package keeps a record of temporary installation path install for x64 * installing *source* package 'MinimumDistance' ... ** testing if installed package can be loaded * MD5 sums packaged installation of 'MinimumDistance' as MinimumDistance_1.30.0.zip * DONE (MinimumDistance)