Back to Multiple platform build/check report for BioC 3.10 |
|
This page was generated on 2020-04-15 12:27:27 -0400 (Wed, 15 Apr 2020).
Package 1081/1823 | Hostname | OS / Arch | INSTALL | BUILD | CHECK | BUILD BIN | ||||||
MoonlightR 1.12.0 Antonio Colaprico
| malbec1 | Linux (Ubuntu 18.04.4 LTS) / x86_64 | ERROR | ERROR | skipped | |||||||
tokay1 | Windows Server 2012 R2 Standard / x64 | ERROR | [ ERROR ] | skipped | skipped | |||||||
merida1 | OS X 10.11.6 El Capitan / x86_64 | ERROR | ERROR | skipped | skipped |
Package: MoonlightR |
Version: 1.12.0 |
Command: chmod a+r MoonlightR -R && C:\Users\biocbuild\bbs-3.10-bioc\R\bin\R.exe CMD build --keep-empty-dirs --no-resave-data MoonlightR |
StartedAt: 2020-04-14 23:29:22 -0400 (Tue, 14 Apr 2020) |
EndedAt: 2020-04-14 23:29:41 -0400 (Tue, 14 Apr 2020) |
EllapsedTime: 19.5 seconds |
RetCode: 1 |
Status: ERROR |
PackageFile: MoonlightR_1.12.0.tar.gz |
PackageFileSize: 12.37 MiB |
############################################################################## ############################################################################## ### ### Running command: ### ### chmod a+r MoonlightR -R && C:\Users\biocbuild\bbs-3.10-bioc\R\bin\R.exe CMD build --keep-empty-dirs --no-resave-data MoonlightR ### ############################################################################## ############################################################################## * checking for file 'MoonlightR/DESCRIPTION' ... OK * preparing 'MoonlightR': * checking DESCRIPTION meta-information ... OK * installing the package to build vignettes ----------------------------------- * installing *source* package 'MoonlightR' ... ** using staged installation ** R ** data *** moving datasets to lazyload DB ** inst ** byte-compile and prepare package for lazy loading Error: object 'TCGAanalyze_DMR' is not exported by 'namespace:TCGAbiolinks' Execution halted ERROR: lazy loading failed for package 'MoonlightR' * removing 'C:/Users/biocbuild/bbs-3.10-bioc/tmpdir/Rtmp2Fc3XW/Rinst205837406f11/MoonlightR' ----------------------------------- ERROR: package installation failed