Back to Multiple platform build/check report for BioC 3.10 |
|
This page was generated on 2020-04-15 12:20:54 -0400 (Wed, 15 Apr 2020).
Package 1087/1823 | Hostname | OS / Arch | INSTALL | BUILD | CHECK | BUILD BIN | ||||||
MotifDb 1.28.0 Paul Shannon
| malbec1 | Linux (Ubuntu 18.04.4 LTS) / x86_64 | OK | OK | OK | ![]() | ||||||
tokay1 | Windows Server 2012 R2 Standard / x64 | OK | OK | OK | [ OK ] | ![]() | ||||||
merida1 | OS X 10.11.6 El Capitan / x86_64 | OK | OK | OK | OK | ![]() |
Package: MotifDb |
Version: 1.28.0 |
Command: rm -rf MotifDb.buildbin-libdir && mkdir MotifDb.buildbin-libdir && C:\Users\biocbuild\bbs-3.10-bioc\R\bin\R.exe CMD INSTALL --merge-multiarch --build --library=MotifDb.buildbin-libdir MotifDb_1.28.0.tar.gz |
StartedAt: 2020-04-15 09:12:50 -0400 (Wed, 15 Apr 2020) |
EndedAt: 2020-04-15 09:14:10 -0400 (Wed, 15 Apr 2020) |
EllapsedTime: 79.9 seconds |
RetCode: 0 |
Status: OK |
PackageFile: MotifDb_1.28.0.zip |
PackageFileSize: 3.517 MiB |
############################################################################## ############################################################################## ### ### Running command: ### ### rm -rf MotifDb.buildbin-libdir && mkdir MotifDb.buildbin-libdir && C:\Users\biocbuild\bbs-3.10-bioc\R\bin\R.exe CMD INSTALL --merge-multiarch --build --library=MotifDb.buildbin-libdir MotifDb_1.28.0.tar.gz ### ############################################################################## ############################################################################## install for i386 * installing *source* package 'MotifDb' ... ** using staged installation ** R ** inst ** byte-compile and prepare package for lazy loading ** help *** installing help indices converting help for package 'MotifDb' finding HTML links ... done MotifDb html MotifList-class html associateTranscriptionFactors html export html geneToMotif html motifToGene html query html subset html ** building package indices ** installing vignettes ** testing if installed package can be loaded from temporary location See system.file("LICENSE", package="MotifDb") for use restrictions. ** testing if installed package can be loaded from final location See system.file("LICENSE", package="MotifDb") for use restrictions. ** testing if installed package keeps a record of temporary installation path install for x64 * installing *source* package 'MotifDb' ... ** testing if installed package can be loaded See system.file("LICENSE", package="MotifDb") for use restrictions. * MD5 sums packaged installation of 'MotifDb' as MotifDb_1.28.0.zip * DONE (MotifDb)