Back to Multiple platform build/check report for BioC 3.10 |
|
This page was generated on 2020-04-15 12:06:49 -0400 (Wed, 15 Apr 2020).
Package 1133/1823 | Hostname | OS / Arch | INSTALL | BUILD | CHECK | BUILD BIN | ||||||
NarrowPeaks 1.30.0 Pedro Madrigal
| malbec1 | Linux (Ubuntu 18.04.4 LTS) / x86_64 | [ OK ] | OK | OK | ![]() | ||||||
tokay1 | Windows Server 2012 R2 Standard / x64 | OK | OK | OK | OK | ![]() | ||||||
merida1 | OS X 10.11.6 El Capitan / x86_64 | OK | OK | WARNINGS | OK | ![]() |
Package: NarrowPeaks |
Version: 1.30.0 |
Command: /home/biocbuild/bbs-3.10-bioc/R/bin/R CMD INSTALL NarrowPeaks |
StartedAt: 2020-04-14 18:27:25 -0400 (Tue, 14 Apr 2020) |
EndedAt: 2020-04-14 18:27:38 -0400 (Tue, 14 Apr 2020) |
EllapsedTime: 13.1 seconds |
RetCode: 0 |
Status: OK |
############################################################################## ############################################################################## ### ### Running command: ### ### /home/biocbuild/bbs-3.10-bioc/R/bin/R CMD INSTALL NarrowPeaks ### ############################################################################## ############################################################################## * installing to library ‘/home/biocbuild/bbs-3.10-bioc/R/library’ * installing *source* package ‘NarrowPeaks’ ... ** using staged installation ** libs gcc -I"/home/biocbuild/bbs-3.10-bioc/R/include" -DNDEBUG -I/usr/local/include -fpic -g -O2 -Wall -c wig2CSARScore.c -o wig2CSARScore.o gcc -I"/home/biocbuild/bbs-3.10-bioc/R/include" -DNDEBUG -I/usr/local/include -fpic -g -O2 -Wall -c wig2CSARScore_R_wrapper.c -o wig2CSARScore_R_wrapper.o gcc -shared -L/home/biocbuild/bbs-3.10-bioc/R/lib -L/usr/local/lib -o NarrowPeaks.so wig2CSARScore.o wig2CSARScore_R_wrapper.o -L/home/biocbuild/bbs-3.10-bioc/R/lib -lR installing to /home/biocbuild/bbs-3.10-bioc/R/library/00LOCK-NarrowPeaks/00new/NarrowPeaks/libs ** R ** data ** inst ** byte-compile and prepare package for lazy loading ** help *** installing help indices ** building package indices ** installing vignettes ** testing if installed package can be loaded from temporary location ** checking absolute paths in shared objects and dynamic libraries ** testing if installed package can be loaded from final location ** testing if installed package keeps a record of temporary installation path * DONE (NarrowPeaks)