Back to Multiple platform build/check report for BioC 3.10 |
|
This page was generated on 2020-04-15 12:14:29 -0400 (Wed, 15 Apr 2020).
Package 1207/1823 | Hostname | OS / Arch | INSTALL | BUILD | CHECK | BUILD BIN | ||||||
OUTRIDER 1.4.2 Christian Mertes
| malbec1 | Linux (Ubuntu 18.04.4 LTS) / x86_64 | OK | OK | [ OK ] | ![]() | ||||||
tokay1 | Windows Server 2012 R2 Standard / x64 | OK | OK | OK | OK | ![]() | ||||||
merida1 | OS X 10.11.6 El Capitan / x86_64 | OK | OK | OK | OK | ![]() |
Package: OUTRIDER |
Version: 1.4.2 |
Command: /home/biocbuild/bbs-3.10-bioc/R/bin/R CMD check --install=check:OUTRIDER.install-out.txt --library=/home/biocbuild/bbs-3.10-bioc/R/library --no-vignettes --timings OUTRIDER_1.4.2.tar.gz |
StartedAt: 2020-04-15 05:53:02 -0400 (Wed, 15 Apr 2020) |
EndedAt: 2020-04-15 06:02:15 -0400 (Wed, 15 Apr 2020) |
EllapsedTime: 552.9 seconds |
RetCode: 0 |
Status: OK |
CheckDir: OUTRIDER.Rcheck |
Warnings: 0 |
############################################################################## ############################################################################## ### ### Running command: ### ### /home/biocbuild/bbs-3.10-bioc/R/bin/R CMD check --install=check:OUTRIDER.install-out.txt --library=/home/biocbuild/bbs-3.10-bioc/R/library --no-vignettes --timings OUTRIDER_1.4.2.tar.gz ### ############################################################################## ############################################################################## * using log directory ‘/home/biocbuild/bbs-3.10-bioc/meat/OUTRIDER.Rcheck’ * using R version 3.6.3 (2020-02-29) * using platform: x86_64-pc-linux-gnu (64-bit) * using session charset: UTF-8 * using option ‘--no-vignettes’ * checking for file ‘OUTRIDER/DESCRIPTION’ ... OK * checking extension type ... Package * this is package ‘OUTRIDER’ version ‘1.4.2’ * package encoding: UTF-8 * checking package namespace information ... OK * checking package dependencies ... OK * checking if this is a source package ... OK * checking if there is a namespace ... OK * checking for hidden files and directories ... OK * checking for portable file names ... OK * checking for sufficient/correct file permissions ... OK * checking whether package ‘OUTRIDER’ can be installed ... OK * checking installed package size ... OK * checking package directory ... OK * checking ‘build’ directory ... OK * checking DESCRIPTION meta-information ... OK * checking top-level files ... OK * checking for left-over files ... OK * checking index information ... OK * checking package subdirectories ... OK * checking R files for non-ASCII characters ... OK * checking R files for syntax errors ... OK * checking whether the package can be loaded ... OK * checking whether the package can be loaded with stated dependencies ... OK * checking whether the package can be unloaded cleanly ... OK * checking whether the namespace can be loaded with stated dependencies ... OK * checking whether the namespace can be unloaded cleanly ... OK * checking dependencies in R code ... OK * checking S3 generic/method consistency ... OK * checking replacement functions ... OK * checking foreign function calls ... OK * checking R code for possible problems ... NOTE plotAberrantPerSample: no visible binding for global variable ‘y’ plotAberrantPerSample: no visible binding for global variable ‘fill’ plotSizeFactors: no visible binding for global variable ‘sizeFactor’ Undefined global functions or variables: fill sizeFactor y * checking Rd files ... OK * checking Rd metadata ... OK * checking Rd cross-references ... OK * checking for missing documentation entries ... OK * checking for code/documentation mismatches ... OK * checking Rd \usage sections ... OK * checking Rd contents ... OK * checking for unstated dependencies in examples ... OK * checking line endings in C/C++/Fortran sources/headers ... OK * checking line endings in Makefiles ... OK * checking compilation flags in Makevars ... OK * checking for GNU extensions in Makefiles ... OK * checking for portable use of $(BLAS_LIBS) and $(LAPACK_LIBS) ... OK * checking compiled code ... NOTE Note: information on .o files is not available * checking files in ‘vignettes’ ... OK * checking examples ... OK Examples with CPU or elapsed time > 5s user system elapsed findEncodingDim 33.168 0.060 32.545 plotFunctions 18.720 0.084 15.772 OUTRIDER 10.096 0.968 10.494 getter_setter_functions 6.356 0.004 6.391 results 6.184 0.000 5.809 * checking for unstated dependencies in ‘tests’ ... OK * checking tests ... Running ‘testthat.R’ OK * checking for unstated dependencies in vignettes ... OK * checking package vignettes in ‘inst/doc’ ... OK * checking running R code from vignettes ... SKIPPED * checking re-building of vignette outputs ... SKIPPED * checking PDF version of manual ... OK * DONE Status: 2 NOTEs See ‘/home/biocbuild/bbs-3.10-bioc/meat/OUTRIDER.Rcheck/00check.log’ for details.
OUTRIDER.Rcheck/00install.out
############################################################################## ############################################################################## ### ### Running command: ### ### /home/biocbuild/bbs-3.10-bioc/R/bin/R CMD INSTALL OUTRIDER ### ############################################################################## ############################################################################## * installing to library ‘/home/biocbuild/bbs-3.10-bioc/R/library’ * installing *source* package ‘OUTRIDER’ ... ** using staged installation ** libs g++ -std=gnu++11 -I"/home/biocbuild/bbs-3.10-bioc/R/include" -DNDEBUG -I"/home/biocbuild/bbs-3.10-bioc/R/library/Rcpp/include" -I"/home/biocbuild/bbs-3.10-bioc/R/library/RcppArmadillo/include" -I/usr/local/include -fopenmp -DARMA_DONT_USE_OPENMP -fpic -g -O2 -Wall -c RcppExports.cpp -o RcppExports.o g++ -std=gnu++11 -I"/home/biocbuild/bbs-3.10-bioc/R/include" -DNDEBUG -I"/home/biocbuild/bbs-3.10-bioc/R/library/Rcpp/include" -I"/home/biocbuild/bbs-3.10-bioc/R/library/RcppArmadillo/include" -I/usr/local/include -fopenmp -DARMA_DONT_USE_OPENMP -fpic -g -O2 -Wall -c loss_n_gradient_functions.cpp -o loss_n_gradient_functions.o g++ -std=gnu++11 -shared -L/home/biocbuild/bbs-3.10-bioc/R/lib -L/usr/local/lib -o OUTRIDER.so RcppExports.o loss_n_gradient_functions.o -fopenmp -L/home/biocbuild/bbs-3.10-bioc/R/lib -lRlapack -L/home/biocbuild/bbs-3.10-bioc/R/lib -lRblas -lgfortran -lm -lquadmath -L/home/biocbuild/bbs-3.10-bioc/R/lib -lR installing to /home/biocbuild/bbs-3.10-bioc/R/library/00LOCK-OUTRIDER/00new/OUTRIDER/libs ** R ** inst ** byte-compile and prepare package for lazy loading ** help *** installing help indices ** building package indices ** installing vignettes ** testing if installed package can be loaded from temporary location ** checking absolute paths in shared objects and dynamic libraries ** testing if installed package can be loaded from final location ** testing if installed package keeps a record of temporary installation path * DONE (OUTRIDER)
OUTRIDER.Rcheck/tests/testthat.Rout
R version 3.6.3 (2020-02-29) -- "Holding the Windsock" Copyright (C) 2020 The R Foundation for Statistical Computing Platform: x86_64-pc-linux-gnu (64-bit) R is free software and comes with ABSOLUTELY NO WARRANTY. You are welcome to redistribute it under certain conditions. Type 'license()' or 'licence()' for distribution details. R is a collaborative project with many contributors. Type 'contributors()' for more information and 'citation()' on how to cite R or R packages in publications. Type 'demo()' for some demos, 'help()' for on-line help, or 'help.start()' for an HTML browser interface to help. Type 'q()' to quit R. > library(testthat) > library(OUTRIDER) Loading required package: BiocParallel Loading required package: GenomicFeatures Loading required package: BiocGenerics Loading required package: parallel Attaching package: 'BiocGenerics' The following objects are masked from 'package:parallel': clusterApply, clusterApplyLB, clusterCall, clusterEvalQ, clusterExport, clusterMap, parApply, parCapply, parLapply, parLapplyLB, parRapply, parSapply, parSapplyLB The following objects are masked from 'package:stats': IQR, mad, sd, var, xtabs The following objects are masked from 'package:base': Filter, Find, Map, Position, Reduce, anyDuplicated, append, as.data.frame, basename, cbind, colnames, dirname, do.call, duplicated, eval, evalq, get, grep, grepl, intersect, is.unsorted, lapply, mapply, match, mget, order, paste, pmax, pmax.int, pmin, pmin.int, rank, rbind, rownames, sapply, setdiff, sort, table, tapply, union, unique, unsplit, which, which.max, which.min Loading required package: S4Vectors Loading required package: stats4 Attaching package: 'S4Vectors' The following object is masked from 'package:base': expand.grid Loading required package: IRanges Loading required package: GenomeInfoDb Loading required package: GenomicRanges Loading required package: AnnotationDbi Loading required package: Biobase Welcome to Bioconductor Vignettes contain introductory material; view with 'browseVignettes()'. To cite Bioconductor, see 'citation("Biobase")', and for packages 'citation("pkgname")'. Loading required package: SummarizedExperiment Loading required package: DelayedArray Loading required package: matrixStats Attaching package: 'matrixStats' The following objects are masked from 'package:Biobase': anyMissing, rowMedians Attaching package: 'DelayedArray' The following objects are masked from 'package:matrixStats': colMaxs, colMins, colRanges, rowMaxs, rowMins, rowRanges The following objects are masked from 'package:base': aperm, apply, rowsum Loading required package: data.table Attaching package: 'data.table' The following object is masked from 'package:SummarizedExperiment': shift The following object is masked from 'package:GenomicRanges': shift The following object is masked from 'package:IRanges': shift The following objects are masked from 'package:S4Vectors': first, second > > register(SerialParam()) > > test_check("OUTRIDER") [1] "Wed Apr 15 05:59:31 2020: Initial PCA loss: 6.02045268387233" [1] "Wed Apr 15 05:59:35 2020: Iteration: 1 loss: 4.24540792166828" [1] "Wed Apr 15 05:59:37 2020: Iteration: 2 loss: 4.15858108233062" [1] "Wed Apr 15 05:59:39 2020: Iteration: 3 loss: 4.10618294653217" [1] "Wed Apr 15 05:59:41 2020: Iteration: 4 loss: 4.08400206212799" [1] "Wed Apr 15 05:59:43 2020: Iteration: 5 loss: 4.07749361066221" [1] "Wed Apr 15 05:59:45 2020: Iteration: 6 loss: 4.07656408712887" Time difference of 12.30171 secs [1] "Wed Apr 15 05:59:45 2020: 6 Final nb-AE loss: 4.07656408712887" [1] "Wed Apr 15 05:59:51 2020: Initial PCA loss: 6.02045268387233" [1] "Wed Apr 15 05:59:56 2020: Iteration: 1 loss: 4.24540792166828" [1] "Wed Apr 15 05:59:58 2020: Iteration: 2 loss: 4.15858108233062" [1] "Wed Apr 15 06:00:01 2020: Iteration: 3 loss: 4.10618294653217" [1] "Wed Apr 15 06:00:03 2020: Iteration: 4 loss: 4.08400206212799" [1] "Wed Apr 15 06:00:06 2020: Iteration: 5 loss: 4.07749361066221" [1] "Wed Apr 15 06:00:08 2020: Iteration: 6 loss: 4.07656408712887" Time difference of 15.13201 secs [1] "Wed Apr 15 06:00:08 2020: 6 Final nb-AE loss: 4.07656408712887" class: OutriderDataSet class: RangedSummarizedExperiment dim: 100 50 metadata(1): version assays(1): counts rownames(100): ENSG00000223972.4 ENSG00000227232.4 ... ENSG00000107404.13 ENSG00000162576.12 rowData names(0): colnames(50): GTEX.UPK5.0426.SM.3GAEK GTEX.WFG7.2026.SM.3GIL7 ... GTEX.11UD2.2526.SM.5CVNU GTEX.13O61.1426.SM.5KM3D colData names(1): sampleID [1] "Wed Apr 15 06:00:39 2020: Initial PCA loss: 4.54039899086095" [1] "Wed Apr 15 06:00:42 2020: Iteration: 1 loss: 4.16836611140095" [1] "Wed Apr 15 06:00:44 2020: Iteration: 2 loss: 4.15286571801998" Time difference of 3.63726 secs [1] "Wed Apr 15 06:00:44 2020: 2 Final nb-AE loss: 4.15286571801998" [1] "Evaluation loss: 0.452820030637193 for q=3" [1] "Wed Apr 15 06:00:47 2020: Initial PCA loss: 4.51992267869704" [1] "Wed Apr 15 06:00:50 2020: Iteration: 1 loss: 4.10668837570814" [1] "Wed Apr 15 06:00:52 2020: Iteration: 2 loss: 4.08722094571292" Time difference of 3.879369 secs [1] "Wed Apr 15 06:00:52 2020: 2 Final nb-AE loss: 4.08722094571292" [1] "Evaluation loss: 0.421239122334626 for q=4" [1] "Wed Apr 15 06:00:55 2020: Initial PCA loss: 4.48869348030209" [1] "Wed Apr 15 06:00:58 2020: Iteration: 1 loss: 4.03544258922225" [1] "Wed Apr 15 06:01:00 2020: Iteration: 2 loss: 4.00857089973489" Time difference of 3.220929 secs [1] "Wed Apr 15 06:01:00 2020: 2 Final nb-AE loss: 4.00857089973489" [1] "Evaluation loss: 0.4104445889306 for q=5" [1] "Wed Apr 15 06:01:15 2020: Initial PCA loss: 6.46616282459584" [1] "Wed Apr 15 06:01:18 2020: Iteration: 1 loss: 4.8154263846794" [1] "Wed Apr 15 06:01:20 2020: Iteration: 2 loss: 4.79016305976782" Time difference of 3.941542 secs [1] "Wed Apr 15 06:01:20 2020: 2 Final nb-AE loss: 4.79016305976782" ══ testthat results ═══════════════════════════════════════════════════════════ [ OK: 102 | SKIPPED: 0 | WARNINGS: 32 | FAILED: 0 ] > > proc.time() user system elapsed 236.772 1.784 179.148
OUTRIDER.Rcheck/OUTRIDER-Ex.timings
name | user | system | elapsed | |
OUTRIDER | 10.096 | 0.968 | 10.494 | |
OutriderDataSet-class | 1.152 | 0.004 | 1.211 | |
aberrant | 4.064 | 0.600 | 4.080 | |
computeGeneLength | 2.404 | 0.024 | 2.465 | |
computeLatentSpace | 1.648 | 0.008 | 1.661 | |
computePvalues | 2.080 | 0.524 | 2.410 | |
computeZscores | 2.032 | 0.048 | 2.088 | |
controlForConfounders | 2.384 | 0.000 | 2.396 | |
counts | 1.228 | 0.000 | 1.231 | |
estimateBestQ | 0.684 | 0.000 | 0.689 | |
filterExpression | 2.520 | 0.012 | 2.476 | |
findEncodingDim | 33.168 | 0.060 | 32.545 | |
fit | 1.524 | 0.004 | 1.531 | |
fpkm | 1.220 | 0.000 | 1.219 | |
getter_setter_functions | 6.356 | 0.004 | 6.391 | |
makeExampleOutriderDataSet | 1.168 | 0.000 | 1.168 | |
normalizationFactors | 1.372 | 0.000 | 1.371 | |
plotFunctions | 18.720 | 0.084 | 15.772 | |
results | 6.184 | 0.000 | 5.809 | |
sampleExclusionMask | 0.676 | 0.000 | 0.675 | |
sizeFactors | 1.104 | 0.000 | 1.107 | |