Back to Multiple platform build/check report for BioC 3.10 |
|
This page was generated on 2020-04-15 12:33:24 -0400 (Wed, 15 Apr 2020).
Package 1184/1823 | Hostname | OS / Arch | INSTALL | BUILD | CHECK | BUILD BIN | ||||||
OmnipathR 1.0.1 Alberto Valdeolivas Urbelz
| malbec1 | Linux (Ubuntu 18.04.4 LTS) / x86_64 | OK | OK | OK | ![]() | ||||||
tokay1 | Windows Server 2012 R2 Standard / x64 | OK | OK | ERROR | [ OK ] | |||||||
merida1 | OS X 10.11.6 El Capitan / x86_64 | OK | OK | OK | OK | ![]() |
Package: OmnipathR |
Version: 1.0.1 |
Command: rm -rf OmnipathR.buildbin-libdir && mkdir OmnipathR.buildbin-libdir && C:\Users\biocbuild\bbs-3.10-bioc\R\bin\R.exe CMD INSTALL --merge-multiarch --build --library=OmnipathR.buildbin-libdir OmnipathR_1.0.1.tar.gz |
StartedAt: 2020-04-15 09:18:20 -0400 (Wed, 15 Apr 2020) |
EndedAt: 2020-04-15 09:18:56 -0400 (Wed, 15 Apr 2020) |
EllapsedTime: 36.1 seconds |
RetCode: 0 |
Status: OK |
PackageFile: OmnipathR_1.0.1.zip |
PackageFileSize: 409.7 KiB |
############################################################################## ############################################################################## ### ### Running command: ### ### rm -rf OmnipathR.buildbin-libdir && mkdir OmnipathR.buildbin-libdir && C:\Users\biocbuild\bbs-3.10-bioc\R\bin\R.exe CMD INSTALL --merge-multiarch --build --library=OmnipathR.buildbin-libdir OmnipathR_1.0.1.tar.gz ### ############################################################################## ############################################################################## install for i386 * installing *source* package 'OmnipathR' ... ** using staged installation ** R ** inst ** byte-compile and prepare package for lazy loading ** help *** installing help indices converting help for package 'OmnipathR' finding HTML links ... done OmnipathR html get_annotation_databases html get_complex_genes html get_complexes_databases html get_interaction_databases html get_intercell_categories html get_ptms_databases html get_signed_ptms html import_AllInteractions html import_KinaseExtra_Interactions html import_LigrecExtra_Interactions html import_Omnipath_Interactions html import_Omnipath_PTMS html import_Omnipath_annotations html import_Omnipath_complexes html import_Omnipath_intercell html import_PathwayExtra_Interactions html import_TFregulons_Interactions html import_miRNAtarget_Interactions html interaction_graph html printPath_es html printPath_vs html print_interactions html ptms_graph html ** building package indices ** installing vignettes ** testing if installed package can be loaded from temporary location ** testing if installed package can be loaded from final location ** testing if installed package keeps a record of temporary installation path install for x64 * installing *source* package 'OmnipathR' ... ** testing if installed package can be loaded * MD5 sums packaged installation of 'OmnipathR' as OmnipathR_1.0.1.zip * DONE (OmnipathR)