Back to Multiple platform build/check report for BioC 3.10 |
|
This page was generated on 2020-04-15 12:49:26 -0400 (Wed, 15 Apr 2020).
Package 1221/1823 | Hostname | OS / Arch | INSTALL | BUILD | CHECK | BUILD BIN | ||||||
PAST 1.2.8 Thrash Adam
| malbec1 | Linux (Ubuntu 18.04.4 LTS) / x86_64 | OK | OK | WARNINGS | ![]() | ||||||
tokay1 | Windows Server 2012 R2 Standard / x64 | OK | OK | WARNINGS | OK | ![]() | ||||||
merida1 | OS X 10.11.6 El Capitan / x86_64 | OK | OK | WARNINGS | [ OK ] | ![]() |
Package: PAST |
Version: 1.2.8 |
Command: rm -rf PAST.buildbin-libdir && mkdir PAST.buildbin-libdir && /Users/biocbuild/BBS/utils/build-universal.sh PAST_1.2.8.tar.gz /Library/Frameworks/R.framework/Versions/Current/Resources/bin/R PAST.buildbin-libdir |
StartedAt: 2020-04-15 08:17:14 -0400 (Wed, 15 Apr 2020) |
EndedAt: 2020-04-15 08:18:09 -0400 (Wed, 15 Apr 2020) |
EllapsedTime: 55.2 seconds |
RetCode: 0 |
Status: OK |
PackageFile: PAST_1.2.8.tgz |
PackageFileSize: 1006 KiB |
############################################################################## ############################################################################## ### ### Running command: ### ### rm -rf PAST.buildbin-libdir && mkdir PAST.buildbin-libdir && /Users/biocbuild/BBS/utils/build-universal.sh PAST_1.2.8.tar.gz /Library/Frameworks/R.framework/Versions/Current/Resources/bin/R PAST.buildbin-libdir ### ############################################################################## ############################################################################## >>>>>>> >>>>>>> INSTALLATION WITH 'R CMD INSTALL --preclean --no-multiarch --library=PAST.buildbin-libdir PAST_1.2.8.tar.gz' >>>>>>> * installing *source* package ‘PAST’ ... ** using staged installation ** R ** inst ** byte-compile and prepare package for lazy loading Warning: replacing previous import ‘S4Vectors::union’ by ‘dplyr::union’ when loading ‘PAST’ Warning: replacing previous import ‘S4Vectors::intersect’ by ‘dplyr::intersect’ when loading ‘PAST’ Warning: replacing previous import ‘S4Vectors::setdiff’ by ‘dplyr::setdiff’ when loading ‘PAST’ Warning: replacing previous import ‘S4Vectors::first’ by ‘dplyr::first’ when loading ‘PAST’ Warning: replacing previous import ‘S4Vectors::setequal’ by ‘dplyr::setequal’ when loading ‘PAST’ Warning: replacing previous import ‘S4Vectors::rename’ by ‘dplyr::rename’ when loading ‘PAST’ Warning: replacing previous import ‘S4Vectors::tail’ by ‘utils::tail’ when loading ‘PAST’ Warning: replacing previous import ‘S4Vectors::head’ by ‘utils::head’ when loading ‘PAST’ Warning: replacing previous import ‘S4Vectors::complete.cases’ by ‘stats::complete.cases’ when loading ‘PAST’ Warning: replacing previous import ‘S4Vectors::sd’ by ‘stats::sd’ when loading ‘PAST’ ** help *** installing help indices ** building package indices ** installing vignettes ** testing if installed package can be loaded from temporary location Warning: replacing previous import ‘S4Vectors::union’ by ‘dplyr::union’ when loading ‘PAST’ Warning: replacing previous import ‘S4Vectors::intersect’ by ‘dplyr::intersect’ when loading ‘PAST’ Warning: replacing previous import ‘S4Vectors::setdiff’ by ‘dplyr::setdiff’ when loading ‘PAST’ Warning: replacing previous import ‘S4Vectors::first’ by ‘dplyr::first’ when loading ‘PAST’ Warning: replacing previous import ‘S4Vectors::setequal’ by ‘dplyr::setequal’ when loading ‘PAST’ Warning: replacing previous import ‘S4Vectors::rename’ by ‘dplyr::rename’ when loading ‘PAST’ Warning: replacing previous import ‘S4Vectors::tail’ by ‘utils::tail’ when loading ‘PAST’ Warning: replacing previous import ‘S4Vectors::head’ by ‘utils::head’ when loading ‘PAST’ Warning: replacing previous import ‘S4Vectors::complete.cases’ by ‘stats::complete.cases’ when loading ‘PAST’ Warning: replacing previous import ‘S4Vectors::sd’ by ‘stats::sd’ when loading ‘PAST’ ** testing if installed package can be loaded from final location Warning: replacing previous import ‘S4Vectors::union’ by ‘dplyr::union’ when loading ‘PAST’ Warning: replacing previous import ‘S4Vectors::intersect’ by ‘dplyr::intersect’ when loading ‘PAST’ Warning: replacing previous import ‘S4Vectors::setdiff’ by ‘dplyr::setdiff’ when loading ‘PAST’ Warning: replacing previous import ‘S4Vectors::first’ by ‘dplyr::first’ when loading ‘PAST’ Warning: replacing previous import ‘S4Vectors::setequal’ by ‘dplyr::setequal’ when loading ‘PAST’ Warning: replacing previous import ‘S4Vectors::rename’ by ‘dplyr::rename’ when loading ‘PAST’ Warning: replacing previous import ‘S4Vectors::tail’ by ‘utils::tail’ when loading ‘PAST’ Warning: replacing previous import ‘S4Vectors::head’ by ‘utils::head’ when loading ‘PAST’ Warning: replacing previous import ‘S4Vectors::complete.cases’ by ‘stats::complete.cases’ when loading ‘PAST’ Warning: replacing previous import ‘S4Vectors::sd’ by ‘stats::sd’ when loading ‘PAST’ ** testing if installed package keeps a record of temporary installation path * DONE (PAST)