Back to Multiple platform build/check report for BioC 3.10 |
|
This page was generated on 2020-04-15 12:43:17 -0400 (Wed, 15 Apr 2020).
Package 1237/1823 | Hostname | OS / Arch | INSTALL | BUILD | CHECK | BUILD BIN | ||||||
PCAN 1.14.0 Matthew Page
| malbec1 | Linux (Ubuntu 18.04.4 LTS) / x86_64 | OK | OK | OK | ![]() | ||||||
tokay1 | Windows Server 2012 R2 Standard / x64 | OK | OK | OK | OK | ![]() | ||||||
merida1 | OS X 10.11.6 El Capitan / x86_64 | OK | OK | [ OK ] | OK | ![]() |
Package: PCAN |
Version: 1.14.0 |
Command: /Library/Frameworks/R.framework/Versions/Current/Resources/bin/R CMD check --install=check:PCAN.install-out.txt --library=/Library/Frameworks/R.framework/Versions/Current/Resources/library --no-vignettes --timings PCAN_1.14.0.tar.gz |
StartedAt: 2020-04-15 04:31:22 -0400 (Wed, 15 Apr 2020) |
EndedAt: 2020-04-15 04:36:41 -0400 (Wed, 15 Apr 2020) |
EllapsedTime: 318.7 seconds |
RetCode: 0 |
Status: OK |
CheckDir: PCAN.Rcheck |
Warnings: 0 |
############################################################################## ############################################################################## ### ### Running command: ### ### /Library/Frameworks/R.framework/Versions/Current/Resources/bin/R CMD check --install=check:PCAN.install-out.txt --library=/Library/Frameworks/R.framework/Versions/Current/Resources/library --no-vignettes --timings PCAN_1.14.0.tar.gz ### ############################################################################## ############################################################################## * using log directory ‘/Users/biocbuild/bbs-3.10-bioc/meat/PCAN.Rcheck’ * using R version 3.6.3 (2020-02-29) * using platform: x86_64-apple-darwin15.6.0 (64-bit) * using session charset: UTF-8 * using option ‘--no-vignettes’ * checking for file ‘PCAN/DESCRIPTION’ ... OK * this is package ‘PCAN’ version ‘1.14.0’ * checking package namespace information ... OK * checking package dependencies ... OK * checking if this is a source package ... OK * checking if there is a namespace ... OK * checking for hidden files and directories ... OK * checking for portable file names ... OK * checking for sufficient/correct file permissions ... OK * checking whether package ‘PCAN’ can be installed ... OK * checking installed package size ... OK * checking package directory ... OK * checking ‘build’ directory ... OK * checking DESCRIPTION meta-information ... OK * checking top-level files ... OK * checking for left-over files ... OK * checking index information ... OK * checking package subdirectories ... OK * checking R files for non-ASCII characters ... OK * checking R files for syntax errors ... OK * checking whether the package can be loaded ... OK * checking whether the package can be loaded with stated dependencies ... OK * checking whether the package can be unloaded cleanly ... OK * checking whether the namespace can be loaded with stated dependencies ... OK * checking whether the namespace can be unloaded cleanly ... OK * checking dependencies in R code ... OK * checking S3 generic/method consistency ... OK * checking replacement functions ... OK * checking foreign function calls ... OK * checking R code for possible problems ... OK * checking Rd files ... OK * checking Rd metadata ... OK * checking Rd cross-references ... OK * checking for missing documentation entries ... OK * checking for code/documentation mismatches ... OK * checking Rd \usage sections ... OK * checking Rd contents ... OK * checking for unstated dependencies in examples ... OK * checking contents of ‘data’ directory ... OK * checking data for non-ASCII characters ... OK * checking data for ASCII and uncompressed saves ... OK * checking files in ‘vignettes’ ... OK * checking examples ... OK Examples with CPU or elapsed time > 5s user system elapsed hpGeneHeatmap 72.159 10.042 82.934 hpGeneListComp 71.010 10.018 81.660 compareHPSets 70.148 9.836 80.656 * checking for unstated dependencies in vignettes ... OK * checking package vignettes in ‘inst/doc’ ... OK * checking running R code from vignettes ... SKIPPED * checking re-building of vignette outputs ... SKIPPED * checking PDF version of manual ... OK * DONE Status: OK
PCAN.Rcheck/00install.out
############################################################################## ############################################################################## ### ### Running command: ### ### /Library/Frameworks/R.framework/Versions/Current/Resources/bin/R CMD INSTALL PCAN ### ############################################################################## ############################################################################## * installing to library ‘/Library/Frameworks/R.framework/Versions/3.6/Resources/library’ * installing *source* package ‘PCAN’ ... ** using staged installation ** R ** data ** inst ** byte-compile and prepare package for lazy loading ** help *** installing help indices ** building package indices ** installing vignettes ** testing if installed package can be loaded from temporary location ** testing if installed package can be loaded from final location ** testing if installed package keeps a record of temporary installation path * DONE (PCAN)
PCAN.Rcheck/PCAN-Ex.timings
name | user | system | elapsed | |
calcHpSim | 2.417 | 0.225 | 2.657 | |
compareHPSets | 70.148 | 9.836 | 80.656 | |
computeHpIC | 2.228 | 0.139 | 2.384 | |
geneByHp | 2.313 | 0.123 | 2.458 | |
geneByTrait | 0.053 | 0.007 | 0.059 | |
geneDef | 3.495 | 0.230 | 3.749 | |
hpByTrait | 3.617 | 0.240 | 3.897 | |
hpDef | 2.304 | 0.158 | 2.473 | |
hpGeneHeatmap | 72.159 | 10.042 | 82.934 | |
hpGeneListComp | 71.010 | 10.018 | 81.660 | |
hpSetCompBestMatch | 3.733 | 0.260 | 4.074 | |
hpSetCompSummary | 3.634 | 0.218 | 3.914 | |
hp_ancestors | 2.528 | 0.157 | 2.707 | |
hp_class | 0.071 | 0.024 | 0.095 | |
hp_descendants | 2.198 | 0.176 | 2.394 | |
hqStrNw | 0.001 | 0.000 | 0.000 | |
hsEntrezByRPath | 0 | 0 | 0 | |
rPath | 0 | 0 | 0 | |
traitDef | 3.121 | 0.299 | 3.446 | |