Back to Multiple platform build/check report for BioC 3.10 |
|
This page was generated on 2020-04-15 12:42:04 -0400 (Wed, 15 Apr 2020).
Package 1250/1823 | Hostname | OS / Arch | INSTALL | BUILD | CHECK | BUILD BIN | ||||||
PGA 1.16.0 Bo Wen
| malbec1 | Linux (Ubuntu 18.04.4 LTS) / x86_64 | OK | OK | OK | |||||||
tokay1 | Windows Server 2012 R2 Standard / x64 | OK | OK | OK | OK | |||||||
merida1 | OS X 10.11.6 El Capitan / x86_64 | [ ERROR ] | ERROR | skipped | skipped |
Package: PGA |
Version: 1.16.0 |
Command: /Library/Frameworks/R.framework/Versions/Current/Resources/bin/R CMD INSTALL PGA |
StartedAt: 2020-04-14 19:28:59 -0400 (Tue, 14 Apr 2020) |
EndedAt: 2020-04-14 19:29:00 -0400 (Tue, 14 Apr 2020) |
EllapsedTime: 0.5 seconds |
RetCode: 1 |
Status: ERROR |
############################################################################## ############################################################################## ### ### Running command: ### ### /Library/Frameworks/R.framework/Versions/Current/Resources/bin/R CMD INSTALL PGA ### ############################################################################## ############################################################################## * installing to library ‘/Library/Frameworks/R.framework/Versions/3.6/Resources/library’ ERROR: dependency ‘rTANDEM’ is not available for package ‘PGA’ * removing ‘/Library/Frameworks/R.framework/Versions/3.6/Resources/library/PGA’