Back to Multiple platform build/check report for BioC 3.10 |
|
This page was generated on 2020-04-15 12:27:52 -0400 (Wed, 15 Apr 2020).
Package 1286/1823 | Hostname | OS / Arch | INSTALL | BUILD | CHECK | BUILD BIN | ||||||
POST 1.10.0 Xueyuan Cao
| malbec1 | Linux (Ubuntu 18.04.4 LTS) / x86_64 | OK | OK | WARNINGS | |||||||
tokay1 | Windows Server 2012 R2 Standard / x64 | OK | OK | WARNINGS | [ OK ] | |||||||
merida1 | OS X 10.11.6 El Capitan / x86_64 | OK | OK | WARNINGS | OK |
Package: POST |
Version: 1.10.0 |
Command: rm -rf POST.buildbin-libdir && mkdir POST.buildbin-libdir && C:\Users\biocbuild\bbs-3.10-bioc\R\bin\R.exe CMD INSTALL --merge-multiarch --build --library=POST.buildbin-libdir POST_1.10.0.tar.gz |
StartedAt: 2020-04-15 09:24:17 -0400 (Wed, 15 Apr 2020) |
EndedAt: 2020-04-15 09:25:01 -0400 (Wed, 15 Apr 2020) |
EllapsedTime: 44.6 seconds |
RetCode: 0 |
Status: OK |
PackageFile: POST_1.10.0.zip |
PackageFileSize: 174.3 KiB |
############################################################################## ############################################################################## ### ### Running command: ### ### rm -rf POST.buildbin-libdir && mkdir POST.buildbin-libdir && C:\Users\biocbuild\bbs-3.10-bioc\R\bin\R.exe CMD INSTALL --merge-multiarch --build --library=POST.buildbin-libdir POST_1.10.0.tar.gz ### ############################################################################## ############################################################################## install for i386 * installing *source* package 'POST' ... ** using staged installation ** R ** data ** inst ** byte-compile and prepare package for lazy loading Note: break used in wrong context: no loop is visible Note: break used in wrong context: no loop is visible ** help *** installing help indices converting help for package 'POST' finding HTML links ... done POST-package html POSTcoxph html POSTglm html sampExprSet html sampGeneSet html ** building package indices ** installing vignettes ** testing if installed package can be loaded from temporary location ** testing if installed package can be loaded from final location ** testing if installed package keeps a record of temporary installation path install for x64 * installing *source* package 'POST' ... ** testing if installed package can be loaded * MD5 sums packaged installation of 'POST' as POST_1.10.0.zip * DONE (POST)