Back to Multiple platform build/check report for BioC 3.10 |
|
This page was generated on 2020-04-15 12:42:07 -0400 (Wed, 15 Apr 2020).
Package 1302/1823 | Hostname | OS / Arch | INSTALL | BUILD | CHECK | BUILD BIN | ||||||
Prize 1.16.0 Daryanaz Dargahi
| malbec1 | Linux (Ubuntu 18.04.4 LTS) / x86_64 | OK | OK | OK | |||||||
tokay1 | Windows Server 2012 R2 Standard / x64 | OK | OK | OK | OK | |||||||
merida1 | OS X 10.11.6 El Capitan / x86_64 | OK | OK | [ OK ] | OK |
Package: Prize |
Version: 1.16.0 |
Command: /Library/Frameworks/R.framework/Versions/Current/Resources/bin/R CMD check --install=check:Prize.install-out.txt --library=/Library/Frameworks/R.framework/Versions/Current/Resources/library --no-vignettes --timings Prize_1.16.0.tar.gz |
StartedAt: 2020-04-15 04:44:43 -0400 (Wed, 15 Apr 2020) |
EndedAt: 2020-04-15 04:46:33 -0400 (Wed, 15 Apr 2020) |
EllapsedTime: 110.6 seconds |
RetCode: 0 |
Status: OK |
CheckDir: Prize.Rcheck |
Warnings: 0 |
############################################################################## ############################################################################## ### ### Running command: ### ### /Library/Frameworks/R.framework/Versions/Current/Resources/bin/R CMD check --install=check:Prize.install-out.txt --library=/Library/Frameworks/R.framework/Versions/Current/Resources/library --no-vignettes --timings Prize_1.16.0.tar.gz ### ############################################################################## ############################################################################## * using log directory ‘/Users/biocbuild/bbs-3.10-bioc/meat/Prize.Rcheck’ * using R version 3.6.3 (2020-02-29) * using platform: x86_64-apple-darwin15.6.0 (64-bit) * using session charset: UTF-8 * using option ‘--no-vignettes’ * checking for file ‘Prize/DESCRIPTION’ ... OK * checking extension type ... Package * this is package ‘Prize’ version ‘1.16.0’ * checking package namespace information ... OK * checking package dependencies ... OK * checking if this is a source package ... OK * checking if there is a namespace ... OK * checking for hidden files and directories ... OK * checking for portable file names ... OK * checking for sufficient/correct file permissions ... OK * checking whether package ‘Prize’ can be installed ... OK * checking installed package size ... OK * checking package directory ... OK * checking ‘build’ directory ... OK * checking DESCRIPTION meta-information ... OK * checking top-level files ... OK * checking for left-over files ... OK * checking index information ... OK * checking package subdirectories ... OK * checking R files for non-ASCII characters ... OK * checking R files for syntax errors ... OK * checking whether the package can be loaded ... OK * checking whether the package can be loaded with stated dependencies ... OK * checking whether the package can be unloaded cleanly ... OK * checking whether the namespace can be loaded with stated dependencies ... OK * checking whether the namespace can be unloaded cleanly ... OK * checking dependencies in R code ... OK * checking S3 generic/method consistency ... OK * checking replacement functions ... OK * checking foreign function calls ... OK * checking R code for possible problems ... OK * checking Rd files ... OK * checking Rd metadata ... OK * checking Rd cross-references ... OK * checking for missing documentation entries ... OK * checking for code/documentation mismatches ... OK * checking Rd \usage sections ... OK * checking Rd contents ... OK * checking for unstated dependencies in examples ... OK * checking sizes of PDF files under ‘inst/doc’ ... OK * checking files in ‘vignettes’ ... OK * checking examples ... OK Examples with CPU or elapsed time > 5s user system elapsed Prize-package 7.261 0.068 7.341 * checking for unstated dependencies in ‘tests’ ... OK * checking tests ... Running ‘runTests.R’ OK * checking for unstated dependencies in vignettes ... OK * checking package vignettes in ‘inst/doc’ ... OK * checking running R code from vignettes ... SKIPPED * checking re-building of vignette outputs ... SKIPPED * checking PDF version of manual ... OK * DONE Status: OK
Prize.Rcheck/00install.out
############################################################################## ############################################################################## ### ### Running command: ### ### /Library/Frameworks/R.framework/Versions/Current/Resources/bin/R CMD INSTALL Prize ### ############################################################################## ############################################################################## * installing to library ‘/Library/Frameworks/R.framework/Versions/3.6/Resources/library’ * installing *source* package ‘Prize’ ... ** using staged installation ** R ** inst ** byte-compile and prepare package for lazy loading ** help *** installing help indices ** building package indices ** installing vignettes ** testing if installed package can be loaded from temporary location ** testing if installed package can be loaded from final location ** testing if installed package keeps a record of temporary installation path * DONE (Prize)
Prize.Rcheck/tests/runTests.Rout
R version 3.6.3 (2020-02-29) -- "Holding the Windsock" Copyright (C) 2020 The R Foundation for Statistical Computing Platform: x86_64-apple-darwin15.6.0 (64-bit) R is free software and comes with ABSOLUTELY NO WARRANTY. You are welcome to redistribute it under certain conditions. Type 'license()' or 'licence()' for distribution details. R is a collaborative project with many contributors. Type 'contributors()' for more information and 'citation()' on how to cite R or R packages in publications. Type 'demo()' for some demos, 'help()' for on-line help, or 'help.start()' for an HTML browser interface to help. Type 'q()' to quit R. > BiocGenerics:::testPackage("Prize") Loading required package: shape Reading individual judgements. Aggregating individual judgements with geometric mean (AIJ). Computing group consistency ratio (GCR). Computing consensus index (CI). Reading individual judgements. Aggregating individual priorities with arithmetic mean (AIP). 0 Prioritization_of_DE_genes is processed. 1 Tumor_expression is processed. 2 Normal_expression is processed. 3 Frequency is processed. 4 Epitopes is processed. 4.1 Number_of_epitopes is processed. 4.2 Size_of_epitopes is processed. RUNIT TEST PROTOCOL -- Wed Apr 15 04:46:25 2020 *********************************************** Number of test functions: 5 Number of errors: 0 Number of failures: 0 1 Test Suite : Prize RUnit Tests - 5 test functions, 0 errors, 0 failures Number of test functions: 5 Number of errors: 0 Number of failures: 0 > > proc.time() user system elapsed 9.610 0.223 9.821
Prize.Rcheck/Prize-Ex.timings
name | user | system | elapsed | |
AIJ | 2.367 | 0.013 | 2.387 | |
AIP | 1.594 | 0.005 | 1.599 | |
CI | 2.234 | 0.012 | 2.247 | |
GCR | 2.225 | 0.007 | 2.233 | |
ICR | 3.824 | 0.017 | 3.843 | |
IP | 3.538 | 0.007 | 3.547 | |
Prize-package | 7.261 | 0.068 | 7.341 | |
RM | 0.403 | 0.001 | 0.404 | |
ahmatrix | 0.001 | 0.000 | 0.001 | |
ahp | 0.339 | 0.000 | 0.341 | |
ahp_matrix | 0.001 | 0.001 | 0.001 | |
ahp_plot | 2.650 | 0.027 | 2.679 | |
ahp_weights | 2.871 | 0.058 | 2.931 | |
ahplot | 0.040 | 0.001 | 0.042 | |
crplot | 0.392 | 0.002 | 0.394 | |
dplot | 0.209 | 0.001 | 0.210 | |
gaggregate | 4.458 | 0.028 | 4.508 | |
pipeline | 2.614 | 0.037 | 2.657 | |
rainbow_plot | 2.880 | 0.040 | 2.934 | |
rainbowplot | 0.383 | 0.005 | 0.392 | |
rating | 0.802 | 0.010 | 0.819 | |
saaty_inconsistency | 3.867 | 0.047 | 3.919 | |
simulation | 2.958 | 0.036 | 2.998 | |
weight | 0.765 | 0.003 | 0.769 | |
weight_plot | 2.988 | 0.029 | 3.020 | |
wplot | 0.517 | 0.001 | 0.520 | |