Back to Multiple platform build/check report for BioC 3.10 |
|
This page was generated on 2020-04-15 12:30:26 -0400 (Wed, 15 Apr 2020).
Package 1449/1823 | Hostname | OS / Arch | INSTALL | BUILD | CHECK | BUILD BIN | ||||||
RNAdecay 1.6.0 Reed Sorenson
| malbec1 | Linux (Ubuntu 18.04.4 LTS) / x86_64 | OK | OK | OK | ![]() | ||||||
tokay1 | Windows Server 2012 R2 Standard / x64 | OK | OK | OK | [ ERROR ] | |||||||
merida1 | OS X 10.11.6 El Capitan / x86_64 | OK | OK | OK | OK | ![]() |
Package: RNAdecay |
Version: 1.6.0 |
Command: rm -rf RNAdecay.buildbin-libdir && mkdir RNAdecay.buildbin-libdir && C:\Users\biocbuild\bbs-3.10-bioc\R\bin\R.exe CMD INSTALL --merge-multiarch --build --library=RNAdecay.buildbin-libdir RNAdecay_1.6.0.tar.gz |
StartedAt: 2020-04-15 09:33:41 -0400 (Wed, 15 Apr 2020) |
EndedAt: 2020-04-15 09:34:05 -0400 (Wed, 15 Apr 2020) |
EllapsedTime: 24.5 seconds |
RetCode: 1 |
Status: ERROR |
PackageFile: None |
PackageFileSize: NA |
############################################################################## ############################################################################## ### ### Running command: ### ### rm -rf RNAdecay.buildbin-libdir && mkdir RNAdecay.buildbin-libdir && C:\Users\biocbuild\bbs-3.10-bioc\R\bin\R.exe CMD INSTALL --merge-multiarch --build --library=RNAdecay.buildbin-libdir RNAdecay_1.6.0.tar.gz ### ############################################################################## ############################################################################## install for i386 * installing *source* package 'RNAdecay' ... ** using staged installation ** libs running 'src/Makefile.win' ... make: Nothing to be done for `all'. installing to C:/Users/biocbuild/bbs-3.10-bioc/meat/RNAdecay.buildbin-libdir/00LOCK-RNAdecay/00new/RNAdecay/libs/i386 ** R ** data *** moving datasets to lazyload DB ** inst ** byte-compile and prepare package for lazy loading ** help *** installing help indices converting help for package 'RNAdecay' finding HTML links ... done RPMs html a_high html aic html cols html comb_cv html const_decay html constraint_fun_list_maker html decay_data html decay_plot html fit_var html group_map html groupings html log_lik html mod_optimization html models html n_par html plain_theme html results html sse_null_decaying_decay html ** building package indices ** installing vignettes ** testing if installed package can be loaded from temporary location Error: package or namespace load failed for 'RNAdecay' in inDL(x, as.logical(local), as.logical(now), ...): unable to load shared object 'C:/Users/biocbuild/bbs-3.10-bioc/meat/RNAdecay.buildbin-libdir/00LOCK-RNAdecay/00new/RNAdecay/libs/i386/general_Exp_1sse.dll': LoadLibrary failure: %1 is not a valid Win32 application. Error: loading failed Execution halted ERROR: loading failed * removing 'C:/Users/biocbuild/bbs-3.10-bioc/meat/RNAdecay.buildbin-libdir/RNAdecay'