Back to Multiple platform build/check report for BioC 3.10 |
|
This page was generated on 2020-04-15 12:24:35 -0400 (Wed, 15 Apr 2020).
Package 1456/1823 | Hostname | OS / Arch | INSTALL | BUILD | CHECK | BUILD BIN | ||||||
RNAprobR 1.18.0 Nikos Sidiropoulos
| malbec1 | Linux (Ubuntu 18.04.4 LTS) / x86_64 | OK | OK | WARNINGS | ![]() | ||||||
tokay1 | Windows Server 2012 R2 Standard / x64 | OK | OK | WARNINGS | [ OK ] | ![]() | ||||||
merida1 | OS X 10.11.6 El Capitan / x86_64 | OK | ERROR | skipped | skipped |
Package: RNAprobR |
Version: 1.18.0 |
Command: rm -rf RNAprobR.buildbin-libdir && mkdir RNAprobR.buildbin-libdir && C:\Users\biocbuild\bbs-3.10-bioc\R\bin\R.exe CMD INSTALL --merge-multiarch --build --library=RNAprobR.buildbin-libdir RNAprobR_1.18.0.tar.gz |
StartedAt: 2020-04-15 09:34:05 -0400 (Wed, 15 Apr 2020) |
EndedAt: 2020-04-15 09:34:49 -0400 (Wed, 15 Apr 2020) |
EllapsedTime: 43.7 seconds |
RetCode: 0 |
Status: OK |
PackageFile: RNAprobR_1.18.0.zip |
PackageFileSize: 626.1 KiB |
############################################################################## ############################################################################## ### ### Running command: ### ### rm -rf RNAprobR.buildbin-libdir && mkdir RNAprobR.buildbin-libdir && C:\Users\biocbuild\bbs-3.10-bioc\R\bin\R.exe CMD INSTALL --merge-multiarch --build --library=RNAprobR.buildbin-libdir RNAprobR_1.18.0.tar.gz ### ############################################################################## ############################################################################## install for i386 * installing *source* package 'RNAprobR' ... ** using staged installation ** R ** inst ** byte-compile and prepare package for lazy loading ** help *** installing help indices converting help for package 'RNAprobR' finding HTML links ... done BED2txDb html GR2norm_df html bam2bedgraph html bedgraph2norm html comp html compdata html correct_oversaturation html dtcr html k2n_calc html norm2bedgraph html norm_df2GR html plotRNA html plotReads html readsamples html slograt html swinsor html swinsor_vector html winsor html ** building package indices ** installing vignettes ** testing if installed package can be loaded from temporary location ** testing if installed package can be loaded from final location ** testing if installed package keeps a record of temporary installation path install for x64 * installing *source* package 'RNAprobR' ... ** testing if installed package can be loaded * MD5 sums packaged installation of 'RNAprobR' as RNAprobR_1.18.0.zip * DONE (RNAprobR)