Back to Multiple platform build/check report for BioC 3.10 |
|
This page was generated on 2020-04-15 12:22:51 -0400 (Wed, 15 Apr 2020).
Package 1369/1823 | Hostname | OS / Arch | INSTALL | BUILD | CHECK | BUILD BIN | ||||||
Rariant 1.22.0 Julian Gehring
| malbec1 | Linux (Ubuntu 18.04.4 LTS) / x86_64 | OK | OK | WARNINGS | ![]() | ||||||
tokay1 | Windows Server 2012 R2 Standard / x64 | OK | OK | WARNINGS | [ OK ] | ![]() | ||||||
merida1 | OS X 10.11.6 El Capitan / x86_64 | OK | OK | WARNINGS | OK | ![]() |
Package: Rariant |
Version: 1.22.0 |
Command: rm -rf Rariant.buildbin-libdir && mkdir Rariant.buildbin-libdir && C:\Users\biocbuild\bbs-3.10-bioc\R\bin\R.exe CMD INSTALL --merge-multiarch --build --library=Rariant.buildbin-libdir Rariant_1.22.0.tar.gz |
StartedAt: 2020-04-15 09:29:08 -0400 (Wed, 15 Apr 2020) |
EndedAt: 2020-04-15 09:30:21 -0400 (Wed, 15 Apr 2020) |
EllapsedTime: 73.2 seconds |
RetCode: 0 |
Status: OK |
PackageFile: Rariant_1.22.0.zip |
PackageFileSize: 5.931 MiB |
############################################################################## ############################################################################## ### ### Running command: ### ### rm -rf Rariant.buildbin-libdir && mkdir Rariant.buildbin-libdir && C:\Users\biocbuild\bbs-3.10-bioc\R\bin\R.exe CMD INSTALL --merge-multiarch --build --library=Rariant.buildbin-libdir Rariant_1.22.0.tar.gz ### ############################################################################## ############################################################################## install for i386 * installing *source* package 'Rariant' ... ** using staged installation ** R ** inst ** byte-compile and prepare package for lazy loading ** help *** installing help indices converting help for package 'Rariant' finding HTML links ... done Rariant-package html ci-adjust html ci-assessment html ci-utils html colorscales html convert-utils html evidence-heatmap html mismatch-plot html mismatch-utils html multi-utils html plot-cis html prop-cis html prop-tests html rariant html shiny html split-sample html tally html yesnomaybe html ** building package indices ** installing vignettes ** testing if installed package can be loaded from temporary location ** testing if installed package can be loaded from final location ** testing if installed package keeps a record of temporary installation path install for x64 * installing *source* package 'Rariant' ... ** testing if installed package can be loaded * MD5 sums packaged installation of 'Rariant' as Rariant_1.22.0.zip * DONE (Rariant)