Back to Multiple platform build/check report for BioC 3.10 |
|
This page was generated on 2020-04-15 12:15:22 -0400 (Wed, 15 Apr 2020).
Package 1389/1823 | Hostname | OS / Arch | INSTALL | BUILD | CHECK | BUILD BIN | ||||||
RcwlPipelines 1.2.0 Qiang Hu
| malbec1 | Linux (Ubuntu 18.04.4 LTS) / x86_64 | OK | [ OK ] | OK | ![]() | ||||||
tokay1 | Windows Server 2012 R2 Standard / x64 | ...NOT SUPPORTED... | ||||||||||
merida1 | OS X 10.11.6 El Capitan / x86_64 | OK | OK | OK | OK | ![]() |
Package: RcwlPipelines |
Version: 1.2.0 |
Command: /home/biocbuild/bbs-3.10-bioc/R/bin/R CMD build --keep-empty-dirs --no-resave-data RcwlPipelines |
StartedAt: 2020-04-14 23:32:30 -0400 (Tue, 14 Apr 2020) |
EndedAt: 2020-04-14 23:33:09 -0400 (Tue, 14 Apr 2020) |
EllapsedTime: 39.3 seconds |
RetCode: 0 |
Status: OK |
PackageFile: RcwlPipelines_1.2.0.tar.gz |
PackageFileSize: 1.966 MiB |
############################################################################## ############################################################################## ### ### Running command: ### ### /home/biocbuild/bbs-3.10-bioc/R/bin/R CMD build --keep-empty-dirs --no-resave-data RcwlPipelines ### ############################################################################## ############################################################################## * checking for file ‘RcwlPipelines/DESCRIPTION’ ... OK * preparing ‘RcwlPipelines’: * checking DESCRIPTION meta-information ... OK * installing the package to build vignettes * creating vignettes ... OK * checking for LF line-endings in source and make files and shell scripts * checking for empty or unneeded directories * building ‘RcwlPipelines_1.2.0.tar.gz’ Warning in utils::tar(filepath, pkgname, compression = compression, compression_level = 9L, : storing paths of more than 100 bytes is not portable: ‘RcwlPipelines/inst/GATK4/gatk4-data-processing/processing-for-variant-discovery-gatk4.b37.wgs.inputs.json’ Warning in utils::tar(filepath, pkgname, compression = compression, compression_level = 9L, : storing paths of more than 100 bytes is not portable: ‘RcwlPipelines/inst/GATK4/gatk4-data-processing/processing-for-variant-discovery-gatk4.hg38.wgs.inputs.json’ Warning in utils::tar(filepath, pkgname, compression = compression, compression_level = 9L, : storing paths of more than 100 bytes is not portable: ‘RcwlPipelines/inst/GATK4/gatk4-data-processing/processing-for-variant-discovery-gatk4.hg38.wgs.inputs.local.json’ Warning in utils::tar(filepath, pkgname, compression = compression, compression_level = 9L, : storing paths of more than 100 bytes is not portable: ‘RcwlPipelines/inst/GATK4/gatk4-germline-snps-indels/haplotypecaller-gvcf-gatk4.hg38.inputs.local.json’