Back to Multiple platform build/check report for BioC 3.10 |
|
This page was generated on 2020-04-15 12:16:12 -0400 (Wed, 15 Apr 2020).
Package 1396/1823 | Hostname | OS / Arch | INSTALL | BUILD | CHECK | BUILD BIN | ||||||
ReactomeGSA 1.0.0 Johannes Griss
| malbec1 | Linux (Ubuntu 18.04.4 LTS) / x86_64 | OK | OK | [ OK ] | |||||||
tokay1 | Windows Server 2012 R2 Standard / x64 | OK | OK | OK | OK | |||||||
merida1 | OS X 10.11.6 El Capitan / x86_64 | OK | OK | OK | OK |
Package: ReactomeGSA |
Version: 1.0.0 |
Command: /home/biocbuild/bbs-3.10-bioc/R/bin/R CMD check --install=check:ReactomeGSA.install-out.txt --library=/home/biocbuild/bbs-3.10-bioc/R/library --no-vignettes --timings ReactomeGSA_1.0.0.tar.gz |
StartedAt: 2020-04-15 06:53:43 -0400 (Wed, 15 Apr 2020) |
EndedAt: 2020-04-15 06:55:07 -0400 (Wed, 15 Apr 2020) |
EllapsedTime: 83.9 seconds |
RetCode: 0 |
Status: OK |
CheckDir: ReactomeGSA.Rcheck |
Warnings: 0 |
############################################################################## ############################################################################## ### ### Running command: ### ### /home/biocbuild/bbs-3.10-bioc/R/bin/R CMD check --install=check:ReactomeGSA.install-out.txt --library=/home/biocbuild/bbs-3.10-bioc/R/library --no-vignettes --timings ReactomeGSA_1.0.0.tar.gz ### ############################################################################## ############################################################################## * using log directory ‘/home/biocbuild/bbs-3.10-bioc/meat/ReactomeGSA.Rcheck’ * using R version 3.6.3 (2020-02-29) * using platform: x86_64-pc-linux-gnu (64-bit) * using session charset: UTF-8 * using option ‘--no-vignettes’ * checking for file ‘ReactomeGSA/DESCRIPTION’ ... OK * checking extension type ... Package * this is package ‘ReactomeGSA’ version ‘1.0.0’ * package encoding: UTF-8 * checking package namespace information ... OK * checking package dependencies ... OK * checking if this is a source package ... OK * checking if there is a namespace ... OK * checking for hidden files and directories ... OK * checking for portable file names ... OK * checking for sufficient/correct file permissions ... OK * checking whether package ‘ReactomeGSA’ can be installed ... OK * checking installed package size ... OK * checking package directory ... OK * checking ‘build’ directory ... OK * checking DESCRIPTION meta-information ... OK * checking top-level files ... OK * checking for left-over files ... OK * checking index information ... OK * checking package subdirectories ... OK * checking R files for non-ASCII characters ... OK * checking R files for syntax errors ... OK * checking whether the package can be loaded ... OK * checking whether the package can be loaded with stated dependencies ... OK * checking whether the package can be unloaded cleanly ... OK * checking whether the namespace can be loaded with stated dependencies ... OK * checking whether the namespace can be unloaded cleanly ... OK * checking dependencies in R code ... OK * checking S3 generic/method consistency ... OK * checking replacement functions ... OK * checking foreign function calls ... OK * checking R code for possible problems ... NOTE plot_correlations,ReactomeAnalysisResult: no visible binding for global variable ‘combined_sig’ plot_correlations,ReactomeAnalysisResult: no visible binding for global variable ‘alpha’ plot_volcano,ReactomeAnalysisResult: no visible binding for global variable ‘av_foldchange’ plot_volcano,ReactomeAnalysisResult: no visible binding for global variable ‘FDR’ Undefined global functions or variables: FDR alpha av_foldchange combined_sig * checking Rd files ... OK * checking Rd metadata ... OK * checking Rd cross-references ... OK * checking for missing documentation entries ... OK * checking for code/documentation mismatches ... OK * checking Rd \usage sections ... OK * checking Rd contents ... OK * checking for unstated dependencies in examples ... OK * checking files in ‘vignettes’ ... OK * checking examples ... OK Examples with CPU or elapsed time > 5s user system elapsed ReactomeAnalysisResult-class 6.172 0.008 6.433 plot_correlations-ReactomeAnalysisResult-method 6.056 0.004 6.065 pathways-ReactomeAnalysisResult-method 5.384 0.012 5.410 plot_correlations 5.180 0.008 5.202 perform_reactome_analysis 3.116 0.052 10.178 * checking for unstated dependencies in ‘tests’ ... OK * checking tests ... Running ‘testthat.R’ OK * checking for unstated dependencies in vignettes ... OK * checking package vignettes in ‘inst/doc’ ... OK * checking running R code from vignettes ... SKIPPED * checking re-building of vignette outputs ... SKIPPED * checking PDF version of manual ... OK * DONE Status: 1 NOTE See ‘/home/biocbuild/bbs-3.10-bioc/meat/ReactomeGSA.Rcheck/00check.log’ for details.
ReactomeGSA.Rcheck/00install.out
############################################################################## ############################################################################## ### ### Running command: ### ### /home/biocbuild/bbs-3.10-bioc/R/bin/R CMD INSTALL ReactomeGSA ### ############################################################################## ############################################################################## * installing to library ‘/home/biocbuild/bbs-3.10-bioc/R/library’ * installing *source* package ‘ReactomeGSA’ ... ** using staged installation ** R ** byte-compile and prepare package for lazy loading in method for ‘add_dataset’ with signature ‘request="ReactomeAnalysisRequest",expression_values="EList"’: no definition for class “EList” in method for ‘add_dataset’ with signature ‘request="ReactomeAnalysisRequest",expression_values="DGEList"’: no definition for class “DGEList” in method for ‘add_dataset’ with signature ‘request="ReactomeAnalysisRequest",expression_values="ExpressionSet"’: no definition for class “ExpressionSet” ** help *** installing help indices ** building package indices ** installing vignettes ** testing if installed package can be loaded from temporary location ** testing if installed package can be loaded from final location ** testing if installed package keeps a record of temporary installation path * DONE (ReactomeGSA)
ReactomeGSA.Rcheck/tests/testthat.Rout
R version 3.6.3 (2020-02-29) -- "Holding the Windsock" Copyright (C) 2020 The R Foundation for Statistical Computing Platform: x86_64-pc-linux-gnu (64-bit) R is free software and comes with ABSOLUTELY NO WARRANTY. You are welcome to redistribute it under certain conditions. Type 'license()' or 'licence()' for distribution details. R is a collaborative project with many contributors. Type 'contributors()' for more information and 'citation()' on how to cite R or R packages in publications. Type 'demo()' for some demos, 'help()' for on-line help, or 'help.start()' for an HTML browser interface to help. Type 'q()' to quit R. > library(testthat) > library(ReactomeGSA) > > test_check("ReactomeGSA") ══ testthat results ═══════════════════════════════════════════════════════════ [ OK: 17 | SKIPPED: 0 | WARNINGS: 0 | FAILED: 0 ] > > proc.time() user system elapsed 2.056 0.068 2.130
ReactomeGSA.Rcheck/ReactomeGSA-Ex.timings
name | user | system | elapsed | |
ReactomeAnalysisRequest | 1.424 | 0.068 | 1.653 | |
ReactomeAnalysisResult-class | 6.172 | 0.008 | 6.433 | |
add_dataset-ReactomeAnalysisRequest-DGEList-method | 0.920 | 0.016 | 0.936 | |
add_dataset-ReactomeAnalysisRequest-EList-method | 1.100 | 0.004 | 1.108 | |
add_dataset-ReactomeAnalysisRequest-ExpressionSet-method | 1.012 | 0.004 | 1.017 | |
add_dataset-ReactomeAnalysisRequest-data.frame-method | 0.928 | 0.004 | 0.931 | |
add_dataset | 0.896 | 0.004 | 0.898 | |
get_reactome_data_types | 0.312 | 0.012 | 0.490 | |
get_reactome_methods | 0.340 | 0.004 | 0.581 | |
get_result-ReactomeAnalysisResult-method | 0.200 | 0.000 | 0.201 | |
get_result | 0.200 | 0.004 | 0.202 | |
names-ReactomeAnalysisResult-method | 0.196 | 0.000 | 0.195 | |
open_reactome-ReactomeAnalysisResult-method | 0.208 | 0.000 | 0.208 | |
open_reactome | 0.192 | 0.000 | 0.192 | |
pathways-ReactomeAnalysisResult-method | 5.384 | 0.012 | 5.410 | |
pathways | 3.708 | 0.008 | 3.721 | |
perform_reactome_analysis | 3.116 | 0.052 | 10.178 | |
plot_correlations-ReactomeAnalysisResult-method | 6.056 | 0.004 | 6.065 | |
plot_correlations | 5.180 | 0.008 | 5.202 | |
plot_volcano-ReactomeAnalysisResult-method | 0.152 | 0.000 | 0.155 | |
plot_volcano | 0.216 | 0.000 | 0.219 | |
print-ReactomeAnalysisRequest-method | 0.000 | 0.000 | 0.002 | |
print-ReactomeAnalysisResult-method | 0.204 | 0.012 | 0.213 | |
reactome_links-ReactomeAnalysisResult-method | 0.188 | 0.000 | 0.188 | |
reactome_links | 0.200 | 0.000 | 0.202 | |
result_types-ReactomeAnalysisResult-method | 0.212 | 0.004 | 0.216 | |
result_types | 0.184 | 0.004 | 0.188 | |
set_method-ReactomeAnalysisRequest-method | 0.000 | 0.000 | 0.002 | |
set_method | 0.000 | 0.000 | 0.003 | |
set_parameters-ReactomeAnalysisRequest-method | 0.000 | 0.000 | 0.003 | |
set_parameters | 0.004 | 0.000 | 0.003 | |
show-ReactomeAnalysisRequest-method | 0.004 | 0.000 | 0.002 | |
show-ReactomeAnalysisResult-method | 0.176 | 0.008 | 0.184 | |