Back to Multiple platform build/check report for BioC 3.10 |
|
This page was generated on 2020-04-15 12:28:37 -0400 (Wed, 15 Apr 2020).
Package 1430/1823 | Hostname | OS / Arch | INSTALL | BUILD | CHECK | BUILD BIN | ||||||
Rhdf5lib 1.8.0 Mike Smith
| malbec1 | Linux (Ubuntu 18.04.4 LTS) / x86_64 | OK | OK | OK | |||||||
tokay1 | Windows Server 2012 R2 Standard / x64 | [ OK ] | OK | OK | OK | |||||||
merida1 | OS X 10.11.6 El Capitan / x86_64 | OK | OK | OK | OK |
Package: Rhdf5lib |
Version: 1.8.0 |
Command: C:\cygwin\bin\curl.exe -O https://malbec1.bioconductor.org/BBS/3.10/bioc/src/contrib/Rhdf5lib_1.8.0.tar.gz && rm -rf Rhdf5lib.buildbin-libdir && mkdir Rhdf5lib.buildbin-libdir && C:\Users\biocbuild\bbs-3.10-bioc\R\bin\R.exe CMD INSTALL --merge-multiarch --build --library=Rhdf5lib.buildbin-libdir Rhdf5lib_1.8.0.tar.gz && C:\Users\biocbuild\bbs-3.10-bioc\R\bin\R.exe CMD INSTALL Rhdf5lib_1.8.0.zip && rm Rhdf5lib_1.8.0.tar.gz Rhdf5lib_1.8.0.zip |
StartedAt: 2020-04-14 18:30:41 -0400 (Tue, 14 Apr 2020) |
EndedAt: 2020-04-14 18:32:27 -0400 (Tue, 14 Apr 2020) |
EllapsedTime: 106.0 seconds |
RetCode: 0 |
Status: OK |
############################################################################## ############################################################################## ### ### Running command: ### ### C:\cygwin\bin\curl.exe -O https://malbec1.bioconductor.org/BBS/3.10/bioc/src/contrib/Rhdf5lib_1.8.0.tar.gz && rm -rf Rhdf5lib.buildbin-libdir && mkdir Rhdf5lib.buildbin-libdir && C:\Users\biocbuild\bbs-3.10-bioc\R\bin\R.exe CMD INSTALL --merge-multiarch --build --library=Rhdf5lib.buildbin-libdir Rhdf5lib_1.8.0.tar.gz && C:\Users\biocbuild\bbs-3.10-bioc\R\bin\R.exe CMD INSTALL Rhdf5lib_1.8.0.zip && rm Rhdf5lib_1.8.0.tar.gz Rhdf5lib_1.8.0.zip ### ############################################################################## ############################################################################## % Total % Received % Xferd Average Speed Time Time Time Current Dload Upload Total Spent Left Speed 0 0 0 0 0 0 0 0 --:--:-- --:--:-- --:--:-- 0 100 9039k 100 9039k 0 0 30.0M 0 --:--:-- --:--:-- --:--:-- 30.4M install for i386 * installing *source* package 'Rhdf5lib' ... ** using staged installation untarring hdf5_headers_1.10.5.tar.gz ... ** libs mkdir -p "C:/Users/biocbuild/bbs-3.10-bioc/meat/Rhdf5lib.buildbin-libdir/00LOCK-Rhdf5lib/00new/Rhdf5lib/lib/i386/" "C:/Users/biocbuild/bbs-3.10-bioc/meat/Rhdf5lib.buildbin-libdir/00LOCK-Rhdf5lib/00new/Rhdf5lib/include" cp "winlib/i386/libhdf5.a" "C:/Users/biocbuild/bbs-3.10-bioc/meat/Rhdf5lib.buildbin-libdir/00LOCK-Rhdf5lib/00new/Rhdf5lib/lib/i386/libhdf5.a" cp "winlib/i386/libhdf5_cpp.a" "C:/Users/biocbuild/bbs-3.10-bioc/meat/Rhdf5lib.buildbin-libdir/00LOCK-Rhdf5lib/00new/Rhdf5lib/lib/i386/libhdf5_cpp.a" cp "winlib/i386/libhdf5_hl.a" "C:/Users/biocbuild/bbs-3.10-bioc/meat/Rhdf5lib.buildbin-libdir/00LOCK-Rhdf5lib/00new/Rhdf5lib/lib/i386/libhdf5_hl.a" cp "winlib/i386/libhdf5_hl_cpp.a" "C:/Users/biocbuild/bbs-3.10-bioc/meat/Rhdf5lib.buildbin-libdir/00LOCK-Rhdf5lib/00new/Rhdf5lib/lib/i386/libhdf5_hl_cpp.a" cp "winlib/i386/libszip.a" "C:/Users/biocbuild/bbs-3.10-bioc/meat/Rhdf5lib.buildbin-libdir/00LOCK-Rhdf5lib/00new/Rhdf5lib/lib/i386/libszip.a" cp ./hdf5/*.h "C:/Users/biocbuild/bbs-3.10-bioc/meat/Rhdf5lib.buildbin-libdir/00LOCK-Rhdf5lib/00new/Rhdf5lib/include" cp ./hdf5/c++/*.h "C:/Users/biocbuild/bbs-3.10-bioc/meat/Rhdf5lib.buildbin-libdir/00LOCK-Rhdf5lib/00new/Rhdf5lib/include" cp ./hdf5/hl/*.h "C:/Users/biocbuild/bbs-3.10-bioc/meat/Rhdf5lib.buildbin-libdir/00LOCK-Rhdf5lib/00new/Rhdf5lib/include" C:/Rtools/mingw_32/bin/gcc -I"C:/Users/BIOCBU~1/BBS-3~1.10-/R/include" -DNDEBUG -I"C:/extsoft/include" -I./hdf5 -O3 -Wall -std=gnu99 -mtune=core2 -c Rhdf5lib.c -o Rhdf5lib.o C:/Rtools/mingw_32/bin/gcc -shared -s -static-libgcc -o Rhdf5lib.dll tmp.def Rhdf5lib.o winlib/i386/libhdf5.a winlib/i386/libszip.a -lpsapi -lz -LC:/extsoft/lib/i386 -LC:/extsoft/lib -LC:/Users/BIOCBU~1/BBS-3~1.10-/R/bin/i386 -lR installing to C:/Users/biocbuild/bbs-3.10-bioc/meat/Rhdf5lib.buildbin-libdir/00LOCK-Rhdf5lib/00new/Rhdf5lib/libs/i386 ** R ** byte-compile and prepare package for lazy loading ** help *** installing help indices converting help for package 'Rhdf5lib' finding HTML links ... done Rhdf5lib html getHdf5Version html pkgconfig html ** building package indices ** installing vignettes ** testing if installed package can be loaded from temporary location ** testing if installed package can be loaded from final location ** testing if installed package keeps a record of temporary installation path install for x64 * installing *source* package 'Rhdf5lib' ... untarring hdf5_headers_1.10.5.tar.gz ... ** libs mkdir -p "C:/Users/biocbuild/bbs-3.10-bioc/meat/Rhdf5lib.buildbin-libdir/Rhdf5lib/lib/x64/" "C:/Users/biocbuild/bbs-3.10-bioc/meat/Rhdf5lib.buildbin-libdir/Rhdf5lib/include" cp "winlib/x64/libhdf5.a" "C:/Users/biocbuild/bbs-3.10-bioc/meat/Rhdf5lib.buildbin-libdir/Rhdf5lib/lib/x64/libhdf5.a" cp "winlib/x64/libhdf5_cpp.a" "C:/Users/biocbuild/bbs-3.10-bioc/meat/Rhdf5lib.buildbin-libdir/Rhdf5lib/lib/x64/libhdf5_cpp.a" cp "winlib/x64/libhdf5_hl.a" "C:/Users/biocbuild/bbs-3.10-bioc/meat/Rhdf5lib.buildbin-libdir/Rhdf5lib/lib/x64/libhdf5_hl.a" cp "winlib/x64/libhdf5_hl_cpp.a" "C:/Users/biocbuild/bbs-3.10-bioc/meat/Rhdf5lib.buildbin-libdir/Rhdf5lib/lib/x64/libhdf5_hl_cpp.a" cp "winlib/x64/libszip.a" "C:/Users/biocbuild/bbs-3.10-bioc/meat/Rhdf5lib.buildbin-libdir/Rhdf5lib/lib/x64/libszip.a" cp ./hdf5/*.h "C:/Users/biocbuild/bbs-3.10-bioc/meat/Rhdf5lib.buildbin-libdir/Rhdf5lib/include" cp ./hdf5/c++/*.h "C:/Users/biocbuild/bbs-3.10-bioc/meat/Rhdf5lib.buildbin-libdir/Rhdf5lib/include" cp ./hdf5/hl/*.h "C:/Users/biocbuild/bbs-3.10-bioc/meat/Rhdf5lib.buildbin-libdir/Rhdf5lib/include" C:/Rtools/mingw_64/bin/gcc -I"C:/Users/BIOCBU~1/BBS-3~1.10-/R/include" -DNDEBUG -I"C:/extsoft/include" -I./hdf5 -O2 -Wall -std=gnu99 -mtune=core2 -c Rhdf5lib.c -o Rhdf5lib.o C:/Rtools/mingw_64/bin/gcc -shared -s -static-libgcc -o Rhdf5lib.dll tmp.def Rhdf5lib.o winlib/x64/libhdf5.a winlib/x64/libszip.a -lpsapi -lz -LC:/extsoft/lib/x64 -LC:/extsoft/lib -LC:/Users/BIOCBU~1/BBS-3~1.10-/R/bin/x64 -lR installing to C:/Users/biocbuild/bbs-3.10-bioc/meat/Rhdf5lib.buildbin-libdir/Rhdf5lib/libs/x64 ** testing if installed package can be loaded * MD5 sums packaged installation of 'Rhdf5lib' as Rhdf5lib_1.8.0.zip * DONE (Rhdf5lib) * installing to library 'C:/Users/biocbuild/bbs-3.10-bioc/R/library' package 'Rhdf5lib' successfully unpacked and MD5 sums checked