Back to Multiple platform build/check report for BioC 3.10 |
|
This page was generated on 2020-04-15 12:42:39 -0400 (Wed, 15 Apr 2020).
Package 1434/1823 | Hostname | OS / Arch | INSTALL | BUILD | CHECK | BUILD BIN | ||||||
RiboProfiling 1.16.0 A. Popa
| malbec1 | Linux (Ubuntu 18.04.4 LTS) / x86_64 | OK | OK | WARNINGS | |||||||
tokay1 | Windows Server 2012 R2 Standard / x64 | OK | OK | WARNINGS | OK | |||||||
merida1 | OS X 10.11.6 El Capitan / x86_64 | OK | OK | WARNINGS | [ OK ] |
Package: RiboProfiling |
Version: 1.16.0 |
Command: rm -rf RiboProfiling.buildbin-libdir && mkdir RiboProfiling.buildbin-libdir && /Users/biocbuild/BBS/utils/build-universal.sh RiboProfiling_1.16.0.tar.gz /Library/Frameworks/R.framework/Versions/Current/Resources/bin/R RiboProfiling.buildbin-libdir |
StartedAt: 2020-04-15 08:33:55 -0400 (Wed, 15 Apr 2020) |
EndedAt: 2020-04-15 08:35:03 -0400 (Wed, 15 Apr 2020) |
EllapsedTime: 67.9 seconds |
RetCode: 0 |
Status: OK |
PackageFile: RiboProfiling_1.16.0.tgz |
PackageFileSize: 4.786 MiB |
############################################################################## ############################################################################## ### ### Running command: ### ### rm -rf RiboProfiling.buildbin-libdir && mkdir RiboProfiling.buildbin-libdir && /Users/biocbuild/BBS/utils/build-universal.sh RiboProfiling_1.16.0.tar.gz /Library/Frameworks/R.framework/Versions/Current/Resources/bin/R RiboProfiling.buildbin-libdir ### ############################################################################## ############################################################################## >>>>>>> >>>>>>> INSTALLATION WITH 'R CMD INSTALL --preclean --no-multiarch --library=RiboProfiling.buildbin-libdir RiboProfiling_1.16.0.tar.gz' >>>>>>> * installing *source* package ‘RiboProfiling’ ... ** using staged installation ** R ** data ** inst ** byte-compile and prepare package for lazy loading Warning: replacing previous import ‘BiocGenerics::Position’ by ‘ggplot2::Position’ when loading ‘RiboProfiling’ ** help *** installing help indices ** building package indices ** installing vignettes ** testing if installed package can be loaded from temporary location Warning: replacing previous import ‘BiocGenerics::Position’ by ‘ggplot2::Position’ when loading ‘RiboProfiling’ ** testing if installed package can be loaded from final location Warning: replacing previous import ‘BiocGenerics::Position’ by ‘ggplot2::Position’ when loading ‘RiboProfiling’ ** testing if installed package keeps a record of temporary installation path * DONE (RiboProfiling)