Back to Multiple platform build/check report for BioC 3.10 |
|
This page was generated on 2020-04-15 12:09:44 -0400 (Wed, 15 Apr 2020).
Package 1553/1823 | Hostname | OS / Arch | INSTALL | BUILD | CHECK | BUILD BIN | ||||||
SELEX 1.18.0 Harmen Bussemaker
| malbec1 | Linux (Ubuntu 18.04.4 LTS) / x86_64 | OK | OK | [ OK ] | ![]() | ||||||
tokay1 | Windows Server 2012 R2 Standard / x64 | OK | OK | OK | OK | ![]() | ||||||
merida1 | OS X 10.11.6 El Capitan / x86_64 | OK | OK | OK | OK | ![]() |
Package: SELEX |
Version: 1.18.0 |
Command: /home/biocbuild/bbs-3.10-bioc/R/bin/R CMD check --install=check:SELEX.install-out.txt --library=/home/biocbuild/bbs-3.10-bioc/R/library --no-vignettes --timings SELEX_1.18.0.tar.gz |
StartedAt: 2020-04-15 02:49:13 -0400 (Wed, 15 Apr 2020) |
EndedAt: 2020-04-15 02:51:10 -0400 (Wed, 15 Apr 2020) |
EllapsedTime: 117.5 seconds |
RetCode: 0 |
Status: OK |
CheckDir: SELEX.Rcheck |
Warnings: 0 |
############################################################################## ############################################################################## ### ### Running command: ### ### /home/biocbuild/bbs-3.10-bioc/R/bin/R CMD check --install=check:SELEX.install-out.txt --library=/home/biocbuild/bbs-3.10-bioc/R/library --no-vignettes --timings SELEX_1.18.0.tar.gz ### ############################################################################## ############################################################################## * using log directory ‘/home/biocbuild/bbs-3.10-bioc/meat/SELEX.Rcheck’ * using R version 3.6.3 (2020-02-29) * using platform: x86_64-pc-linux-gnu (64-bit) * using session charset: UTF-8 * using option ‘--no-vignettes’ * checking for file ‘SELEX/DESCRIPTION’ ... OK * this is package ‘SELEX’ version ‘1.18.0’ * checking package namespace information ... OK * checking package dependencies ... OK * checking if this is a source package ... OK * checking if there is a namespace ... OK * checking for hidden files and directories ... OK * checking for portable file names ... OK * checking for sufficient/correct file permissions ... OK * checking whether package ‘SELEX’ can be installed ... OK * checking installed package size ... OK * checking package directory ... OK * checking ‘build’ directory ... OK * checking DESCRIPTION meta-information ... NOTE Malformed Description field: should contain one or more complete sentences. * checking top-level files ... OK * checking for left-over files ... OK * checking index information ... OK * checking package subdirectories ... OK * checking R files for non-ASCII characters ... OK * checking R files for syntax errors ... OK * checking whether the package can be loaded ... OK * checking whether the package can be loaded with stated dependencies ... OK * checking whether the package can be unloaded cleanly ... OK * checking whether the namespace can be loaded with stated dependencies ... OK * checking whether the namespace can be unloaded cleanly ... OK * checking dependencies in R code ... OK * checking S3 generic/method consistency ... OK * checking replacement functions ... OK * checking foreign function calls ... OK * checking R code for possible problems ... NOTE selex.config: no visible global function definition for ‘read.table’ selex.config: no visible global function definition for ‘write.table’ selex.counts: no visible global function definition for ‘flush.console’ selex.infogain: no visible global function definition for ‘flush.console’ selex.kmax: no visible global function definition for ‘flush.console’ selex.loadCountTable: no visible global function definition for ‘flush.console’ selex.mm: no visible global function definition for ‘flush.console’ selex.revcomp: no visible global function definition for ‘complete.cases’ Undefined global functions or variables: complete.cases flush.console read.table write.table Consider adding importFrom("stats", "complete.cases") importFrom("utils", "flush.console", "read.table", "write.table") to your NAMESPACE file. * checking Rd files ... OK * checking Rd metadata ... OK * checking Rd cross-references ... OK * checking for missing documentation entries ... OK * checking for code/documentation mismatches ... OK * checking Rd \usage sections ... OK * checking Rd contents ... OK * checking for unstated dependencies in examples ... OK * checking line endings in Makefiles ... OK * checking for GNU extensions in Makefiles ... OK * checking include directives in Makefiles ... OK * checking files in ‘vignettes’ ... OK * checking examples ... OK Examples with CPU or elapsed time > 5s user system elapsed SELEX 30.940 3.112 15.123 selex.seqfilter 10.532 0.672 4.544 * checking for unstated dependencies in vignettes ... OK * checking package vignettes in ‘inst/doc’ ... OK * checking running R code from vignettes ... SKIPPED * checking re-building of vignette outputs ... SKIPPED * checking PDF version of manual ... OK * DONE Status: 2 NOTEs See ‘/home/biocbuild/bbs-3.10-bioc/meat/SELEX.Rcheck/00check.log’ for details.
SELEX.Rcheck/00install.out
############################################################################## ############################################################################## ### ### Running command: ### ### /home/biocbuild/bbs-3.10-bioc/R/bin/R CMD INSTALL SELEX ### ############################################################################## ############################################################################## * installing to library ‘/home/biocbuild/bbs-3.10-bioc/R/library’ * installing *source* package ‘SELEX’ ... ** using staged installation ** R ** inst ** byte-compile and prepare package for lazy loading ** help *** installing help indices ** building package indices ** installing vignettes ** testing if installed package can be loaded from temporary location ** testing if installed package can be loaded from final location ** testing if installed package keeps a record of temporary installation path * DONE (SELEX)
SELEX.Rcheck/SELEX-Ex.timings
name | user | system | elapsed | |
SELEX | 30.940 | 3.112 | 15.123 | |
selex.affinities | 0.896 | 0.220 | 0.942 | |
selex.config | 0.332 | 0.052 | 0.162 | |
selex.countSummary | 1.096 | 0.248 | 0.901 | |
selex.counts | 1.544 | 0.224 | 1.118 | |
selex.defineSample | 0.260 | 0.056 | 0.152 | |
selex.exampledata | 0.164 | 0.032 | 0.130 | |
selex.fastqPSFM | 0.672 | 0.064 | 0.535 | |
selex.getAttributes | 0.352 | 0.076 | 0.254 | |
selex.getRound0 | 0.172 | 0.100 | 0.279 | |
selex.getSeqfilter | 0.240 | 0.056 | 0.170 | |
selex.infogain | 2.884 | 0.496 | 1.708 | |
selex.infogainSummary | 0.536 | 0.244 | 0.770 | |
selex.jvmStatus | 0.100 | 0.052 | 0.148 | |
selex.kmax | 1.344 | 0.448 | 1.507 | |
selex.kmerPSFM | 0.584 | 0.124 | 0.492 | |
selex.loadAnnotation | 0.480 | 0.044 | 0.264 | |
selex.mm | 0.932 | 0.160 | 0.651 | |
selex.mmProb | 0.412 | 0.208 | 0.587 | |
selex.mmSummary | 0.560 | 0.160 | 0.688 | |
selex.revcomp | 0.800 | 0.172 | 0.815 | |
selex.run | 2.276 | 0.408 | 1.466 | |
selex.sample | 0.248 | 0.072 | 0.283 | |
selex.samplePSFM | 0.508 | 0.076 | 0.424 | |
selex.sampleSummary | 0.168 | 0.084 | 0.223 | |
selex.saveAnnotation | 0.080 | 0.084 | 0.167 | |
selex.seqfilter | 10.532 | 0.672 | 4.544 | |
selex.setwd | 0.096 | 0.024 | 0.107 | |
selex.split | 0.512 | 0.132 | 0.449 | |
selex.summary | 1.256 | 0.412 | 1.479 | |