Back to Multiple platform build/check report for BioC 3.10 |
|
This page was generated on 2020-04-15 12:25:37 -0400 (Wed, 15 Apr 2020).
Package 1608/1823 | Hostname | OS / Arch | INSTALL | BUILD | CHECK | BUILD BIN | ||||||
SISPA 1.16.0 Bhakti Dwivedi
| malbec1 | Linux (Ubuntu 18.04.4 LTS) / x86_64 | OK | OK | WARNINGS | ![]() | ||||||
tokay1 | Windows Server 2012 R2 Standard / x64 | OK | OK | WARNINGS | [ OK ] | ![]() | ||||||
merida1 | OS X 10.11.6 El Capitan / x86_64 | OK | OK | WARNINGS | OK | ![]() |
Package: SISPA |
Version: 1.16.0 |
Command: rm -rf SISPA.buildbin-libdir && mkdir SISPA.buildbin-libdir && C:\Users\biocbuild\bbs-3.10-bioc\R\bin\R.exe CMD INSTALL --merge-multiarch --build --library=SISPA.buildbin-libdir SISPA_1.16.0.tar.gz |
StartedAt: 2020-04-15 09:42:36 -0400 (Wed, 15 Apr 2020) |
EndedAt: 2020-04-15 09:43:07 -0400 (Wed, 15 Apr 2020) |
EllapsedTime: 31.5 seconds |
RetCode: 0 |
Status: OK |
PackageFile: SISPA_1.16.0.zip |
PackageFileSize: 94.34 KiB |
############################################################################## ############################################################################## ### ### Running command: ### ### rm -rf SISPA.buildbin-libdir && mkdir SISPA.buildbin-libdir && C:\Users\biocbuild\bbs-3.10-bioc\R\bin\R.exe CMD INSTALL --merge-multiarch --build --library=SISPA.buildbin-libdir SISPA_1.16.0.tar.gz ### ############################################################################## ############################################################################## install for i386 * installing *source* package 'SISPA' ... ** using staged installation ** R ** data *** moving datasets to lazyload DB ** byte-compile and prepare package for lazy loading ** help *** installing help indices converting help for package 'SISPA' finding HTML links ... done SISPA html callGSVA html callZSCORE html cptSamples html expression_data html filterVars html freqplot html sortData html variant_data html waterfallplot html ** building package indices ** installing vignettes ** testing if installed package can be loaded from temporary location ** testing if installed package can be loaded from final location ** testing if installed package keeps a record of temporary installation path install for x64 * installing *source* package 'SISPA' ... ** testing if installed package can be loaded * MD5 sums packaged installation of 'SISPA' as SISPA_1.16.0.zip * DONE (SISPA)