Back to Multiple platform build/check report for BioC 3.10 |
|
This page was generated on 2020-04-15 12:38:37 -0400 (Wed, 15 Apr 2020).
Package 1640/1823 | Hostname | OS / Arch | INSTALL | BUILD | CHECK | BUILD BIN | ||||||
SPEM 1.26.0 Xinyi YANG
| malbec1 | Linux (Ubuntu 18.04.4 LTS) / x86_64 | OK | OK | OK | ![]() | ||||||
tokay1 | Windows Server 2012 R2 Standard / x64 | OK | OK | OK | OK | ![]() | ||||||
merida1 | OS X 10.11.6 El Capitan / x86_64 | OK | OK | OK | [ OK ] | ![]() |
Package: SPEM |
Version: 1.26.0 |
Command: rm -rf SPEM.buildbin-libdir && mkdir SPEM.buildbin-libdir && /Users/biocbuild/BBS/utils/build-universal.sh SPEM_1.26.0.tar.gz /Library/Frameworks/R.framework/Versions/Current/Resources/bin/R SPEM.buildbin-libdir |
StartedAt: 2020-04-15 08:49:27 -0400 (Wed, 15 Apr 2020) |
EndedAt: 2020-04-15 08:50:38 -0400 (Wed, 15 Apr 2020) |
EllapsedTime: 71.3 seconds |
RetCode: 0 |
Status: OK |
PackageFile: SPEM_1.26.0.tgz |
PackageFileSize: 385.3 KiB |
############################################################################## ############################################################################## ### ### Running command: ### ### rm -rf SPEM.buildbin-libdir && mkdir SPEM.buildbin-libdir && /Users/biocbuild/BBS/utils/build-universal.sh SPEM_1.26.0.tar.gz /Library/Frameworks/R.framework/Versions/Current/Resources/bin/R SPEM.buildbin-libdir ### ############################################################################## ############################################################################## >>>>>>> >>>>>>> INSTALLATION WITH 'R CMD INSTALL --preclean --no-multiarch --library=SPEM.buildbin-libdir SPEM_1.26.0.tar.gz' >>>>>>> * installing *source* package ‘SPEM’ ... ** using staged installation ** R ** data ** inst ** byte-compile and prepare package for lazy loading ** help *** installing help indices ** building package indices ** installing vignettes ** testing if installed package can be loaded from temporary location ** testing if installed package can be loaded from final location ** testing if installed package keeps a record of temporary installation path * DONE (SPEM)