Back to Multiple platform build/check report for BioC 3.10 |
|
This page was generated on 2020-04-15 12:45:54 -0400 (Wed, 15 Apr 2020).
Package 1651/1823 | Hostname | OS / Arch | INSTALL | BUILD | CHECK | BUILD BIN | ||||||
SPONGE 1.8.0 Markus List
| malbec1 | Linux (Ubuntu 18.04.4 LTS) / x86_64 | OK | OK | OK | ![]() | ||||||
tokay1 | Windows Server 2012 R2 Standard / x64 | OK | OK | OK | OK | ![]() | ||||||
merida1 | OS X 10.11.6 El Capitan / x86_64 | OK | OK | OK | [ OK ] | ![]() |
Package: SPONGE |
Version: 1.8.0 |
Command: rm -rf SPONGE.buildbin-libdir && mkdir SPONGE.buildbin-libdir && /Users/biocbuild/BBS/utils/build-universal.sh SPONGE_1.8.0.tar.gz /Library/Frameworks/R.framework/Versions/Current/Resources/bin/R SPONGE.buildbin-libdir |
StartedAt: 2020-04-15 08:50:14 -0400 (Wed, 15 Apr 2020) |
EndedAt: 2020-04-15 08:51:28 -0400 (Wed, 15 Apr 2020) |
EllapsedTime: 73.9 seconds |
RetCode: 0 |
Status: OK |
PackageFile: SPONGE_1.8.0.tgz |
PackageFileSize: 8.587 MiB |
############################################################################## ############################################################################## ### ### Running command: ### ### rm -rf SPONGE.buildbin-libdir && mkdir SPONGE.buildbin-libdir && /Users/biocbuild/BBS/utils/build-universal.sh SPONGE_1.8.0.tar.gz /Library/Frameworks/R.framework/Versions/Current/Resources/bin/R SPONGE.buildbin-libdir ### ############################################################################## ############################################################################## >>>>>>> >>>>>>> INSTALLATION WITH 'R CMD INSTALL --preclean --no-multiarch --library=SPONGE.buildbin-libdir SPONGE_1.8.0.tar.gz' >>>>>>> * installing *source* package ‘SPONGE’ ... ** using staged installation ** R ** data *** moving datasets to lazyload DB ** inst ** byte-compile and prepare package for lazy loading ** help *** installing help indices ** building package indices ** installing vignettes ** testing if installed package can be loaded from temporary location ** testing if installed package can be loaded from final location ** testing if installed package keeps a record of temporary installation path * DONE (SPONGE)