Back to Multiple platform build/check report for BioC 3.10 |
|
This page was generated on 2020-04-15 12:29:24 -0400 (Wed, 15 Apr 2020).
Package 1569/1823 | Hostname | OS / Arch | INSTALL | BUILD | CHECK | BUILD BIN | ||||||
SeqSQC 1.8.1 Qian Liu
| malbec1 | Linux (Ubuntu 18.04.4 LTS) / x86_64 | OK | OK | OK | |||||||
tokay1 | Windows Server 2012 R2 Standard / x64 | [ OK ] | OK | OK | OK | |||||||
merida1 | OS X 10.11.6 El Capitan / x86_64 | OK | OK | OK | OK |
Package: SeqSQC |
Version: 1.8.1 |
Command: C:\cygwin\bin\curl.exe -O https://malbec1.bioconductor.org/BBS/3.10/bioc/src/contrib/SeqSQC_1.8.1.tar.gz && rm -rf SeqSQC.buildbin-libdir && mkdir SeqSQC.buildbin-libdir && C:\Users\biocbuild\bbs-3.10-bioc\R\bin\R.exe CMD INSTALL --merge-multiarch --build --library=SeqSQC.buildbin-libdir SeqSQC_1.8.1.tar.gz && C:\Users\biocbuild\bbs-3.10-bioc\R\bin\R.exe CMD INSTALL SeqSQC_1.8.1.zip && rm SeqSQC_1.8.1.tar.gz SeqSQC_1.8.1.zip |
StartedAt: 2020-04-14 19:32:17 -0400 (Tue, 14 Apr 2020) |
EndedAt: 2020-04-14 19:33:28 -0400 (Tue, 14 Apr 2020) |
EllapsedTime: 71.5 seconds |
RetCode: 0 |
Status: OK |
############################################################################## ############################################################################## ### ### Running command: ### ### C:\cygwin\bin\curl.exe -O https://malbec1.bioconductor.org/BBS/3.10/bioc/src/contrib/SeqSQC_1.8.1.tar.gz && rm -rf SeqSQC.buildbin-libdir && mkdir SeqSQC.buildbin-libdir && C:\Users\biocbuild\bbs-3.10-bioc\R\bin\R.exe CMD INSTALL --merge-multiarch --build --library=SeqSQC.buildbin-libdir SeqSQC_1.8.1.tar.gz && C:\Users\biocbuild\bbs-3.10-bioc\R\bin\R.exe CMD INSTALL SeqSQC_1.8.1.zip && rm SeqSQC_1.8.1.tar.gz SeqSQC_1.8.1.zip ### ############################################################################## ############################################################################## % Total % Received % Xferd Average Speed Time Time Time Current Dload Upload Total Spent Left Speed 0 0 0 0 0 0 0 0 --:--:-- --:--:-- --:--:-- 0 0 3069k 0 0 0 0 0 0 --:--:-- --:--:-- --:--:-- 0 100 3069k 100 3069k 0 0 33.2M 0 --:--:-- --:--:-- --:--:-- 34.4M install for i386 * installing *source* package 'SeqSQC' ... ** using staged installation ** R ** inst ** byte-compile and prepare package for lazy loading ** help *** installing help indices converting help for package 'SeqSQC' finding HTML links ... done CCDS.Hs37.3.reduced_chr1.bed html IBDCheck html IBDRemove html Inbreeding html LoadVfile html MissingRate html PCACheck html RenderReport html SeqOpen html SeqSQC-class html SeqSQC-package html SexCheck html example.gds html example.seqfile.Rdata html example_sub.vcf html plotQC html problemList html sampleAnnotation.txt html sampleQC html ** building package indices ** installing vignettes ** testing if installed package can be loaded from temporary location ** testing if installed package can be loaded from final location ** testing if installed package keeps a record of temporary installation path install for x64 * installing *source* package 'SeqSQC' ... ** testing if installed package can be loaded * MD5 sums packaged installation of 'SeqSQC' as SeqSQC_1.8.1.zip * DONE (SeqSQC) * installing to library 'C:/Users/biocbuild/bbs-3.10-bioc/R/library' package 'SeqSQC' successfully unpacked and MD5 sums checked