Back to Multiple platform build/check report for BioC 3.10 |
|
This page was generated on 2020-04-15 12:21:52 -0400 (Wed, 15 Apr 2020).
Package 1586/1823 | Hostname | OS / Arch | INSTALL | BUILD | CHECK | BUILD BIN | ||||||
SigFuge 1.24.0 Patrick Kimes
| malbec1 | Linux (Ubuntu 18.04.4 LTS) / x86_64 | OK | OK | OK | ![]() | ||||||
tokay1 | Windows Server 2012 R2 Standard / x64 | [ OK ] | OK | OK | OK | ![]() | ||||||
merida1 | OS X 10.11.6 El Capitan / x86_64 | OK | OK | OK | OK | ![]() |
Package: SigFuge |
Version: 1.24.0 |
Command: C:\cygwin\bin\curl.exe -O https://malbec1.bioconductor.org/BBS/3.10/bioc/src/contrib/SigFuge_1.24.0.tar.gz && rm -rf SigFuge.buildbin-libdir && mkdir SigFuge.buildbin-libdir && C:\Users\biocbuild\bbs-3.10-bioc\R\bin\R.exe CMD INSTALL --merge-multiarch --build --library=SigFuge.buildbin-libdir SigFuge_1.24.0.tar.gz && C:\Users\biocbuild\bbs-3.10-bioc\R\bin\R.exe CMD INSTALL SigFuge_1.24.0.zip && rm SigFuge_1.24.0.tar.gz SigFuge_1.24.0.zip |
StartedAt: 2020-04-14 19:29:44 -0400 (Tue, 14 Apr 2020) |
EndedAt: 2020-04-14 19:30:11 -0400 (Tue, 14 Apr 2020) |
EllapsedTime: 26.5 seconds |
RetCode: 0 |
Status: OK |
############################################################################## ############################################################################## ### ### Running command: ### ### C:\cygwin\bin\curl.exe -O https://malbec1.bioconductor.org/BBS/3.10/bioc/src/contrib/SigFuge_1.24.0.tar.gz && rm -rf SigFuge.buildbin-libdir && mkdir SigFuge.buildbin-libdir && C:\Users\biocbuild\bbs-3.10-bioc\R\bin\R.exe CMD INSTALL --merge-multiarch --build --library=SigFuge.buildbin-libdir SigFuge_1.24.0.tar.gz && C:\Users\biocbuild\bbs-3.10-bioc\R\bin\R.exe CMD INSTALL SigFuge_1.24.0.zip && rm SigFuge_1.24.0.tar.gz SigFuge_1.24.0.zip ### ############################################################################## ############################################################################## % Total % Received % Xferd Average Speed Time Time Time Current Dload Upload Total Spent Left Speed 0 0 0 0 0 0 0 0 --:--:-- --:--:-- --:--:-- 0 100 133k 100 133k 0 0 3901k 0 --:--:-- --:--:-- --:--:-- 4451k install for i386 * installing *source* package 'SigFuge' ... ** using staged installation ** R ** data ** byte-compile and prepare package for lazy loading ** help *** installing help indices converting help for package 'SigFuge' finding HTML links ... done SFfigure html SFlabels html SFnormalize html SFpval html finding level-2 HTML links ... done SigFuge-package html geneAnnot html geneDepth html ** building package indices ** installing vignettes ** testing if installed package can be loaded from temporary location ** testing if installed package can be loaded from final location ** testing if installed package keeps a record of temporary installation path install for x64 * installing *source* package 'SigFuge' ... ** testing if installed package can be loaded * MD5 sums packaged installation of 'SigFuge' as SigFuge_1.24.0.zip * DONE (SigFuge) * installing to library 'C:/Users/biocbuild/bbs-3.10-bioc/R/library' package 'SigFuge' successfully unpacked and MD5 sums checked