Back to Multiple platform build/check report for BioC 3.10 |
|
This page was generated on 2020-04-15 12:32:57 -0400 (Wed, 15 Apr 2020).
Package 1593/1823 | Hostname | OS / Arch | INSTALL | BUILD | CHECK | BUILD BIN | ||||||
SigsPack 1.0.0 Franziska Schumann
| malbec1 | Linux (Ubuntu 18.04.4 LTS) / x86_64 | OK | OK | OK | ![]() | ||||||
tokay1 | Windows Server 2012 R2 Standard / x64 | [ OK ] | OK | OK | OK | ![]() | ||||||
merida1 | OS X 10.11.6 El Capitan / x86_64 | OK | OK | OK | OK | ![]() |
Package: SigsPack |
Version: 1.0.0 |
Command: C:\cygwin\bin\curl.exe -O https://malbec1.bioconductor.org/BBS/3.10/bioc/src/contrib/SigsPack_1.0.0.tar.gz && rm -rf SigsPack.buildbin-libdir && mkdir SigsPack.buildbin-libdir && C:\Users\biocbuild\bbs-3.10-bioc\R\bin\R.exe CMD INSTALL --merge-multiarch --build --library=SigsPack.buildbin-libdir SigsPack_1.0.0.tar.gz && C:\Users\biocbuild\bbs-3.10-bioc\R\bin\R.exe CMD INSTALL SigsPack_1.0.0.zip && rm SigsPack_1.0.0.tar.gz SigsPack_1.0.0.zip |
StartedAt: 2020-04-14 19:59:47 -0400 (Tue, 14 Apr 2020) |
EndedAt: 2020-04-14 20:00:03 -0400 (Tue, 14 Apr 2020) |
EllapsedTime: 16.2 seconds |
RetCode: 0 |
Status: OK |
############################################################################## ############################################################################## ### ### Running command: ### ### C:\cygwin\bin\curl.exe -O https://malbec1.bioconductor.org/BBS/3.10/bioc/src/contrib/SigsPack_1.0.0.tar.gz && rm -rf SigsPack.buildbin-libdir && mkdir SigsPack.buildbin-libdir && C:\Users\biocbuild\bbs-3.10-bioc\R\bin\R.exe CMD INSTALL --merge-multiarch --build --library=SigsPack.buildbin-libdir SigsPack_1.0.0.tar.gz && C:\Users\biocbuild\bbs-3.10-bioc\R\bin\R.exe CMD INSTALL SigsPack_1.0.0.zip && rm SigsPack_1.0.0.tar.gz SigsPack_1.0.0.zip ### ############################################################################## ############################################################################## % Total % Received % Xferd Average Speed Time Time Time Current Dload Upload Total Spent Left Speed 0 0 0 0 0 0 0 0 --:--:-- --:--:-- --:--:-- 0 100 432k 100 432k 0 0 3371k 0 --:--:-- --:--:-- --:--:-- 3488k install for i386 * installing *source* package 'SigsPack' ... ** using staged installation ** R ** data *** moving datasets to lazyload DB ** inst ** byte-compile and prepare package for lazy loading ** help *** installing help indices converting help for package 'SigsPack' finding HTML links ... done bootstrap_mut_catalogues html cosmicSigs html create_mut_catalogues html decomposeQP html get_context_freq html hg19context_freq html normalize html plot_bootstrapped_exposure html sigProfiler20190522 html sigProfilerExome html signature_exposure html summarize_exposures html vcf2mut_cat html ** building package indices ** installing vignettes ** testing if installed package can be loaded from temporary location ** testing if installed package can be loaded from final location ** testing if installed package keeps a record of temporary installation path install for x64 * installing *source* package 'SigsPack' ... ** testing if installed package can be loaded * MD5 sums packaged installation of 'SigsPack' as SigsPack_1.0.0.zip * DONE (SigsPack) * installing to library 'C:/Users/biocbuild/bbs-3.10-bioc/R/library' package 'SigsPack' successfully unpacked and MD5 sums checked