Back to Multiple platform build/check report for BioC 3.10 |
|
This page was generated on 2020-04-15 12:33:13 -0400 (Wed, 15 Apr 2020).
Package 1632/1823 | Hostname | OS / Arch | INSTALL | BUILD | CHECK | BUILD BIN | ||||||
Spaniel 1.0.0 Rachel Queen
| malbec1 | Linux (Ubuntu 18.04.4 LTS) / x86_64 | OK | OK | OK | |||||||
tokay1 | Windows Server 2012 R2 Standard / x64 | OK | OK | OK | [ OK ] | |||||||
merida1 | OS X 10.11.6 El Capitan / x86_64 | OK | OK | OK | OK |
Package: Spaniel |
Version: 1.0.0 |
Command: rm -rf Spaniel.buildbin-libdir && mkdir Spaniel.buildbin-libdir && C:\Users\biocbuild\bbs-3.10-bioc\R\bin\R.exe CMD INSTALL --merge-multiarch --build --library=Spaniel.buildbin-libdir Spaniel_1.0.0.tar.gz |
StartedAt: 2020-04-15 09:43:56 -0400 (Wed, 15 Apr 2020) |
EndedAt: 2020-04-15 09:45:06 -0400 (Wed, 15 Apr 2020) |
EllapsedTime: 70.1 seconds |
RetCode: 0 |
Status: OK |
PackageFile: Spaniel_1.0.0.zip |
PackageFileSize: 3.533 MiB |
############################################################################## ############################################################################## ### ### Running command: ### ### rm -rf Spaniel.buildbin-libdir && mkdir Spaniel.buildbin-libdir && C:\Users\biocbuild\bbs-3.10-bioc\R\bin\R.exe CMD INSTALL --merge-multiarch --build --library=Spaniel.buildbin-libdir Spaniel_1.0.0.tar.gz ### ############################################################################## ############################################################################## install for i386 * installing *source* package 'Spaniel' ... ** using staged installation ** R ** inst ** byte-compile and prepare package for lazy loading ** help *** installing help indices converting help for package 'Spaniel' finding HTML links ... done createSCE html createSeurat html markClusterCol html parseImage html removeSpots html runShinySpaniel html selectSpots html spanielPlot html ** building package indices ** installing vignettes ** testing if installed package can be loaded from temporary location ** testing if installed package can be loaded from final location ** testing if installed package keeps a record of temporary installation path install for x64 * installing *source* package 'Spaniel' ... ** testing if installed package can be loaded * MD5 sums packaged installation of 'Spaniel' as Spaniel_1.0.0.zip * DONE (Spaniel)