Back to Multiple platform build/check report for BioC 3.10 |
|
This page was generated on 2020-04-15 12:20:04 -0400 (Wed, 15 Apr 2020).
Package 1677/1823 | Hostname | OS / Arch | INSTALL | BUILD | CHECK | BUILD BIN | ||||||
Streamer 1.32.1 Martin Morgan
| malbec1 | Linux (Ubuntu 18.04.4 LTS) / x86_64 | OK | OK | OK | |||||||
tokay1 | Windows Server 2012 R2 Standard / x64 | OK | [ OK ] | OK | OK | |||||||
merida1 | OS X 10.11.6 El Capitan / x86_64 | OK | OK | OK | OK |
Package: Streamer |
Version: 1.32.1 |
Command: chmod a+r Streamer -R && C:\Users\biocbuild\bbs-3.10-bioc\R\bin\R.exe CMD build --keep-empty-dirs --no-resave-data Streamer |
StartedAt: 2020-04-14 21:19:01 -0400 (Tue, 14 Apr 2020) |
EndedAt: 2020-04-14 21:19:25 -0400 (Tue, 14 Apr 2020) |
EllapsedTime: 24.2 seconds |
RetCode: 0 |
Status: OK |
PackageFile: Streamer_1.32.1.tar.gz |
PackageFileSize: 176.6 KiB |
############################################################################## ############################################################################## ### ### Running command: ### ### chmod a+r Streamer -R && C:\Users\biocbuild\bbs-3.10-bioc\R\bin\R.exe CMD build --keep-empty-dirs --no-resave-data Streamer ### ############################################################################## ############################################################################## * checking for file 'Streamer/DESCRIPTION' ... OK * preparing 'Streamer': * checking DESCRIPTION meta-information ... OK * cleaning src * installing the package to build vignettes * creating vignettes ... OK * cleaning src * checking for LF line-endings in source and make files and shell scripts * checking for empty or unneeded directories * building 'Streamer_1.32.1.tar.gz'