Back to Multiple platform build/check report for BioC 3.10 |
|
This page was generated on 2020-03-18 12:49:22 -0400 (Wed, 18 Mar 2020).
Package 1773/1823 | Hostname | OS / Arch | INSTALL | BUILD | CHECK | BUILD BIN | ||||||
TxRegInfra 1.6.0 VJ Carey
| malbec1 | Linux (Ubuntu 18.04.4 LTS) / x86_64 | OK | OK | OK | ![]() | ||||||
tokay1 | Windows Server 2012 R2 Standard / x64 | OK | OK | OK | OK | ![]() | ||||||
merida1 | OS X 10.11.6 El Capitan / x86_64 | OK | OK | ERROR | [ OK ] |
Package: TxRegInfra |
Version: 1.6.0 |
Command: rm -rf TxRegInfra.buildbin-libdir && mkdir TxRegInfra.buildbin-libdir && /Users/biocbuild/BBS/utils/build-universal.sh TxRegInfra_1.6.0.tar.gz /Library/Frameworks/R.framework/Versions/Current/Resources/bin/R TxRegInfra.buildbin-libdir |
StartedAt: 2020-03-18 09:10:15 -0400 (Wed, 18 Mar 2020) |
EndedAt: 2020-03-18 09:11:10 -0400 (Wed, 18 Mar 2020) |
EllapsedTime: 54.9 seconds |
RetCode: 0 |
Status: OK |
PackageFile: TxRegInfra_1.6.0.tgz |
PackageFileSize: 1.007 MiB |
############################################################################## ############################################################################## ### ### Running command: ### ### rm -rf TxRegInfra.buildbin-libdir && mkdir TxRegInfra.buildbin-libdir && /Users/biocbuild/BBS/utils/build-universal.sh TxRegInfra_1.6.0.tar.gz /Library/Frameworks/R.framework/Versions/Current/Resources/bin/R TxRegInfra.buildbin-libdir ### ############################################################################## ############################################################################## >>>>>>> >>>>>>> INSTALLATION WITH 'R CMD INSTALL --preclean --no-multiarch --library=TxRegInfra.buildbin-libdir TxRegInfra_1.6.0.tar.gz' >>>>>>> * installing *source* package ‘TxRegInfra’ ... ** using staged installation ** R ** data *** moving datasets to lazyload DB ** inst ** byte-compile and prepare package for lazy loading ** help *** installing help indices ** building package indices ** installing vignettes ** testing if installed package can be loaded from temporary location ** testing if installed package can be loaded from final location ** testing if installed package keeps a record of temporary installation path * DONE (TxRegInfra)