Back to Multiple platform build/check report for BioC 3.10 |
|
This page was generated on 2020-04-15 12:30:39 -0400 (Wed, 15 Apr 2020).
Package 1775/1823 | Hostname | OS / Arch | INSTALL | BUILD | CHECK | BUILD BIN | ||||||
Ularcirc 1.4.0 David Humphreys
| malbec1 | Linux (Ubuntu 18.04.4 LTS) / x86_64 | OK | OK | OK | |||||||
tokay1 | Windows Server 2012 R2 Standard / x64 | OK | OK | OK | [ OK ] | |||||||
merida1 | OS X 10.11.6 El Capitan / x86_64 | OK | OK | OK | OK |
Package: Ularcirc |
Version: 1.4.0 |
Command: rm -rf Ularcirc.buildbin-libdir && mkdir Ularcirc.buildbin-libdir && C:\Users\biocbuild\bbs-3.10-bioc\R\bin\R.exe CMD INSTALL --merge-multiarch --build --library=Ularcirc.buildbin-libdir Ularcirc_1.4.0.tar.gz |
StartedAt: 2020-04-15 09:52:11 -0400 (Wed, 15 Apr 2020) |
EndedAt: 2020-04-15 09:53:02 -0400 (Wed, 15 Apr 2020) |
EllapsedTime: 51.0 seconds |
RetCode: 0 |
Status: OK |
PackageFile: Ularcirc_1.4.0.zip |
PackageFileSize: 4.787 MiB |
############################################################################## ############################################################################## ### ### Running command: ### ### rm -rf Ularcirc.buildbin-libdir && mkdir Ularcirc.buildbin-libdir && C:\Users\biocbuild\bbs-3.10-bioc\R\bin\R.exe CMD INSTALL --merge-multiarch --build --library=Ularcirc.buildbin-libdir Ularcirc_1.4.0.tar.gz ### ############################################################################## ############################################################################## install for i386 * installing *source* package 'Ularcirc' ... ** using staged installation ** R ** inst ** byte-compile and prepare package for lazy loading ** help *** installing help indices converting help for package 'Ularcirc' finding HTML links ... done Compatible_Annotation_DBs html Ularcirc html bsj_fastq_generate html bsj_to_circRNA_sequence html ** building package indices ** installing vignettes ** testing if installed package can be loaded from temporary location ** testing if installed package can be loaded from final location ** testing if installed package keeps a record of temporary installation path install for x64 * installing *source* package 'Ularcirc' ... ** testing if installed package can be loaded * MD5 sums packaged installation of 'Ularcirc' as Ularcirc_1.4.0.zip * DONE (Ularcirc)