Back to Multiple platform build/check report for BioC 3.10 |
|
This page was generated on 2020-04-15 12:49:52 -0400 (Wed, 15 Apr 2020).
Package 1785/1823 | Hostname | OS / Arch | INSTALL | BUILD | CHECK | BUILD BIN | ||||||
VariantExperiment 1.0.0 Qian Liu
| malbec1 | Linux (Ubuntu 18.04.4 LTS) / x86_64 | OK | OK | OK | |||||||
tokay1 | Windows Server 2012 R2 Standard / x64 | OK | OK | OK | OK | |||||||
merida1 | OS X 10.11.6 El Capitan / x86_64 | OK | OK | OK | [ OK ] |
Package: VariantExperiment |
Version: 1.0.0 |
Command: rm -rf VariantExperiment.buildbin-libdir && mkdir VariantExperiment.buildbin-libdir && /Users/biocbuild/BBS/utils/build-universal.sh VariantExperiment_1.0.0.tar.gz /Library/Frameworks/R.framework/Versions/Current/Resources/bin/R VariantExperiment.buildbin-libdir |
StartedAt: 2020-04-15 09:03:42 -0400 (Wed, 15 Apr 2020) |
EndedAt: 2020-04-15 09:04:32 -0400 (Wed, 15 Apr 2020) |
EllapsedTime: 49.8 seconds |
RetCode: 0 |
Status: OK |
PackageFile: VariantExperiment_1.0.0.tgz |
PackageFileSize: 715.1 KiB |
############################################################################## ############################################################################## ### ### Running command: ### ### rm -rf VariantExperiment.buildbin-libdir && mkdir VariantExperiment.buildbin-libdir && /Users/biocbuild/BBS/utils/build-universal.sh VariantExperiment_1.0.0.tar.gz /Library/Frameworks/R.framework/Versions/Current/Resources/bin/R VariantExperiment.buildbin-libdir ### ############################################################################## ############################################################################## >>>>>>> >>>>>>> INSTALLATION WITH 'R CMD INSTALL --preclean --no-multiarch --library=VariantExperiment.buildbin-libdir VariantExperiment_1.0.0.tar.gz' >>>>>>> * installing *source* package ‘VariantExperiment’ ... ** using staged installation ** R ** inst ** byte-compile and prepare package for lazy loading Creating a new generic function for ‘seqAlleleFreq’ in package ‘VariantExperiment’ Creating a new generic function for ‘seqAlleleCount’ in package ‘VariantExperiment’ Creating a new generic function for ‘seqMissing’ in package ‘VariantExperiment’ ** help *** installing help indices ** building package indices ** installing vignettes ** testing if installed package can be loaded from temporary location ** testing if installed package can be loaded from final location ** testing if installed package keeps a record of temporary installation path * DONE (VariantExperiment)