Back to Multiple platform build/check report for BioC 3.10 |
|
This page was generated on 2020-04-15 12:38:14 -0400 (Wed, 15 Apr 2020).
Package 1787/1823 | Hostname | OS / Arch | INSTALL | BUILD | CHECK | BUILD BIN | ||||||
VariantTools 1.28.1 Michael Lawrence
| malbec1 | Linux (Ubuntu 18.04.4 LTS) / x86_64 | OK | OK | WARNINGS | ![]() | ||||||
tokay1 | Windows Server 2012 R2 Standard / x64 | OK | OK | WARNINGS | OK | ![]() | ||||||
merida1 | OS X 10.11.6 El Capitan / x86_64 | OK | OK | WARNINGS | [ OK ] | ![]() |
Package: VariantTools |
Version: 1.28.1 |
Command: rm -rf VariantTools.buildbin-libdir && mkdir VariantTools.buildbin-libdir && /Users/biocbuild/BBS/utils/build-universal.sh VariantTools_1.28.1.tar.gz /Library/Frameworks/R.framework/Versions/Current/Resources/bin/R VariantTools.buildbin-libdir |
StartedAt: 2020-04-15 09:03:51 -0400 (Wed, 15 Apr 2020) |
EndedAt: 2020-04-15 09:04:37 -0400 (Wed, 15 Apr 2020) |
EllapsedTime: 45.6 seconds |
RetCode: 0 |
Status: OK |
PackageFile: VariantTools_1.28.1.tgz |
PackageFileSize: 6.254 MiB |
############################################################################## ############################################################################## ### ### Running command: ### ### rm -rf VariantTools.buildbin-libdir && mkdir VariantTools.buildbin-libdir && /Users/biocbuild/BBS/utils/build-universal.sh VariantTools_1.28.1.tar.gz /Library/Frameworks/R.framework/Versions/Current/Resources/bin/R VariantTools.buildbin-libdir ### ############################################################################## ############################################################################## >>>>>>> >>>>>>> INSTALLATION WITH 'R CMD INSTALL --preclean --no-multiarch --library=VariantTools.buildbin-libdir VariantTools_1.28.1.tar.gz' >>>>>>> * installing *source* package ‘VariantTools’ ... ** using staged installation ** R ** data ** inst ** byte-compile and prepare package for lazy loading ** help *** installing help indices ** building package indices ** installing vignettes ** testing if installed package can be loaded from temporary location ** testing if installed package can be loaded from final location ** testing if installed package keeps a record of temporary installation path * DONE (VariantTools)