Back to Multiple platform build/check report for BioC 3.10 |
|
This page was generated on 2020-04-15 12:25:08 -0400 (Wed, 15 Apr 2020).
Package 1808/1823 | Hostname | OS / Arch | INSTALL | BUILD | CHECK | BUILD BIN | ||||||
XBSeq 1.18.0 Yuanhang Liu
| malbec1 | Linux (Ubuntu 18.04.4 LTS) / x86_64 | OK | OK | OK | |||||||
tokay1 | Windows Server 2012 R2 Standard / x64 | OK | OK | OK | [ OK ] | |||||||
merida1 | OS X 10.11.6 El Capitan / x86_64 | OK | OK | OK | OK |
Package: XBSeq |
Version: 1.18.0 |
Command: rm -rf XBSeq.buildbin-libdir && mkdir XBSeq.buildbin-libdir && C:\Users\biocbuild\bbs-3.10-bioc\R\bin\R.exe CMD INSTALL --merge-multiarch --build --library=XBSeq.buildbin-libdir XBSeq_1.18.0.tar.gz |
StartedAt: 2020-04-15 09:54:02 -0400 (Wed, 15 Apr 2020) |
EndedAt: 2020-04-15 09:55:01 -0400 (Wed, 15 Apr 2020) |
EllapsedTime: 59.4 seconds |
RetCode: 0 |
Status: OK |
PackageFile: XBSeq_1.18.0.zip |
PackageFileSize: 1.114 MiB |
############################################################################## ############################################################################## ### ### Running command: ### ### rm -rf XBSeq.buildbin-libdir && mkdir XBSeq.buildbin-libdir && C:\Users\biocbuild\bbs-3.10-bioc\R\bin\R.exe CMD INSTALL --merge-multiarch --build --library=XBSeq.buildbin-libdir XBSeq_1.18.0.tar.gz ### ############################################################################## ############################################################################## install for i386 * installing *source* package 'XBSeq' ... ** using staged installation ** R ** data ** inst ** byte-compile and prepare package for lazy loading ** help *** installing help indices converting help for package 'XBSeq' finding HTML links ... done ExampleData html MAplot html XBSeq-package html XBSeq html XBSeqDataSet-class html finding level-2 HTML links ... done XBSeqTest html XBplot html apaUsage html conditions html counts html dispEst html dispTable html estimateRealCount html estimateSCV html fitInfo html getSignalVars html plotSCVEsts html ** building package indices ** installing vignettes ** testing if installed package can be loaded from temporary location ** testing if installed package can be loaded from final location ** testing if installed package keeps a record of temporary installation path install for x64 * installing *source* package 'XBSeq' ... ** testing if installed package can be loaded * MD5 sums packaged installation of 'XBSeq' as XBSeq_1.18.0.zip * DONE (XBSeq)