Back to Multiple platform build/check report for BioC 3.10 |
|
This page was generated on 2020-04-15 12:34:01 -0400 (Wed, 15 Apr 2020).
Package 48/1823 | Hostname | OS / Arch | INSTALL | BUILD | CHECK | BUILD BIN | ||||||
altcdfenvs 2.48.0 Laurent Gautier
| malbec1 | Linux (Ubuntu 18.04.4 LTS) / x86_64 | OK | OK | OK | |||||||
tokay1 | Windows Server 2012 R2 Standard / x64 | OK | OK | OK | OK | |||||||
merida1 | OS X 10.11.6 El Capitan / x86_64 | OK | OK | OK | [ OK ] |
Package: altcdfenvs |
Version: 2.48.0 |
Command: rm -rf altcdfenvs.buildbin-libdir && mkdir altcdfenvs.buildbin-libdir && /Users/biocbuild/BBS/utils/build-universal.sh altcdfenvs_2.48.0.tar.gz /Library/Frameworks/R.framework/Versions/Current/Resources/bin/R altcdfenvs.buildbin-libdir |
StartedAt: 2020-04-15 06:48:19 -0400 (Wed, 15 Apr 2020) |
EndedAt: 2020-04-15 06:48:52 -0400 (Wed, 15 Apr 2020) |
EllapsedTime: 33.3 seconds |
RetCode: 0 |
Status: OK |
PackageFile: altcdfenvs_2.48.0.tgz |
PackageFileSize: 727.2 KiB |
############################################################################## ############################################################################## ### ### Running command: ### ### rm -rf altcdfenvs.buildbin-libdir && mkdir altcdfenvs.buildbin-libdir && /Users/biocbuild/BBS/utils/build-universal.sh altcdfenvs_2.48.0.tar.gz /Library/Frameworks/R.framework/Versions/Current/Resources/bin/R altcdfenvs.buildbin-libdir ### ############################################################################## ############################################################################## >>>>>>> >>>>>>> INSTALLATION WITH 'R CMD INSTALL --preclean --no-multiarch --library=altcdfenvs.buildbin-libdir altcdfenvs_2.48.0.tar.gz' >>>>>>> * installing *source* package ‘altcdfenvs’ ... ** using staged installation ** R ** data ** inst ** byte-compile and prepare package for lazy loading NOTE: arguments in definition for validity method for class 'AffyProbesMatch' changed from (obj) to (object) in method for ‘toHypergraph’ with signature ‘"CdfEnvAffy"’: no definition for class “CdfEnvAffy” ** help *** installing help indices ** building package indices ** installing vignettes ** testing if installed package can be loaded from temporary location ** testing if installed package can be loaded from final location ** testing if installed package keeps a record of temporary installation path * DONE (altcdfenvs)