Back to Multiple platform build/check report for BioC 3.10 |
|
This page was generated on 2019-09-05 12:37:29 -0400 (Thu, 05 Sep 2019).
Package 52/1766 | Hostname | OS / Arch | INSTALL | BUILD | CHECK | BUILD BIN | ||||||
anamiR 1.13.0 Ti-Tai Wang
| malbec1 | Linux (Ubuntu 18.04.2 LTS) / x86_64 | OK | OK | OK | ![]() | ||||||
tokay1 | Windows Server 2012 R2 Standard / x64 | OK | OK | OK | [ OK ] | ![]() | ||||||
merida1 | OS X 10.11.6 El Capitan / x86_64 | OK | OK | OK | OK | ![]() |
Package: anamiR |
Version: 1.13.0 |
Command: rm -rf anamiR.buildbin-libdir && mkdir anamiR.buildbin-libdir && C:\Users\biocbuild\bbs-3.10-bioc\R\bin\R.exe CMD INSTALL --merge-multiarch --build --library=anamiR.buildbin-libdir anamiR_1.13.0.tar.gz |
StartedAt: 2019-09-05 07:27:01 -0400 (Thu, 05 Sep 2019) |
EndedAt: 2019-09-05 07:28:18 -0400 (Thu, 05 Sep 2019) |
EllapsedTime: 77.0 seconds |
RetCode: 0 |
Status: OK |
PackageFile: anamiR_1.13.0.zip |
PackageFileSize: 11.22 MiB |
############################################################################## ############################################################################## ### ### Running command: ### ### rm -rf anamiR.buildbin-libdir && mkdir anamiR.buildbin-libdir && C:\Users\biocbuild\bbs-3.10-bioc\R\bin\R.exe CMD INSTALL --merge-multiarch --build --library=anamiR.buildbin-libdir anamiR_1.13.0.tar.gz ### ############################################################################## ############################################################################## install for i386 * installing *source* package 'anamiR' ... ** using staged installation ** R ** data *** moving datasets to lazyload DB ** inst ** byte-compile and prepare package for lazy loading ** help *** installing help indices converting help for package 'anamiR' finding HTML links ... done GSEA_ana html GSEA_res html anamiR html database_support html differExp_continuous html differExp_discrete html egSymb html enrichment html heat_vis html miR_converter html mirna html mrna html msigdb.gs html multi_Differ html negative_cor html normalization html pheno.mirna html pheno.mrna html table_pre html ** building package indices ** installing vignettes ** testing if installed package can be loaded from temporary location ** testing if installed package can be loaded from final location ** testing if installed package keeps a record of temporary installation path install for x64 * installing *source* package 'anamiR' ... ** testing if installed package can be loaded * MD5 sums packaged installation of 'anamiR' as anamiR_1.13.0.zip * DONE (anamiR)