Back to Multiple platform build/check report for BioC 3.10 |
|
This page was generated on 2020-04-15 12:33:51 -0400 (Wed, 15 Apr 2020).
Package 58/1823 | Hostname | OS / Arch | INSTALL | BUILD | CHECK | BUILD BIN | ||||||
annaffy 1.58.0 Colin A. Smith
| malbec1 | Linux (Ubuntu 18.04.4 LTS) / x86_64 | OK | OK | OK | ![]() | ||||||
tokay1 | Windows Server 2012 R2 Standard / x64 | OK | OK | OK | OK | ![]() | ||||||
merida1 | OS X 10.11.6 El Capitan / x86_64 | OK | OK | OK | [ OK ] | ![]() |
Package: annaffy |
Version: 1.58.0 |
Command: rm -rf annaffy.buildbin-libdir && mkdir annaffy.buildbin-libdir && /Users/biocbuild/BBS/utils/build-universal.sh annaffy_1.58.0.tar.gz /Library/Frameworks/R.framework/Versions/Current/Resources/bin/R annaffy.buildbin-libdir |
StartedAt: 2020-04-15 06:48:52 -0400 (Wed, 15 Apr 2020) |
EndedAt: 2020-04-15 06:49:43 -0400 (Wed, 15 Apr 2020) |
EllapsedTime: 50.8 seconds |
RetCode: 0 |
Status: OK |
PackageFile: annaffy_1.58.0.tgz |
PackageFileSize: 519.5 KiB |
############################################################################## ############################################################################## ### ### Running command: ### ### rm -rf annaffy.buildbin-libdir && mkdir annaffy.buildbin-libdir && /Users/biocbuild/BBS/utils/build-universal.sh annaffy_1.58.0.tar.gz /Library/Frameworks/R.framework/Versions/Current/Resources/bin/R annaffy.buildbin-libdir ### ############################################################################## ############################################################################## >>>>>>> >>>>>>> INSTALLATION WITH 'R CMD INSTALL --preclean --no-multiarch --library=annaffy.buildbin-libdir annaffy_1.58.0.tar.gz' >>>>>>> * installing *source* package ‘annaffy’ ... ** using staged installation ** R ** data ** inst ** byte-compile and prepare package for lazy loading ** help *** installing help indices ** building package indices ** installing vignettes ** testing if installed package can be loaded from temporary location ** testing if installed package can be loaded from final location ** testing if installed package keeps a record of temporary installation path * DONE (annaffy)