Back to Multiple platform build/check report for BioC 3.10 |
|
This page was generated on 2020-04-15 12:30:48 -0400 (Wed, 15 Apr 2020).
Package 75/1823 | Hostname | OS / Arch | INSTALL | BUILD | CHECK | BUILD BIN | ||||||
appreci8R 1.4.0 Sarah Sandmann
| malbec1 | Linux (Ubuntu 18.04.4 LTS) / x86_64 | OK | OK | OK | ![]() | ||||||
tokay1 | Windows Server 2012 R2 Standard / x64 | OK | OK | OK | [ OK ] | ![]() | ||||||
merida1 | OS X 10.11.6 El Capitan / x86_64 | OK | OK | OK | OK | ![]() |
Package: appreci8R |
Version: 1.4.0 |
Command: rm -rf appreci8R.buildbin-libdir && mkdir appreci8R.buildbin-libdir && C:\Users\biocbuild\bbs-3.10-bioc\R\bin\R.exe CMD INSTALL --merge-multiarch --build --library=appreci8R.buildbin-libdir appreci8R_1.4.0.tar.gz |
StartedAt: 2020-04-15 08:11:22 -0400 (Wed, 15 Apr 2020) |
EndedAt: 2020-04-15 08:14:12 -0400 (Wed, 15 Apr 2020) |
EllapsedTime: 170.0 seconds |
RetCode: 0 |
Status: OK |
PackageFile: appreci8R_1.4.0.zip |
PackageFileSize: 1.429 MiB |
############################################################################## ############################################################################## ### ### Running command: ### ### rm -rf appreci8R.buildbin-libdir && mkdir appreci8R.buildbin-libdir && C:\Users\biocbuild\bbs-3.10-bioc\R\bin\R.exe CMD INSTALL --merge-multiarch --build --library=appreci8R.buildbin-libdir appreci8R_1.4.0.tar.gz ### ############################################################################## ############################################################################## install for i386 * installing *source* package 'appreci8R' ... ** using staged installation ** R ** inst ** byte-compile and prepare package for lazy loading ** help *** installing help indices converting help for package 'appreci8R' finding HTML links ... done annotate html appreci8R-package html appreci8Rshiny html combineOutput html determineCharacteristics html evaluateCovAndBQ html filterTarget html finalFiltration html normalize html ** building package indices ** installing vignettes ** testing if installed package can be loaded from temporary location ** testing if installed package can be loaded from final location ** testing if installed package keeps a record of temporary installation path install for x64 * installing *source* package 'appreci8R' ... ** testing if installed package can be loaded * MD5 sums packaged installation of 'appreci8R' as appreci8R_1.4.0.zip * DONE (appreci8R)