Back to Multiple platform build/check report for BioC 3.10 |
|
This page was generated on 2020-04-15 12:24:36 -0400 (Wed, 15 Apr 2020).
Package 108/1823 | Hostname | OS / Arch | INSTALL | BUILD | CHECK | BUILD BIN | ||||||
bamsignals 1.18.0 Johannes Helmuth
| malbec1 | Linux (Ubuntu 18.04.4 LTS) / x86_64 | OK | OK | OK | ![]() | ||||||
tokay1 | Windows Server 2012 R2 Standard / x64 | [ OK ] | OK | OK | OK | ![]() | ||||||
merida1 | OS X 10.11.6 El Capitan / x86_64 | OK | OK | OK | OK | ![]() |
Package: bamsignals |
Version: 1.18.0 |
Command: C:\cygwin\bin\curl.exe -O https://malbec1.bioconductor.org/BBS/3.10/bioc/src/contrib/bamsignals_1.18.0.tar.gz && rm -rf bamsignals.buildbin-libdir && mkdir bamsignals.buildbin-libdir && C:\Users\biocbuild\bbs-3.10-bioc\R\bin\R.exe CMD INSTALL --merge-multiarch --build --library=bamsignals.buildbin-libdir bamsignals_1.18.0.tar.gz && C:\Users\biocbuild\bbs-3.10-bioc\R\bin\R.exe CMD INSTALL bamsignals_1.18.0.zip && rm bamsignals_1.18.0.tar.gz bamsignals_1.18.0.zip |
StartedAt: 2020-04-14 19:30:16 -0400 (Tue, 14 Apr 2020) |
EndedAt: 2020-04-14 19:31:43 -0400 (Tue, 14 Apr 2020) |
EllapsedTime: 86.5 seconds |
RetCode: 0 |
Status: OK |
############################################################################## ############################################################################## ### ### Running command: ### ### C:\cygwin\bin\curl.exe -O https://malbec1.bioconductor.org/BBS/3.10/bioc/src/contrib/bamsignals_1.18.0.tar.gz && rm -rf bamsignals.buildbin-libdir && mkdir bamsignals.buildbin-libdir && C:\Users\biocbuild\bbs-3.10-bioc\R\bin\R.exe CMD INSTALL --merge-multiarch --build --library=bamsignals.buildbin-libdir bamsignals_1.18.0.tar.gz && C:\Users\biocbuild\bbs-3.10-bioc\R\bin\R.exe CMD INSTALL bamsignals_1.18.0.zip && rm bamsignals_1.18.0.tar.gz bamsignals_1.18.0.zip ### ############################################################################## ############################################################################## % Total % Received % Xferd Average Speed Time Time Time Current Dload Upload Total Spent Left Speed 0 0 0 0 0 0 0 0 --:--:-- --:--:-- --:--:-- 0 100 2366k 100 2366k 0 0 35.5M 0 --:--:-- --:--:-- --:--:-- 37.8M install for i386 * installing *source* package 'bamsignals' ... ** using staged installation ** libs C:/Rtools/mingw_32/bin/g++ -std=gnu++11 -I"C:/Users/BIOCBU~1/BBS-3~1.10-/R/include" -DNDEBUG -I"C:/Users/biocbuild/bbs-3.10-bioc/R/library/Rcpp/include" -I"C:/Users/biocbuild/bbs-3.10-bioc/R/library/Rhtslib/include" -I"C:/Users/biocbuild/bbs-3.10-bioc/R/library/zlibbioc/include" -I"C:/extsoft/include" -O2 -Wall -mtune=core2 -c CountSignals.cpp -o CountSignals.o C:/Rtools/mingw_32/bin/g++ -std=gnu++11 -I"C:/Users/BIOCBU~1/BBS-3~1.10-/R/include" -DNDEBUG -I"C:/Users/biocbuild/bbs-3.10-bioc/R/library/Rcpp/include" -I"C:/Users/biocbuild/bbs-3.10-bioc/R/library/Rhtslib/include" -I"C:/Users/biocbuild/bbs-3.10-bioc/R/library/zlibbioc/include" -I"C:/extsoft/include" -O2 -Wall -mtune=core2 -c RcppExports.cpp -o RcppExports.o C:/Rtools/mingw_32/bin/g++ -std=gnu++11 -I"C:/Users/BIOCBU~1/BBS-3~1.10-/R/include" -DNDEBUG -I"C:/Users/biocbuild/bbs-3.10-bioc/R/library/Rcpp/include" -I"C:/Users/biocbuild/bbs-3.10-bioc/R/library/Rhtslib/include" -I"C:/Users/biocbuild/bbs-3.10-bioc/R/library/zlibbioc/include" -I"C:/extsoft/include" -O2 -Wall -mtune=core2 -c bamsignals.cpp -o bamsignals.o bamsignals.cpp: In function 'bool writeSamAsBamAndIndex(const string&, const string&)': bamsignals.cpp:499:9: warning: variable 'iorval' set but not used [-Wunused-but-set-variable] int iorval; ^ C:/Rtools/mingw_32/bin/gcc -I"C:/Users/BIOCBU~1/BBS-3~1.10-/R/include" -DNDEBUG -I"C:/Users/biocbuild/bbs-3.10-bioc/R/library/Rcpp/include" -I"C:/Users/biocbuild/bbs-3.10-bioc/R/library/Rhtslib/include" -I"C:/Users/biocbuild/bbs-3.10-bioc/R/library/zlibbioc/include" -I"C:/extsoft/include" -O3 -Wall -std=gnu99 -mtune=core2 -c bamsignals_init.c -o bamsignals_init.o C:/Rtools/mingw_32/bin/g++ -std=gnu++11 -shared -s -static-libgcc -o bamsignals.dll tmp.def CountSignals.o RcppExports.o bamsignals.o bamsignals_init.o C:/Users/biocbuild/bbs-3.10-bioc/R/library/Rhtslib/usrlib/i386/libhts.a -LC:/extsoft/lib/i386 -lcurl -lrtmp -lssl -lssh2 -lcrypto -lgdi32 -lz -lws2_32 -lwldap32 -lwinmm -lidn -LC:/extsoft/lib/i386 -LC:/extsoft/lib -LC:/Users/BIOCBU~1/BBS-3~1.10-/R/bin/i386 -lR installing to C:/Users/biocbuild/bbs-3.10-bioc/meat/bamsignals.buildbin-libdir/00LOCK-bamsignals/00new/bamsignals/libs/i386 ** R ** inst ** byte-compile and prepare package for lazy loading ** help *** installing help indices converting help for package 'bamsignals' finding HTML links ... done CountSignals-class html as.list.CountSignals html bamsignals-methods html bamsignals html ** building package indices ** installing vignettes ** testing if installed package can be loaded from temporary location ** testing if installed package can be loaded from final location ** testing if installed package keeps a record of temporary installation path install for x64 * installing *source* package 'bamsignals' ... ** libs C:/Rtools/mingw_64/bin/g++ -std=gnu++11 -I"C:/Users/BIOCBU~1/BBS-3~1.10-/R/include" -DNDEBUG -I"C:/Users/biocbuild/bbs-3.10-bioc/R/library/Rcpp/include" -I"C:/Users/biocbuild/bbs-3.10-bioc/R/library/Rhtslib/include" -I"C:/Users/biocbuild/bbs-3.10-bioc/R/library/zlibbioc/include" -I"C:/extsoft/include" -O2 -Wall -mtune=core2 -c CountSignals.cpp -o CountSignals.o C:/Rtools/mingw_64/bin/g++ -std=gnu++11 -I"C:/Users/BIOCBU~1/BBS-3~1.10-/R/include" -DNDEBUG -I"C:/Users/biocbuild/bbs-3.10-bioc/R/library/Rcpp/include" -I"C:/Users/biocbuild/bbs-3.10-bioc/R/library/Rhtslib/include" -I"C:/Users/biocbuild/bbs-3.10-bioc/R/library/zlibbioc/include" -I"C:/extsoft/include" -O2 -Wall -mtune=core2 -c RcppExports.cpp -o RcppExports.o C:/Rtools/mingw_64/bin/g++ -std=gnu++11 -I"C:/Users/BIOCBU~1/BBS-3~1.10-/R/include" -DNDEBUG -I"C:/Users/biocbuild/bbs-3.10-bioc/R/library/Rcpp/include" -I"C:/Users/biocbuild/bbs-3.10-bioc/R/library/Rhtslib/include" -I"C:/Users/biocbuild/bbs-3.10-bioc/R/library/zlibbioc/include" -I"C:/extsoft/include" -O2 -Wall -mtune=core2 -c bamsignals.cpp -o bamsignals.o bamsignals.cpp: In function 'bool writeSamAsBamAndIndex(const string&, const string&)': bamsignals.cpp:499:9: warning: variable 'iorval' set but not used [-Wunused-but-set-variable] int iorval; ^ C:/Rtools/mingw_64/bin/gcc -I"C:/Users/BIOCBU~1/BBS-3~1.10-/R/include" -DNDEBUG -I"C:/Users/biocbuild/bbs-3.10-bioc/R/library/Rcpp/include" -I"C:/Users/biocbuild/bbs-3.10-bioc/R/library/Rhtslib/include" -I"C:/Users/biocbuild/bbs-3.10-bioc/R/library/zlibbioc/include" -I"C:/extsoft/include" -O2 -Wall -std=gnu99 -mtune=core2 -c bamsignals_init.c -o bamsignals_init.o C:/Rtools/mingw_64/bin/g++ -std=gnu++11 -shared -s -static-libgcc -o bamsignals.dll tmp.def CountSignals.o RcppExports.o bamsignals.o bamsignals_init.o C:/Users/biocbuild/bbs-3.10-bioc/R/library/Rhtslib/usrlib/x64/libhts.a -LC:/extsoft/lib/x64 -lcurl -lrtmp -lssl -lssh2 -lcrypto -lgdi32 -lz -lws2_32 -lwldap32 -lwinmm -LC:/extsoft/lib/x64 -LC:/extsoft/lib -LC:/Users/BIOCBU~1/BBS-3~1.10-/R/bin/x64 -lR installing to C:/Users/biocbuild/bbs-3.10-bioc/meat/bamsignals.buildbin-libdir/bamsignals/libs/x64 ** testing if installed package can be loaded * MD5 sums packaged installation of 'bamsignals' as bamsignals_1.18.0.zip * DONE (bamsignals) * installing to library 'C:/Users/biocbuild/bbs-3.10-bioc/R/library' package 'bamsignals' successfully unpacked and MD5 sums checked