Back to Multiple platform build/check report for BioC 3.10 |
|
This page was generated on 2020-04-15 12:31:44 -0400 (Wed, 15 Apr 2020).
Package 143/1823 | Hostname | OS / Arch | INSTALL | BUILD | CHECK | BUILD BIN | ||||||
bigPint 1.2.2 Lindsay Rutter
| malbec1 | Linux (Ubuntu 18.04.4 LTS) / x86_64 | OK | OK | OK | |||||||
tokay1 | Windows Server 2012 R2 Standard / x64 | [ OK ] | OK | OK | OK | |||||||
merida1 | OS X 10.11.6 El Capitan / x86_64 | OK | OK | OK | OK |
Package: bigPint |
Version: 1.2.2 |
Command: C:\cygwin\bin\curl.exe -O https://malbec1.bioconductor.org/BBS/3.10/bioc/src/contrib/bigPint_1.2.2.tar.gz && rm -rf bigPint.buildbin-libdir && mkdir bigPint.buildbin-libdir && C:\Users\biocbuild\bbs-3.10-bioc\R\bin\R.exe CMD INSTALL --merge-multiarch --build --library=bigPint.buildbin-libdir bigPint_1.2.2.tar.gz && C:\Users\biocbuild\bbs-3.10-bioc\R\bin\R.exe CMD INSTALL bigPint_1.2.2.zip && rm bigPint_1.2.2.tar.gz bigPint_1.2.2.zip |
StartedAt: 2020-04-14 19:26:19 -0400 (Tue, 14 Apr 2020) |
EndedAt: 2020-04-14 19:28:43 -0400 (Tue, 14 Apr 2020) |
EllapsedTime: 143.2 seconds |
RetCode: 0 |
Status: OK |
############################################################################## ############################################################################## ### ### Running command: ### ### C:\cygwin\bin\curl.exe -O https://malbec1.bioconductor.org/BBS/3.10/bioc/src/contrib/bigPint_1.2.2.tar.gz && rm -rf bigPint.buildbin-libdir && mkdir bigPint.buildbin-libdir && C:\Users\biocbuild\bbs-3.10-bioc\R\bin\R.exe CMD INSTALL --merge-multiarch --build --library=bigPint.buildbin-libdir bigPint_1.2.2.tar.gz && C:\Users\biocbuild\bbs-3.10-bioc\R\bin\R.exe CMD INSTALL bigPint_1.2.2.zip && rm bigPint_1.2.2.tar.gz bigPint_1.2.2.zip ### ############################################################################## ############################################################################## % Total % Received % Xferd Average Speed Time Time Time Current Dload Upload Total Spent Left Speed 0 0 0 0 0 0 0 0 --:--:-- --:--:-- --:--:-- 0 70 47.9M 70 33.6M 0 0 96.7M 0 --:--:-- --:--:-- --:--:-- 97.4M 100 47.9M 100 47.9M 0 0 100M 0 --:--:-- --:--:-- --:--:-- 101M install for i386 * installing *source* package 'bigPint' ... ** using staged installation ** R ** data *** moving datasets to lazyload DB ** inst ** byte-compile and prepare package for lazy loading ** help *** installing help indices converting help for package 'bigPint' finding HTML links ... done bigPint html plotClusters html plotLitre html plotLitreApp html plotPCP html plotPCPApp html plotSM html plotSMApp html plotVolcano html plotVolcanoApp html soybean_cn html soybean_cn_metrics html soybean_cn_sub html soybean_cn_sub_metrics html soybean_ir html soybean_ir_metrics html soybean_ir_sub html soybean_ir_sub_metrics html *** copying figures ** building package indices ** installing vignettes ** testing if installed package can be loaded from temporary location ** testing if installed package can be loaded from final location ** testing if installed package keeps a record of temporary installation path install for x64 * installing *source* package 'bigPint' ... ** testing if installed package can be loaded * MD5 sums packaged installation of 'bigPint' as bigPint_1.2.2.zip * DONE (bigPint) * installing to library 'C:/Users/biocbuild/bbs-3.10-bioc/R/library' package 'bigPint' successfully unpacked and MD5 sums checked