Back to Multiple platform build/check report for BioC 3.10 |
|
This page was generated on 2020-04-15 12:26:14 -0400 (Wed, 15 Apr 2020).
Package 175/1823 | Hostname | OS / Arch | INSTALL | BUILD | CHECK | BUILD BIN | ||||||
biosigner 1.14.4 Philippe Rinaudo
| malbec1 | Linux (Ubuntu 18.04.4 LTS) / x86_64 | OK | OK | OK | |||||||
tokay1 | Windows Server 2012 R2 Standard / x64 | OK | OK | OK | [ OK ] | |||||||
merida1 | OS X 10.11.6 El Capitan / x86_64 | OK | OK | OK | OK |
Package: biosigner |
Version: 1.14.4 |
Command: rm -rf biosigner.buildbin-libdir && mkdir biosigner.buildbin-libdir && C:\Users\biocbuild\bbs-3.10-bioc\R\bin\R.exe CMD INSTALL --merge-multiarch --build --library=biosigner.buildbin-libdir biosigner_1.14.4.tar.gz |
StartedAt: 2020-04-15 08:17:52 -0400 (Wed, 15 Apr 2020) |
EndedAt: 2020-04-15 08:18:32 -0400 (Wed, 15 Apr 2020) |
EllapsedTime: 40.8 seconds |
RetCode: 0 |
Status: OK |
PackageFile: biosigner_1.14.4.zip |
PackageFileSize: 3.415 MiB |
############################################################################## ############################################################################## ### ### Running command: ### ### rm -rf biosigner.buildbin-libdir && mkdir biosigner.buildbin-libdir && C:\Users\biocbuild\bbs-3.10-bioc\R\bin\R.exe CMD INSTALL --merge-multiarch --build --library=biosigner.buildbin-libdir biosigner_1.14.4.tar.gz ### ############################################################################## ############################################################################## install for i386 * installing *source* package 'biosigner' ... ** using staged installation ** R ** data ** inst ** byte-compile and prepare package for lazy loading in method for 'biosign' with signature 'x="MultiDataSet"': no definition for class "MultiDataSet" ** help *** installing help indices converting help for package 'biosigner' finding HTML links ... done biosign-class html biosign html biosignMultiDataSet-class html biosigner-package html diaplasma html getAccuracyMN html getEset html getMset html getSignatureLs html plot html predict html show html ** building package indices ** installing vignettes ** testing if installed package can be loaded from temporary location ** testing if installed package can be loaded from final location ** testing if installed package keeps a record of temporary installation path install for x64 * installing *source* package 'biosigner' ... ** testing if installed package can be loaded * MD5 sums packaged installation of 'biosigner' as biosigner_1.14.4.zip * DONE (biosigner)