Back to Multiple platform build/check report for BioC 3.10 |
|
This page was generated on 2020-04-15 12:07:26 -0400 (Wed, 15 Apr 2020).
Package 227/1823 | Hostname | OS / Arch | INSTALL | BUILD | CHECK | BUILD BIN | ||||||
casper 2.20.0 David Rossell
| malbec1 | Linux (Ubuntu 18.04.4 LTS) / x86_64 | OK | OK | [ OK ] | |||||||
tokay1 | Windows Server 2012 R2 Standard / x64 | OK | OK | OK | OK | |||||||
merida1 | OS X 10.11.6 El Capitan / x86_64 | OK | OK | WARNINGS | OK |
Package: casper |
Version: 2.20.0 |
Command: /home/biocbuild/bbs-3.10-bioc/R/bin/R CMD check --install=check:casper.install-out.txt --library=/home/biocbuild/bbs-3.10-bioc/R/library --no-vignettes --timings casper_2.20.0.tar.gz |
StartedAt: 2020-04-15 01:33:32 -0400 (Wed, 15 Apr 2020) |
EndedAt: 2020-04-15 01:38:22 -0400 (Wed, 15 Apr 2020) |
EllapsedTime: 289.5 seconds |
RetCode: 0 |
Status: OK |
CheckDir: casper.Rcheck |
Warnings: 0 |
############################################################################## ############################################################################## ### ### Running command: ### ### /home/biocbuild/bbs-3.10-bioc/R/bin/R CMD check --install=check:casper.install-out.txt --library=/home/biocbuild/bbs-3.10-bioc/R/library --no-vignettes --timings casper_2.20.0.tar.gz ### ############################################################################## ############################################################################## * using log directory ‘/home/biocbuild/bbs-3.10-bioc/meat/casper.Rcheck’ * using R version 3.6.3 (2020-02-29) * using platform: x86_64-pc-linux-gnu (64-bit) * using session charset: UTF-8 * using option ‘--no-vignettes’ * checking for file ‘casper/DESCRIPTION’ ... OK * this is package ‘casper’ version ‘2.20.0’ * checking package namespace information ... OK * checking package dependencies ... OK * checking if this is a source package ... OK * checking if there is a namespace ... OK * checking for hidden files and directories ... OK * checking for portable file names ... OK * checking for sufficient/correct file permissions ... OK * checking whether package ‘casper’ can be installed ... OK * checking installed package size ... NOTE installed size is 6.6Mb sub-directories of 1Mb or more: data 1.8Mb libs 3.2Mb * checking package directory ... OK * checking ‘build’ directory ... OK * checking DESCRIPTION meta-information ... OK * checking top-level files ... OK * checking for left-over files ... OK * checking index information ... OK * checking package subdirectories ... OK * checking R files for non-ASCII characters ... OK * checking R files for syntax errors ... OK * checking whether the package can be loaded ... OK * checking whether the package can be loaded with stated dependencies ... OK * checking whether the package can be unloaded cleanly ... OK * checking whether the namespace can be loaded with stated dependencies ... OK * checking whether the namespace can be unloaded cleanly ... OK * checking dependencies in R code ... OK * checking S3 generic/method consistency ... OK * checking replacement functions ... OK * checking foreign function calls ... OK * checking R code for possible problems ... NOTE .mergeFramesViaRanges: no visible global function definition for ‘queryHits’ .mergeFramesViaRanges: no visible global function definition for ‘subjectHits’ assignExons2GeneF: no visible global function definition for ‘queryHits’ assignExons2GeneF: no visible global function definition for ‘subjectHits’ findNewExonsF: no visible global function definition for ‘queryHits’ generateNOexons: no visible global function definition for ‘queryHits’ generateNOexons: no visible global function definition for ‘subjectHits’ getDistrsFromBam: no visible global function definition for ‘subjectHits’ getDistrsFromBam: no visible global function definition for ‘queryHits’ getDistrsFrompBam: no visible global function definition for ‘subjectHits’ getDistrsFrompBam: no visible global function definition for ‘queryHits’ procPaths: no visible global function definition for ‘queryHits’ procPaths: no visible global function definition for ‘subjectHits’ Undefined global functions or variables: queryHits subjectHits * checking Rd files ... OK * checking Rd metadata ... OK * checking Rd cross-references ... OK * checking for missing documentation entries ... OK * checking for code/documentation mismatches ... OK * checking Rd \usage sections ... OK * checking Rd contents ... OK * checking for unstated dependencies in examples ... OK * checking contents of ‘data’ directory ... OK * checking data for non-ASCII characters ... OK * checking data for ASCII and uncompressed saves ... OK * checking line endings in C/C++/Fortran sources/headers ... OK * checking compiled code ... OK * checking installed files from ‘inst/doc’ ... OK * checking files in ‘vignettes’ ... OK * checking examples ... OK * checking for unstated dependencies in vignettes ... OK * checking package vignettes in ‘inst/doc’ ... OK * checking running R code from vignettes ... SKIPPED * checking re-building of vignette outputs ... SKIPPED * checking PDF version of manual ... OK * DONE Status: 2 NOTEs See ‘/home/biocbuild/bbs-3.10-bioc/meat/casper.Rcheck/00check.log’ for details.
casper.Rcheck/00install.out
############################################################################## ############################################################################## ### ### Running command: ### ### /home/biocbuild/bbs-3.10-bioc/R/bin/R CMD INSTALL casper ### ############################################################################## ############################################################################## * installing to library ‘/home/biocbuild/bbs-3.10-bioc/R/library’ * installing *source* package ‘casper’ ... ** using staged installation ** libs g++ -std=gnu++11 -I"/home/biocbuild/bbs-3.10-bioc/R/include" -DNDEBUG -I/usr/local/include -fpic -g -O2 -Wall -c casper.cpp -o casper.o g++ -std=gnu++11 -I"/home/biocbuild/bbs-3.10-bioc/R/include" -DNDEBUG -I/usr/local/include -fpic -g -O2 -Wall -c cstat.cpp -o cstat.o g++ -std=gnu++11 -I"/home/biocbuild/bbs-3.10-bioc/R/include" -DNDEBUG -I/usr/local/include -fpic -g -O2 -Wall -c dataframe.cpp -o dataframe.o g++ -std=gnu++11 -I"/home/biocbuild/bbs-3.10-bioc/R/include" -DNDEBUG -I/usr/local/include -fpic -g -O2 -Wall -c discretedf.cpp -o discretedf.o g++ -std=gnu++11 -I"/home/biocbuild/bbs-3.10-bioc/R/include" -DNDEBUG -I/usr/local/include -fpic -g -O2 -Wall -c dropVariant.cpp -o dropVariant.o g++ -std=gnu++11 -I"/home/biocbuild/bbs-3.10-bioc/R/include" -DNDEBUG -I/usr/local/include -fpic -g -O2 -Wall -c exon.cpp -o exon.o gcc -I"/home/biocbuild/bbs-3.10-bioc/R/include" -DNDEBUG -I/usr/local/include -fpic -g -O2 -Wall -c fragFunc.c -o fragFunc.o g++ -std=gnu++11 -I"/home/biocbuild/bbs-3.10-bioc/R/include" -DNDEBUG -I/usr/local/include -fpic -g -O2 -Wall -c fragment.cpp -o fragment.o gcc -I"/home/biocbuild/bbs-3.10-bioc/R/include" -DNDEBUG -I/usr/local/include -fpic -g -O2 -Wall -c functions.c -o functions.o gcc -I"/home/biocbuild/bbs-3.10-bioc/R/include" -DNDEBUG -I/usr/local/include -fpic -g -O2 -Wall -c hash.c -o hash.o gcc -I"/home/biocbuild/bbs-3.10-bioc/R/include" -DNDEBUG -I/usr/local/include -fpic -g -O2 -Wall -c join_exons.c -o join_exons.o gcc -I"/home/biocbuild/bbs-3.10-bioc/R/include" -DNDEBUG -I/usr/local/include -fpic -g -O2 -Wall -c makeIslands.c -o makeIslands.o g++ -std=gnu++11 -I"/home/biocbuild/bbs-3.10-bioc/R/include" -DNDEBUG -I/usr/local/include -fpic -g -O2 -Wall -c model.cpp -o model.o g++ -std=gnu++11 -I"/home/biocbuild/bbs-3.10-bioc/R/include" -DNDEBUG -I/usr/local/include -fpic -g -O2 -Wall -c model_cmp.cpp -o model_cmp.o gcc -I"/home/biocbuild/bbs-3.10-bioc/R/include" -DNDEBUG -I/usr/local/include -fpic -g -O2 -Wall -c pathCounts.c -o pathCounts.o gcc -I"/home/biocbuild/bbs-3.10-bioc/R/include" -DNDEBUG -I/usr/local/include -fpic -g -O2 -Wall -c procBam.c -o procBam.o g++ -std=gnu++11 -I"/home/biocbuild/bbs-3.10-bioc/R/include" -DNDEBUG -I/usr/local/include -fpic -g -O2 -Wall -c rcasper.cpp -o rcasper.o g++ -std=gnu++11 -I"/home/biocbuild/bbs-3.10-bioc/R/include" -DNDEBUG -I/usr/local/include -fpic -g -O2 -Wall -c seppel.cpp -o seppel.o gcc -I"/home/biocbuild/bbs-3.10-bioc/R/include" -DNDEBUG -I/usr/local/include -fpic -g -O2 -Wall -c simReads.c -o simReads.o gcc -I"/home/biocbuild/bbs-3.10-bioc/R/include" -DNDEBUG -I/usr/local/include -fpic -g -O2 -Wall -c simReadsfunc.c -o simReadsfunc.o g++ -std=gnu++11 -I"/home/biocbuild/bbs-3.10-bioc/R/include" -DNDEBUG -I/usr/local/include -fpic -g -O2 -Wall -c smartmodeldist.cpp -o smartmodeldist.o gcc -I"/home/biocbuild/bbs-3.10-bioc/R/include" -DNDEBUG -I/usr/local/include -fpic -g -O2 -Wall -c uniqQname.c -o uniqQname.o g++ -std=gnu++11 -I"/home/biocbuild/bbs-3.10-bioc/R/include" -DNDEBUG -I/usr/local/include -fpic -g -O2 -Wall -c variant.cpp -o variant.o g++ -std=gnu++11 -I"/home/biocbuild/bbs-3.10-bioc/R/include" -DNDEBUG -I/usr/local/include -fpic -g -O2 -Wall -c variant_cmp.cpp -o variant_cmp.o g++ -std=gnu++11 -shared -L/home/biocbuild/bbs-3.10-bioc/R/lib -L/usr/local/lib -o casper.so casper.o cstat.o dataframe.o discretedf.o dropVariant.o exon.o fragFunc.o fragment.o functions.o hash.o join_exons.o makeIslands.o model.o model_cmp.o pathCounts.o procBam.o rcasper.o seppel.o simReads.o simReadsfunc.o smartmodeldist.o uniqQname.o variant.o variant_cmp.o -L/home/biocbuild/bbs-3.10-bioc/R/lib -lR installing to /home/biocbuild/bbs-3.10-bioc/R/library/00LOCK-casper/00new/casper/libs ** R ** data ** inst ** byte-compile and prepare package for lazy loading Creating a new generic function for ‘transcripts’ in package ‘casper’ ** help *** installing help indices ** building package indices ** installing vignettes ‘casper.Rnw’ ** testing if installed package can be loaded from temporary location ** checking absolute paths in shared objects and dynamic libraries ** testing if installed package can be loaded from final location ** testing if installed package keeps a record of temporary installation path * DONE (casper)
casper.Rcheck/casper-Ex.timings
name | user | system | elapsed | |
K562.r1l1 | 0.272 | 0.044 | 0.319 | |
annotatedGenome-class | 0.000 | 0.000 | 0.001 | |
asymmetryCheck | 0.016 | 0.000 | 0.017 | |
calcDenovo | 0 | 0 | 0 | |
calcExp | 3.492 | 0.120 | 3.621 | |
denovoExpr | 4.028 | 0.188 | 4.237 | |
denovoGeneExpr-class | 0.000 | 0.000 | 0.001 | |
denovoGenomeExpr-class | 0 | 0 | 0 | |
distrsGSE37704 | 0.192 | 0.004 | 0.198 | |
genePlot | 0.376 | 0.000 | 0.377 | |
getDistrs | 0.516 | 0.032 | 0.552 | |
getIsland | 0.132 | 0.000 | 0.133 | |
getNreads | 0.004 | 0.000 | 0.000 | |
getReads | 0 | 0 | 0 | |
getRoc | 0 | 0 | 0 | |
hg19DB | 0.132 | 0.000 | 0.132 | |
mergeBatches | 0.152 | 0.000 | 0.151 | |
mergeExp | 0 | 0 | 0 | |
modelPrior | 0.572 | 0.004 | 0.593 | |
modelPriorAS-class | 0 | 0 | 0 | |
pathCounts-class | 0.000 | 0.000 | 0.001 | |
pathCounts | 0.000 | 0.000 | 0.001 | |
plot-methods | 0.000 | 0.000 | 0.001 | |
plotExpr | 0 | 0 | 0 | |
plotPriorAS | 0 | 0 | 0 | |
probNonEquiv | 0.164 | 0.000 | 0.166 | |
procBam-class | 0.004 | 0.000 | 0.001 | |
procBam | 0 | 0 | 0 | |
procGenome | 0 | 0 | 0 | |
qqnormGenomeWide | 0.092 | 0.004 | 0.095 | |
quantileNorm | 0.016 | 0.000 | 0.016 | |
relexprByGene | 0 | 0 | 0 | |
rmShortInserts | 0 | 0 | 0 | |
simMAE | 0 | 0 | 0 | |
simMAEcheck | 0 | 0 | 0 | |
simMultSamples | 0 | 0 | 0 | |
simReads | 0.648 | 0.028 | 0.677 | |
simulatedSamples-class | 0.000 | 0.000 | 0.001 | |
splitGenomeByLength | 0.000 | 0.000 | 0.001 | |
transcripts | 0.268 | 0.000 | 0.268 | |
wrapDenovo | 0 | 0 | 0 | |
wrapKnown | 0 | 0 | 0 | |