Back to Multiple platform build/check report for BioC 3.10 |
|
This page was generated on 2020-04-15 12:28:22 -0400 (Wed, 15 Apr 2020).
Package 239/1823 | Hostname | OS / Arch | INSTALL | BUILD | CHECK | BUILD BIN | ||||||
cellbaseR 1.10.0 Mohammed OE Abdallah
| malbec1 | Linux (Ubuntu 18.04.4 LTS) / x86_64 | OK | OK | OK | ![]() | ||||||
tokay1 | Windows Server 2012 R2 Standard / x64 | [ OK ] | OK | WARNINGS | OK | ![]() | ||||||
merida1 | OS X 10.11.6 El Capitan / x86_64 | OK | OK | ERROR | OK |
Package: cellbaseR |
Version: 1.10.0 |
Command: C:\cygwin\bin\curl.exe -O https://malbec1.bioconductor.org/BBS/3.10/bioc/src/contrib/cellbaseR_1.10.0.tar.gz && rm -rf cellbaseR.buildbin-libdir && mkdir cellbaseR.buildbin-libdir && C:\Users\biocbuild\bbs-3.10-bioc\R\bin\R.exe CMD INSTALL --merge-multiarch --build --library=cellbaseR.buildbin-libdir cellbaseR_1.10.0.tar.gz && C:\Users\biocbuild\bbs-3.10-bioc\R\bin\R.exe CMD INSTALL cellbaseR_1.10.0.zip && rm cellbaseR_1.10.0.tar.gz cellbaseR_1.10.0.zip |
StartedAt: 2020-04-14 19:33:41 -0400 (Tue, 14 Apr 2020) |
EndedAt: 2020-04-14 19:34:23 -0400 (Tue, 14 Apr 2020) |
EllapsedTime: 42.9 seconds |
RetCode: 0 |
Status: OK |
############################################################################## ############################################################################## ### ### Running command: ### ### C:\cygwin\bin\curl.exe -O https://malbec1.bioconductor.org/BBS/3.10/bioc/src/contrib/cellbaseR_1.10.0.tar.gz && rm -rf cellbaseR.buildbin-libdir && mkdir cellbaseR.buildbin-libdir && C:\Users\biocbuild\bbs-3.10-bioc\R\bin\R.exe CMD INSTALL --merge-multiarch --build --library=cellbaseR.buildbin-libdir cellbaseR_1.10.0.tar.gz && C:\Users\biocbuild\bbs-3.10-bioc\R\bin\R.exe CMD INSTALL cellbaseR_1.10.0.zip && rm cellbaseR_1.10.0.tar.gz cellbaseR_1.10.0.zip ### ############################################################################## ############################################################################## % Total % Received % Xferd Average Speed Time Time Time Current Dload Upload Total Spent Left Speed 0 0 0 0 0 0 0 0 --:--:-- --:--:-- --:--:-- 0 100 738k 100 738k 0 0 11.3M 0 --:--:-- --:--:-- --:--:-- 12.0M install for i386 * installing *source* package 'cellbaseR' ... ** using staged installation ** R ** inst ** byte-compile and prepare package for lazy loading ** help *** installing help indices converting help for package 'cellbaseR' finding HTML links ... done AnnotateVcf-CellBaseR-method html CellBaseParam-class html CellBaseParam html CellBaseR-class html CellBaseR html cellbaseR-package html createGeneModel html Rd warning: C:/Users/biocbuild/bbs-3.10-bioc/tmpdir/RtmpAdVgDL/R.INSTALL1b901205eb9/cellbaseR/man/createGeneModel.Rd:23: file link 'GeneRegionTrack' in package 'Gviz' does not exist and so has been treated as a topic getCaddScores html getCellBase-CellBaseR-method html getCellBaseResourceHelp html getChromosomeInfo-CellBaseR-method html getClinical-CellBaseR-method html getClinicalByGene html getClinicalByRegion html getConservationByRegion html getGene-CellBaseR-method html getGeneInfo html getMeta-CellBaseR-method html getProtein-CellBaseR-method html getProteinInfo html getRegion-CellBaseR-method html getRegulatoryByRegion html getSnp-CellBaseR-method html getSnpByGene html getTf-CellBaseR-method html getTfbsByRegion html getTranscript-CellBaseR-method html getTranscriptByGene html getVariant-CellBaseR-method html getVariantAnnotation html getXref-CellBaseR-method html ** building package indices ** installing vignettes ** testing if installed package can be loaded from temporary location ** testing if installed package can be loaded from final location ** testing if installed package keeps a record of temporary installation path install for x64 * installing *source* package 'cellbaseR' ... ** testing if installed package can be loaded * MD5 sums packaged installation of 'cellbaseR' as cellbaseR_1.10.0.zip * DONE (cellbaseR) * installing to library 'C:/Users/biocbuild/bbs-3.10-bioc/R/library' package 'cellbaseR' successfully unpacked and MD5 sums checked