Back to Multiple platform build/check report for BioC 3.10 |
|
This page was generated on 2020-04-15 12:39:12 -0400 (Wed, 15 Apr 2020).
Package 272/1823 | Hostname | OS / Arch | INSTALL | BUILD | CHECK | BUILD BIN | ||||||
chipenrich 2.10.0 Raymond G. Cavalcante
| malbec1 | Linux (Ubuntu 18.04.4 LTS) / x86_64 | OK | OK | OK | ![]() | ||||||
tokay1 | Windows Server 2012 R2 Standard / x64 | OK | OK | OK | OK | ![]() | ||||||
merida1 | OS X 10.11.6 El Capitan / x86_64 | OK | OK | [ OK ] | OK | ![]() |
Package: chipenrich |
Version: 2.10.0 |
Command: /Library/Frameworks/R.framework/Versions/Current/Resources/bin/R CMD check --install=check:chipenrich.install-out.txt --library=/Library/Frameworks/R.framework/Versions/Current/Resources/library --no-vignettes --timings chipenrich_2.10.0.tar.gz |
StartedAt: 2020-04-15 01:06:29 -0400 (Wed, 15 Apr 2020) |
EndedAt: 2020-04-15 01:15:10 -0400 (Wed, 15 Apr 2020) |
EllapsedTime: 520.8 seconds |
RetCode: 0 |
Status: OK |
CheckDir: chipenrich.Rcheck |
Warnings: 0 |
############################################################################## ############################################################################## ### ### Running command: ### ### /Library/Frameworks/R.framework/Versions/Current/Resources/bin/R CMD check --install=check:chipenrich.install-out.txt --library=/Library/Frameworks/R.framework/Versions/Current/Resources/library --no-vignettes --timings chipenrich_2.10.0.tar.gz ### ############################################################################## ############################################################################## * using log directory ‘/Users/biocbuild/bbs-3.10-bioc/meat/chipenrich.Rcheck’ * using R version 3.6.3 (2020-02-29) * using platform: x86_64-apple-darwin15.6.0 (64-bit) * using session charset: UTF-8 * using option ‘--no-vignettes’ * checking for file ‘chipenrich/DESCRIPTION’ ... OK * checking extension type ... Package * this is package ‘chipenrich’ version ‘2.10.0’ * checking package namespace information ... OK * checking package dependencies ... OK * checking if this is a source package ... OK * checking if there is a namespace ... OK * checking for hidden files and directories ... OK * checking for portable file names ... OK * checking for sufficient/correct file permissions ... OK * checking whether package ‘chipenrich’ can be installed ... OK * checking installed package size ... OK * checking package directory ... OK * checking ‘build’ directory ... OK * checking DESCRIPTION meta-information ... OK * checking top-level files ... OK * checking for left-over files ... OK * checking index information ... OK * checking package subdirectories ... OK * checking R files for non-ASCII characters ... OK * checking R files for syntax errors ... OK * checking whether the package can be loaded ... OK * checking whether the package can be loaded with stated dependencies ... OK * checking whether the package can be unloaded cleanly ... OK * checking whether the namespace can be loaded with stated dependencies ... OK * checking whether the namespace can be unloaded cleanly ... OK * checking dependencies in R code ... OK * checking S3 generic/method consistency ... OK * checking replacement functions ... OK * checking foreign function calls ... OK * checking R code for possible problems ... NOTE proxReg: no visible global function definition for ‘lm’ Undefined global functions or variables: lm Consider adding importFrom("stats", "lm") to your NAMESPACE file. * checking Rd files ... OK * checking Rd metadata ... OK * checking Rd cross-references ... OK * checking for missing documentation entries ... OK * checking for code/documentation mismatches ... OK * checking Rd \usage sections ... OK * checking Rd contents ... OK * checking for unstated dependencies in examples ... OK * checking files in ‘vignettes’ ... OK * checking examples ... OK Examples with CPU or elapsed time > 5s user system elapsed polyenrich 8.905 0.573 9.554 broadenrich 8.261 0.699 9.035 * checking for unstated dependencies in ‘tests’ ... OK * checking tests ... Running ‘testthat.R’ OK * checking for unstated dependencies in vignettes ... OK * checking package vignettes in ‘inst/doc’ ... OK * checking running R code from vignettes ... SKIPPED * checking re-building of vignette outputs ... SKIPPED * checking PDF version of manual ... OK * DONE Status: 1 NOTE See ‘/Users/biocbuild/bbs-3.10-bioc/meat/chipenrich.Rcheck/00check.log’ for details.
chipenrich.Rcheck/00install.out
############################################################################## ############################################################################## ### ### Running command: ### ### /Library/Frameworks/R.framework/Versions/Current/Resources/bin/R CMD INSTALL chipenrich ### ############################################################################## ############################################################################## * installing to library ‘/Library/Frameworks/R.framework/Versions/3.6/Resources/library’ * installing *source* package ‘chipenrich’ ... ** using staged installation ** R ** inst ** byte-compile and prepare package for lazy loading ** help *** installing help indices ** building package indices ** installing vignettes ** testing if installed package can be loaded from temporary location ** testing if installed package can be loaded from final location ** testing if installed package keeps a record of temporary installation path * DONE (chipenrich)
chipenrich.Rcheck/tests/testthat.Rout
R version 3.6.3 (2020-02-29) -- "Holding the Windsock" Copyright (C) 2020 The R Foundation for Statistical Computing Platform: x86_64-apple-darwin15.6.0 (64-bit) R is free software and comes with ABSOLUTELY NO WARRANTY. You are welcome to redistribute it under certain conditions. Type 'license()' or 'licence()' for distribution details. R is a collaborative project with many contributors. Type 'contributors()' for more information and 'citation()' on how to cite R or R packages in publications. Type 'demo()' for some demos, 'help()' for on-line help, or 'help.start()' for an HTML browser interface to help. Type 'q()' to quit R. > library(testthat) > library(chipenrich) > > test_check("chipenrich") ══ testthat results ═══════════════════════════════════════════════════════════ [ OK: 194 | SKIPPED: 0 | WARNINGS: 0 | FAILED: 0 ] > > proc.time() user system elapsed 191.041 13.401 206.945
chipenrich.Rcheck/chipenrich-Ex.timings
name | user | system | elapsed | |
assign_peak_segments | 0.303 | 0.006 | 0.315 | |
assign_peaks | 0.835 | 0.051 | 0.892 | |
broadenrich | 8.261 | 0.699 | 9.035 | |
calc_peak_gene_overlap | 0.380 | 0.022 | 0.404 | |
chipenrich | 1.793 | 0.117 | 1.927 | |
load_peaks | 0.086 | 0.000 | 0.089 | |
num_peaks_per_gene | 0.573 | 0.027 | 0.606 | |
peaks2genes | 0.613 | 0.022 | 0.637 | |
plot_chipenrich_spline | 1.708 | 0.178 | 1.901 | |
plot_dist_to_tss | 0.399 | 0.013 | 0.417 | |
plot_gene_coverage | 1.679 | 0.072 | 1.761 | |
plot_polyenrich_spline | 2.318 | 0.361 | 2.705 | |
polyenrich | 8.905 | 0.573 | 9.554 | |
proxReg | 0.515 | 0.024 | 0.542 | |
read_bed | 0.332 | 0.002 | 0.345 | |
supported_genesets | 0.010 | 0.001 | 0.011 | |
supported_genomes | 0.003 | 0.001 | 0.003 | |
supported_locusdefs | 0.012 | 0.002 | 0.015 | |
supported_methods | 0.002 | 0.001 | 0.002 | |
supported_read_lengths | 0.009 | 0.001 | 0.010 | |