Back to Multiple platform build/check report for BioC 3.10 |
|
This page was generated on 2020-04-15 12:19:45 -0400 (Wed, 15 Apr 2020).
Package 310/1823 | Hostname | OS / Arch | INSTALL | BUILD | CHECK | BUILD BIN | ||||||
clusterProfiler 3.14.3 Guangchuang Yu
| malbec1 | Linux (Ubuntu 18.04.4 LTS) / x86_64 | OK | OK | OK | |||||||
tokay1 | Windows Server 2012 R2 Standard / x64 | OK | OK | OK | [ OK ] | |||||||
merida1 | OS X 10.11.6 El Capitan / x86_64 | OK | OK | OK | OK |
Package: clusterProfiler |
Version: 3.14.3 |
Command: rm -rf clusterProfiler.buildbin-libdir && mkdir clusterProfiler.buildbin-libdir && C:\Users\biocbuild\bbs-3.10-bioc\R\bin\R.exe CMD INSTALL --merge-multiarch --build --library=clusterProfiler.buildbin-libdir clusterProfiler_3.14.3.tar.gz |
StartedAt: 2020-04-15 08:26:20 -0400 (Wed, 15 Apr 2020) |
EndedAt: 2020-04-15 08:27:15 -0400 (Wed, 15 Apr 2020) |
EllapsedTime: 55.5 seconds |
RetCode: 0 |
Status: OK |
PackageFile: clusterProfiler_3.14.3.zip |
PackageFileSize: 615.9 KiB |
############################################################################## ############################################################################## ### ### Running command: ### ### rm -rf clusterProfiler.buildbin-libdir && mkdir clusterProfiler.buildbin-libdir && C:\Users\biocbuild\bbs-3.10-bioc\R\bin\R.exe CMD INSTALL --merge-multiarch --build --library=clusterProfiler.buildbin-libdir clusterProfiler_3.14.3.tar.gz ### ############################################################################## ############################################################################## install for i386 * installing *source* package 'clusterProfiler' ... ** using staged installation ** R ** data ** inst ** byte-compile and prepare package for lazy loading ** help *** installing help indices converting help for package 'clusterProfiler' finding HTML links ... done DataSet html GSEA html Gff2GeneTable html KEGG_path2extid html bitr html bitr_kegg html browseKEGG html buildGOmap html clusterProfiler-package html compareCluster html compareClusterResult-class html finding level-2 HTML links ... done dotplot-methods html download_KEGG html dropGO html enrichDAVID html enrichGO html enrichKEGG html enrichMKEGG html enricher html fortify html getGOLevel html go2ont html go2term html gofilter html groupGO html groupGOResult-class html gseGO html gseKEGG html gseMKEGG html idType html ko2name html merge_result html plotGOgraph html plotting.clusterProfile html read.gmt html reexports html search_kegg_organism html simplify-methods html uniprot_get html viewKEGG html ** building package indices ** installing vignettes ** testing if installed package can be loaded from temporary location ** testing if installed package can be loaded from final location ** testing if installed package keeps a record of temporary installation path install for x64 * installing *source* package 'clusterProfiler' ... ** testing if installed package can be loaded * MD5 sums packaged installation of 'clusterProfiler' as clusterProfiler_3.14.3.zip * DONE (clusterProfiler)