Back to Multiple platform build/check report for BioC 3.10 |
|
This page was generated on 2020-04-15 12:07:53 -0400 (Wed, 15 Apr 2020).
Package 331/1823 | Hostname | OS / Arch | INSTALL | BUILD | CHECK | BUILD BIN | ||||||
cobindR 1.24.0 Manuela Benary
| malbec1 | Linux (Ubuntu 18.04.4 LTS) / x86_64 | ERROR | [ ERROR ] | skipped | |||||||
tokay1 | Windows Server 2012 R2 Standard / x64 | ERROR | ERROR | skipped | skipped | |||||||
merida1 | OS X 10.11.6 El Capitan / x86_64 | ERROR | ERROR | skipped | skipped |
Package: cobindR |
Version: 1.24.0 |
Command: /home/biocbuild/bbs-3.10-bioc/R/bin/R CMD build --keep-empty-dirs --no-resave-data cobindR |
StartedAt: 2020-04-14 20:35:24 -0400 (Tue, 14 Apr 2020) |
EndedAt: 2020-04-14 20:35:27 -0400 (Tue, 14 Apr 2020) |
EllapsedTime: 2.5 seconds |
RetCode: 1 |
Status: ERROR |
PackageFile: None |
PackageFileSize: NA |
############################################################################## ############################################################################## ### ### Running command: ### ### /home/biocbuild/bbs-3.10-bioc/R/bin/R CMD build --keep-empty-dirs --no-resave-data cobindR ### ############################################################################## ############################################################################## * checking for file ‘cobindR/DESCRIPTION’ ... OK * preparing ‘cobindR’: * checking DESCRIPTION meta-information ... OK * installing the package to build vignettes ----------------------------------- ERROR: dependency ‘rtfbs’ is not available for package ‘cobindR’ * removing ‘/tmp/RtmpWpjPi8/Rinst31ee71433d6d/cobindR’ ----------------------------------- ERROR: package installation failed