Back to Multiple platform build/check report for BioC 3.10 |
|
This page was generated on 2020-04-15 12:28:43 -0400 (Wed, 15 Apr 2020).
Package 354/1823 | Hostname | OS / Arch | INSTALL | BUILD | CHECK | BUILD BIN | ||||||
consensusOV 1.8.1 Benjamin Haibe-Kains
| malbec1 | Linux (Ubuntu 18.04.4 LTS) / x86_64 | OK | OK | OK | |||||||
tokay1 | Windows Server 2012 R2 Standard / x64 | [ OK ] | OK | OK | OK | |||||||
merida1 | OS X 10.11.6 El Capitan / x86_64 | OK | OK | OK | OK |
Package: consensusOV |
Version: 1.8.1 |
Command: C:\cygwin\bin\curl.exe -O https://malbec1.bioconductor.org/BBS/3.10/bioc/src/contrib/consensusOV_1.8.1.tar.gz && rm -rf consensusOV.buildbin-libdir && mkdir consensusOV.buildbin-libdir && C:\Users\biocbuild\bbs-3.10-bioc\R\bin\R.exe CMD INSTALL --merge-multiarch --build --library=consensusOV.buildbin-libdir consensusOV_1.8.1.tar.gz && C:\Users\biocbuild\bbs-3.10-bioc\R\bin\R.exe CMD INSTALL consensusOV_1.8.1.zip && rm consensusOV_1.8.1.tar.gz consensusOV_1.8.1.zip |
StartedAt: 2020-04-14 19:49:32 -0400 (Tue, 14 Apr 2020) |
EndedAt: 2020-04-14 19:50:32 -0400 (Tue, 14 Apr 2020) |
EllapsedTime: 59.9 seconds |
RetCode: 0 |
Status: OK |
############################################################################## ############################################################################## ### ### Running command: ### ### C:\cygwin\bin\curl.exe -O https://malbec1.bioconductor.org/BBS/3.10/bioc/src/contrib/consensusOV_1.8.1.tar.gz && rm -rf consensusOV.buildbin-libdir && mkdir consensusOV.buildbin-libdir && C:\Users\biocbuild\bbs-3.10-bioc\R\bin\R.exe CMD INSTALL --merge-multiarch --build --library=consensusOV.buildbin-libdir consensusOV_1.8.1.tar.gz && C:\Users\biocbuild\bbs-3.10-bioc\R\bin\R.exe CMD INSTALL consensusOV_1.8.1.zip && rm consensusOV_1.8.1.tar.gz consensusOV_1.8.1.zip ### ############################################################################## ############################################################################## % Total % Received % Xferd Average Speed Time Time Time Current Dload Upload Total Spent Left Speed 0 0 0 0 0 0 0 0 --:--:-- --:--:-- --:--:-- 0 100 2989k 100 2989k 0 0 31.5M 0 --:--:-- --:--:-- --:--:-- 33.1M install for i386 * installing *source* package 'consensusOV' ... ** using staged installation ** R ** data *** moving datasets to lazyload DB ** inst ** byte-compile and prepare package for lazy loading ** help *** installing help indices converting help for package 'consensusOV' finding HTML links ... done GSE14764.eset html dataset.merging html get.bentink.subtypes html get.consensus.subtypes html get.hao.subtypes html get.helland.subtypes html get.konecny.subtypes html get.subtypes html get.verhaak.subtypes html ** building package indices ** installing vignettes ** testing if installed package can be loaded from temporary location ** testing if installed package can be loaded from final location ** testing if installed package keeps a record of temporary installation path install for x64 * installing *source* package 'consensusOV' ... ** testing if installed package can be loaded * MD5 sums packaged installation of 'consensusOV' as consensusOV_1.8.1.zip * DONE (consensusOV) * installing to library 'C:/Users/biocbuild/bbs-3.10-bioc/R/library' package 'consensusOV' successfully unpacked and MD5 sums checked