Back to Multiple platform build/check report for BioC 3.10 |
|
This page was generated on 2020-04-15 12:41:49 -0400 (Wed, 15 Apr 2020).
Package 357/1823 | Hostname | OS / Arch | INSTALL | BUILD | CHECK | BUILD BIN | ||||||
conumee 1.20.0 Volker Hovestadt
| malbec1 | Linux (Ubuntu 18.04.4 LTS) / x86_64 | OK | OK | OK | |||||||
tokay1 | Windows Server 2012 R2 Standard / x64 | ...NOT SUPPORTED... | ||||||||||
merida1 | OS X 10.11.6 El Capitan / x86_64 | OK | OK | [ OK ] | OK |
Package: conumee |
Version: 1.20.0 |
Command: /Library/Frameworks/R.framework/Versions/Current/Resources/bin/R CMD check --install=check:conumee.install-out.txt --library=/Library/Frameworks/R.framework/Versions/Current/Resources/library --no-vignettes --timings conumee_1.20.0.tar.gz |
StartedAt: 2020-04-15 01:26:07 -0400 (Wed, 15 Apr 2020) |
EndedAt: 2020-04-15 02:03:26 -0400 (Wed, 15 Apr 2020) |
EllapsedTime: 2238.6 seconds |
RetCode: 0 |
Status: OK |
CheckDir: conumee.Rcheck |
Warnings: 0 |
############################################################################## ############################################################################## ### ### Running command: ### ### /Library/Frameworks/R.framework/Versions/Current/Resources/bin/R CMD check --install=check:conumee.install-out.txt --library=/Library/Frameworks/R.framework/Versions/Current/Resources/library --no-vignettes --timings conumee_1.20.0.tar.gz ### ############################################################################## ############################################################################## * using log directory ‘/Users/biocbuild/bbs-3.10-bioc/meat/conumee.Rcheck’ * using R version 3.6.3 (2020-02-29) * using platform: x86_64-apple-darwin15.6.0 (64-bit) * using session charset: UTF-8 * using option ‘--no-vignettes’ * checking for file ‘conumee/DESCRIPTION’ ... OK * this is package ‘conumee’ version ‘1.20.0’ * checking package namespace information ... OK * checking package dependencies ... OK * checking if this is a source package ... OK * checking if there is a namespace ... OK * checking for hidden files and directories ... NOTE Found the following hidden files and directories: .BBSoptions These were most likely included in error. See section ‘Package structure’ in the ‘Writing R Extensions’ manual. * checking for portable file names ... OK * checking for sufficient/correct file permissions ... OK * checking whether package ‘conumee’ can be installed ... OK * checking installed package size ... OK * checking package directory ... OK * checking ‘build’ directory ... OK * checking DESCRIPTION meta-information ... OK * checking top-level files ... OK * checking for left-over files ... OK * checking index information ... OK * checking package subdirectories ... OK * checking R files for non-ASCII characters ... OK * checking R files for syntax errors ... OK * checking whether the package can be loaded ... OK * checking whether the package can be loaded with stated dependencies ... OK * checking whether the package can be unloaded cleanly ... OK * checking whether the namespace can be loaded with stated dependencies ... OK * checking whether the namespace can be unloaded cleanly ... OK * checking dependencies in R code ... OK * checking S3 generic/method consistency ... OK * checking replacement functions ... OK * checking foreign function calls ... OK * checking R code for possible problems ... NOTE CNV.load,GenomicRatioSet: no visible global function definition for ‘assays’ CNV.load,matrix: no visible binding for global variable ‘anno’ Undefined global functions or variables: anno assays * checking Rd files ... OK * checking Rd metadata ... OK * checking Rd cross-references ... OK * checking for missing documentation entries ... OK * checking for code/documentation mismatches ... OK * checking Rd \usage sections ... OK * checking Rd contents ... OK * checking for unstated dependencies in examples ... OK * checking contents of ‘data’ directory ... OK * checking data for non-ASCII characters ... OK * checking data for ASCII and uncompressed saves ... OK * checking R/sysdata.rda ... OK * checking files in ‘vignettes’ ... OK * checking examples ... OK Examples with CPU or elapsed time > 5s user system elapsed CNV.detailplot_wrap 113.562 5.074 127.343 CNV.genomeplot 104.753 5.284 111.273 CNV.detailplot 102.311 4.620 108.076 CNV.write 100.252 6.365 107.423 CNV.segment 95.955 3.491 100.496 CNV.analysis-class 90.276 5.047 99.398 CNV.detail 61.036 4.431 66.107 CNV.fit 58.828 4.180 63.695 CNV.bin 59.124 3.481 63.139 CNV.create_anno 47.627 3.306 51.425 CNV.anno-class 47.550 2.845 50.889 read.450k.url 7.939 0.750 15.436 * checking for unstated dependencies in vignettes ... OK * checking package vignettes in ‘inst/doc’ ... OK * checking running R code from vignettes ... SKIPPED * checking re-building of vignette outputs ... SKIPPED * checking PDF version of manual ... OK * DONE Status: 2 NOTEs See ‘/Users/biocbuild/bbs-3.10-bioc/meat/conumee.Rcheck/00check.log’ for details.
conumee.Rcheck/00install.out
############################################################################## ############################################################################## ### ### Running command: ### ### /Library/Frameworks/R.framework/Versions/Current/Resources/bin/R CMD INSTALL conumee ### ############################################################################## ############################################################################## * installing to library ‘/Library/Frameworks/R.framework/Versions/3.6/Resources/library’ * installing *source* package ‘conumee’ ... ** using staged installation ** R ** data ** inst ** byte-compile and prepare package for lazy loading ** help *** installing help indices ** building package indices ** installing vignettes ** testing if installed package can be loaded from temporary location ** testing if installed package can be loaded from final location ** testing if installed package keeps a record of temporary installation path * DONE (conumee)
conumee.Rcheck/conumee-Ex.timings
name | user | system | elapsed | |
CNV.analysis-class | 90.276 | 5.047 | 99.398 | |
CNV.anno-class | 47.550 | 2.845 | 50.889 | |
CNV.bin | 59.124 | 3.481 | 63.139 | |
CNV.create_anno | 47.627 | 3.306 | 51.425 | |
CNV.data-class | 3.527 | 0.536 | 4.094 | |
CNV.detail | 61.036 | 4.431 | 66.107 | |
CNV.detailplot | 102.311 | 4.620 | 108.076 | |
CNV.detailplot_wrap | 113.562 | 5.074 | 127.343 | |
CNV.fit | 58.828 | 4.180 | 63.695 | |
CNV.genomeplot | 104.753 | 5.284 | 111.273 | |
CNV.load | 3.480 | 0.622 | 4.137 | |
CNV.segment | 95.955 | 3.491 | 100.496 | |
CNV.write | 100.252 | 6.365 | 107.423 | |
read.450k.url | 7.939 | 0.750 | 15.436 | |