Back to Multiple platform build/check report for BioC 3.10 |
|
This page was generated on 2020-04-15 12:43:47 -0400 (Wed, 15 Apr 2020).
Package 374/1823 | Hostname | OS / Arch | INSTALL | BUILD | CHECK | BUILD BIN | ||||||
covEB 1.12.0 C. Pacini
| malbec1 | Linux (Ubuntu 18.04.4 LTS) / x86_64 | OK | OK | OK | |||||||
tokay1 | Windows Server 2012 R2 Standard / x64 | OK | OK | OK | OK | |||||||
merida1 | OS X 10.11.6 El Capitan / x86_64 | OK | [ OK ] | OK | OK |
Package: covEB |
Version: 1.12.0 |
Command: /Library/Frameworks/R.framework/Versions/Current/Resources/bin/R CMD build --keep-empty-dirs --no-resave-data covEB |
StartedAt: 2020-04-14 22:07:41 -0400 (Tue, 14 Apr 2020) |
EndedAt: 2020-04-14 22:08:12 -0400 (Tue, 14 Apr 2020) |
EllapsedTime: 30.5 seconds |
RetCode: 0 |
Status: OK |
PackageFile: covEB_1.12.0.tar.gz |
PackageFileSize: 76.81 KiB |
############################################################################## ############################################################################## ### ### Running command: ### ### /Library/Frameworks/R.framework/Versions/Current/Resources/bin/R CMD build --keep-empty-dirs --no-resave-data covEB ### ############################################################################## ############################################################################## * checking for file ‘covEB/DESCRIPTION’ ... OK * preparing ‘covEB’: * checking DESCRIPTION meta-information ... OK * installing the package to process help pages * saving partial Rd database * creating vignettes ... OK * checking for LF line-endings in source and make files and shell scripts * checking for empty or unneeded directories * building ‘covEB_1.12.0.tar.gz’