Back to Multiple platform build/check report for BioC 3.10 |
|
This page was generated on 2020-04-15 12:38:51 -0400 (Wed, 15 Apr 2020).
Package 394/1823 | Hostname | OS / Arch | INSTALL | BUILD | CHECK | BUILD BIN | ||||||
customProDB 1.26.1 Xiaojing Wang
| malbec1 | Linux (Ubuntu 18.04.4 LTS) / x86_64 | OK | OK | OK | |||||||
tokay1 | Windows Server 2012 R2 Standard / x64 | OK | OK | OK | OK | |||||||
merida1 | OS X 10.11.6 El Capitan / x86_64 | OK | OK | [ OK ] | OK |
Package: customProDB |
Version: 1.26.1 |
Command: /Library/Frameworks/R.framework/Versions/Current/Resources/bin/R CMD check --install=check:customProDB.install-out.txt --library=/Library/Frameworks/R.framework/Versions/Current/Resources/library --no-vignettes --timings customProDB_1.26.1.tar.gz |
StartedAt: 2020-04-15 01:34:23 -0400 (Wed, 15 Apr 2020) |
EndedAt: 2020-04-15 01:40:22 -0400 (Wed, 15 Apr 2020) |
EllapsedTime: 358.2 seconds |
RetCode: 0 |
Status: OK |
CheckDir: customProDB.Rcheck |
Warnings: 0 |
############################################################################## ############################################################################## ### ### Running command: ### ### /Library/Frameworks/R.framework/Versions/Current/Resources/bin/R CMD check --install=check:customProDB.install-out.txt --library=/Library/Frameworks/R.framework/Versions/Current/Resources/library --no-vignettes --timings customProDB_1.26.1.tar.gz ### ############################################################################## ############################################################################## * using log directory ‘/Users/biocbuild/bbs-3.10-bioc/meat/customProDB.Rcheck’ * using R version 3.6.3 (2020-02-29) * using platform: x86_64-apple-darwin15.6.0 (64-bit) * using session charset: UTF-8 * using option ‘--no-vignettes’ * checking for file ‘customProDB/DESCRIPTION’ ... OK * checking extension type ... Package * this is package ‘customProDB’ version ‘1.26.1’ * checking package namespace information ... OK * checking package dependencies ... OK * checking if this is a source package ... OK * checking if there is a namespace ... OK * checking for hidden files and directories ... OK * checking for portable file names ... OK * checking for sufficient/correct file permissions ... OK * checking whether package ‘customProDB’ can be installed ... OK * checking installed package size ... OK * checking package directory ... OK * checking ‘build’ directory ... OK * checking DESCRIPTION meta-information ... OK * checking top-level files ... OK * checking for left-over files ... OK * checking index information ... OK * checking package subdirectories ... OK * checking R files for non-ASCII characters ... OK * checking R files for syntax errors ... OK * checking whether the package can be loaded ... OK * checking whether the package can be loaded with stated dependencies ... OK * checking whether the package can be unloaded cleanly ... OK * checking whether the namespace can be loaded with stated dependencies ... OK * checking whether the namespace can be unloaded cleanly ... OK * checking dependencies in R code ... NOTE Unexported objects imported by ':::' calls: ‘biomaRt:::martBM’ ‘biomaRt:::martDataset’ ‘biomaRt:::martHost’ See the note in ?`:::` about the use of this operator. * checking S3 generic/method consistency ... OK * checking replacement functions ... OK * checking foreign function calls ... OK * checking R code for possible problems ... NOTE Bed2Range: no visible binding for global variable ‘V5’ OutputNovelJun: no visible binding for global variable ‘jun_type’ OutputVarproseq: no visible binding for global variable ‘genename’ OutputVarproseq: no visible binding for global variable ‘txname’ OutputVarproseq: no visible binding for global variable ‘proname’ OutputVarproseq: no visible binding for global variable ‘aaref’ OutputVarproseq: no visible binding for global variable ‘aapos’ OutputVarproseq: no visible binding for global variable ‘aavar’ OutputVarproseq: no visible binding for global variable ‘rsid’ OutputVarproseq_single: no visible binding for global variable ‘genename’ OutputVarproseq_single: no visible binding for global variable ‘txname’ OutputVarproseq_single: no visible binding for global variable ‘proname’ OutputVarproseq_single: no visible binding for global variable ‘aaref’ OutputVarproseq_single: no visible binding for global variable ‘aapos’ OutputVarproseq_single: no visible binding for global variable ‘aavar’ OutputVarproseq_single: no visible binding for global variable ‘rsid’ Outputaberrant: no visible binding for global variable ‘pro_name’ Positionincoding: no visible binding for global variable ‘cds_start’ Positionincoding: no visible binding for global variable ‘cds_end’ PrepareAnnotationEnsembl: no visible binding for global variable ‘ensembl_gene_id’ PrepareAnnotationEnsembl: no visible binding for global variable ‘pro_name’ PrepareAnnotationEnsembl: no visible binding for global variable ‘chrom’ PrepareAnnotationEnsembl: no visible binding for global variable ‘name’ PrepareAnnotationEnsembl: no visible binding for global variable ‘alleleCount’ PrepareAnnotationEnsembl: no visible binding for global variable ‘alleles’ PrepareAnnotationRefseq: no visible binding for global variable ‘name’ PrepareAnnotationRefseq: no visible binding for global variable ‘mrnaAcc’ PrepareAnnotationRefseq: no visible binding for global variable ‘protAcc’ PrepareAnnotationRefseq: no visible binding for global variable ‘transcript’ PrepareAnnotationRefseq: no visible binding for global variable ‘chrom’ PrepareAnnotationRefseq: no visible binding for global variable ‘alleleCount’ PrepareAnnotationRefseq: no visible binding for global variable ‘alleles’ PrepareAnnotationRefseq: no visible binding for global variable ‘COSMIC’ Varlocation: no visible binding for global variable ‘pro_name’ Undefined global functions or variables: COSMIC V5 aapos aaref aavar alleleCount alleles cds_end cds_start chrom ensembl_gene_id genename jun_type mrnaAcc name pro_name proname protAcc rsid transcript txname * checking Rd files ... OK * checking Rd metadata ... OK * checking Rd cross-references ... OK * checking for missing documentation entries ... OK * checking for code/documentation mismatches ... OK * checking Rd \usage sections ... OK * checking Rd contents ... OK * checking for unstated dependencies in examples ... OK * checking sizes of PDF files under ‘inst/doc’ ... OK * checking files in ‘vignettes’ ... OK * checking examples ... OK Examples with CPU or elapsed time > 5s user system elapsed PrepareAnnotationEnsembl 5.912 0.153 26.59 * checking for unstated dependencies in vignettes ... OK * checking package vignettes in ‘inst/doc’ ... OK * checking running R code from vignettes ... SKIPPED * checking re-building of vignette outputs ... SKIPPED * checking PDF version of manual ... OK * DONE Status: 2 NOTEs See ‘/Users/biocbuild/bbs-3.10-bioc/meat/customProDB.Rcheck/00check.log’ for details.
customProDB.Rcheck/00install.out
############################################################################## ############################################################################## ### ### Running command: ### ### /Library/Frameworks/R.framework/Versions/Current/Resources/bin/R CMD INSTALL customProDB ### ############################################################################## ############################################################################## * installing to library ‘/Library/Frameworks/R.framework/Versions/3.6/Resources/library’ * installing *source* package ‘customProDB’ ... ** using staged installation ** R ** inst ** byte-compile and prepare package for lazy loading ** help *** installing help indices ** building package indices ** installing vignettes ** testing if installed package can be loaded from temporary location ** testing if installed package can be loaded from final location ** testing if installed package keeps a record of temporary installation path * DONE (customProDB)
customProDB.Rcheck/customProDB-Ex.timings
name | user | system | elapsed | |
Bed2Range | 0.134 | 0.004 | 0.138 | |
InputVcf | 1.019 | 0.154 | 1.184 | |
JunctionType | 1.193 | 0.021 | 1.223 | |
Multiple_VCF | 1.127 | 0.039 | 1.187 | |
OutputNovelJun | 2.297 | 0.040 | 2.424 | |
OutputVarprocodingseq | 1.616 | 0.031 | 1.671 | |
OutputVarproseq | 0.615 | 0.012 | 0.631 | |
OutputVarproseq_single | 0.831 | 0.016 | 0.851 | |
Outputaberrant | 0.388 | 0.010 | 0.414 | |
Outputproseq | 0.928 | 0.010 | 1.003 | |
OutputsharedPro | 2.357 | 0.022 | 2.402 | |
Positionincoding | 0.456 | 0.017 | 0.476 | |
PrepareAnnotationEnsembl | 5.912 | 0.153 | 26.590 | |
PrepareAnnotationRefseq | 0.000 | 0.000 | 0.001 | |
SharedJunc | 0.664 | 0.024 | 0.689 | |
Varlocation | 0.001 | 0.000 | 0.000 | |
aaVariation | 0.831 | 0.021 | 0.882 | |
calculateRPKM | 0.847 | 0.008 | 0.858 | |
easyRun | 1.545 | 0.029 | 1.595 | |
easyRun_mul | 4.031 | 0.053 | 4.130 | |