Back to Multiple platform build/check report for BioC 3.10 |
|
This page was generated on 2020-04-15 12:32:22 -0400 (Wed, 15 Apr 2020).
Package 409/1823 | Hostname | OS / Arch | INSTALL | BUILD | CHECK | BUILD BIN | ||||||
dcanr 1.2.0 Dharmesh D. Bhuva
| malbec1 | Linux (Ubuntu 18.04.4 LTS) / x86_64 | OK | OK | OK | ![]() | ||||||
tokay1 | Windows Server 2012 R2 Standard / x64 | OK | [ OK ] | OK | OK | ![]() | ||||||
merida1 | OS X 10.11.6 El Capitan / x86_64 | OK | OK | OK | OK | ![]() |
Package: dcanr |
Version: 1.2.0 |
Command: chmod a+r dcanr -R && C:\Users\biocbuild\bbs-3.10-bioc\R\bin\R.exe CMD build --keep-empty-dirs --no-resave-data dcanr |
StartedAt: 2020-04-15 00:40:03 -0400 (Wed, 15 Apr 2020) |
EndedAt: 2020-04-15 00:41:12 -0400 (Wed, 15 Apr 2020) |
EllapsedTime: 68.9 seconds |
RetCode: 0 |
Status: OK |
PackageFile: dcanr_1.2.0.tar.gz |
PackageFileSize: 1.189 MiB |
############################################################################## ############################################################################## ### ### Running command: ### ### chmod a+r dcanr -R && C:\Users\biocbuild\bbs-3.10-bioc\R\bin\R.exe CMD build --keep-empty-dirs --no-resave-data dcanr ### ############################################################################## ############################################################################## * checking for file 'dcanr/DESCRIPTION' ... OK * preparing 'dcanr': * checking DESCRIPTION meta-information ...It is recommended to use 'given' instead of 'middle'. OK * installing the package to build vignettes * creating vignettes ... OK It is recommended to use 'given' instead of 'middle'. * checking for LF line-endings in source and make files and shell scripts * checking for empty or unneeded directories * looking to see if a 'data/datalist' file should be added * building 'dcanr_1.2.0.tar.gz'